BEGIN:VCALENDAR
VERSION:2.0
PRODID:-//SVDV Chamber of Commerce - ECPv6.15.18//NONSGML v1.0//EN
CALSCALE:GREGORIAN
METHOD:PUBLISH
X-WR-CALNAME:SVDV Chamber of Commerce
X-ORIGINAL-URL:https://www.visitvermont.com
X-WR-CALDESC:Events for SVDV Chamber of Commerce
REFRESH-INTERVAL;VALUE=DURATION:PT1H
X-Robots-Tag:noindex
X-PUBLISHED-TTL:PT1H
BEGIN:VTIMEZONE
TZID:America/New_York
BEGIN:DAYLIGHT
TZOFFSETFROM:-0500
TZOFFSETTO:-0400
TZNAME:EDT
DTSTART:20220313T070000
END:DAYLIGHT
BEGIN:STANDARD
TZOFFSETFROM:-0400
TZOFFSETTO:-0500
TZNAME:EST
DTSTART:20221106T060000
END:STANDARD
BEGIN:DAYLIGHT
TZOFFSETFROM:-0500
TZOFFSETTO:-0400
TZNAME:EDT
DTSTART:20230312T070000
END:DAYLIGHT
BEGIN:STANDARD
TZOFFSETFROM:-0400
TZOFFSETTO:-0500
TZNAME:EST
DTSTART:20231105T060000
END:STANDARD
BEGIN:DAYLIGHT
TZOFFSETFROM:-0500
TZOFFSETTO:-0400
TZNAME:EDT
DTSTART:20240310T070000
END:DAYLIGHT
BEGIN:STANDARD
TZOFFSETFROM:-0400
TZOFFSETTO:-0500
TZNAME:EST
DTSTART:20241103T060000
END:STANDARD
END:VTIMEZONE
BEGIN:VEVENT
DTSTART;VALUE=DATE:20230506
DTEND;VALUE=DATE:20230507
DTSTAMP:20260420T093944
CREATED:20230501T232038Z
LAST-MODIFIED:20230501T232038Z
UID:10000535-1683331200-1683417599@www.visitvermont.com
SUMMARY:Green Up Vermont
DESCRIPTION:Green Up in Wilmington \n• Saturday\, May 6\, 9:00-11:00 a.m. (Rain or Shine).  Come to Buzzy Towne Park on South Main St. for bag distribution and route assignments. \n• Brightly colored clothes\, long pants\, long sleeves\, gloves\, sturdy shoes\, and insect repellent are recommended. \n• All ages are welcome – in groups or individually. Children must be with an adult. \n• Collect litter on the roadsides along your assigned route. Please do not go on private property. Tie full bags closed. Deliver to the town truck in old high school (OSEC) lower parking lot OR leave along roadsides with any large items next to full bags. \n• For questions or route sign-up prior to May 6\, or to suggest an area that needs clean up\, email Wilmington Green Up coordinators\, Kathy Larsen (kdlarsen1948@gmail.com) or Anthony Martino (apmartino329@gmail.com). \nGreen Up in Dover \nMeet at Dover School beginning at 9am for bags and route assignments. Instead of lunch this year\, we’ll have donuts & refreshments when you pick up bags. Leave tied bags on roadsides for pickup by Town Road Crew on Monday morning. Contact Lori O’Hern for more information or with questions at lohern@windhamcentral.org\n\nFor more information about Green Up Vermont stations and events visit greenupvermont.org
URL:https://www.visitvermont.com/event/green-up-vermont/
LOCATION:VT
ATTACH;FMTTYPE=image/jpeg:https://www.visitvermont.com/wp-content/uploads/2023/05/340998563_1173718316622292_7248529429092778578_n.jpg
END:VEVENT
BEGIN:VEVENT
DTSTART;TZID=America/New_York:20230506T090000
DTEND;TZID=America/New_York:20230506T110000
DTSTAMP:20260420T093944
CREATED:20230419T160225Z
LAST-MODIFIED:20230419T160225Z
UID:10000524-1683363600-1683370800@www.visitvermont.com
SUMMARY:Monthly Hiking Club
DESCRIPTION:
URL:https://www.visitvermont.com/event/monthly-hiking-club/2023-05-06/
LOCATION:VT
ATTACH;FMTTYPE=image/jpeg:https://www.visitvermont.com/wp-content/uploads/2023/04/342048391_2874471159355178_7204275681649178659_n.jpg
END:VEVENT
BEGIN:VEVENT
DTSTART;TZID=America/New_York:20230506T163000
DTEND;TZID=America/New_York:20230506T193000
DTSTAMP:20260420T093944
CREATED:20230418T152100Z
LAST-MODIFIED:20230418T152436Z
UID:10000521-1683390600-1683401400@www.visitvermont.com
SUMMARY:Kentucky Derby Party to Benefit the Southern Vermont Therapeutic Riding Center
DESCRIPTION:Join us for our long awaited Kentucky Derby Party!\nIn 2020\, we wanted to celebrate 10 years of SVTRC\, but the COVID-19 pandemic forced us to postpone this event.\nWe want to celebrate this milestone with everyone who has ever been a part of SVTRC! \nOur celebration date is:\n​Saturday\, May 6th\, 2023\nLocation: The Hermitage Club\nKentucky Derby themed\nDerby Attire encouraged! \nTICKETS
URL:https://www.visitvermont.com/event/kentucky-derby-party-to-benefit-the-southern-vermont-therapeutic-riding-center/
LOCATION:VT
ATTACH;FMTTYPE=image/jpeg:https://www.visitvermont.com/wp-content/uploads/2023/04/339908868_629205182361048_3538267095775443943_n.jpg
END:VEVENT
END:VCALENDAR