BEGIN:VCALENDAR
VERSION:2.0
PRODID:-//SVDV Chamber of Commerce - ECPv6.15.18//NONSGML v1.0//EN
CALSCALE:GREGORIAN
METHOD:PUBLISH
X-WR-CALNAME:SVDV Chamber of Commerce
X-ORIGINAL-URL:https://www.visitvermont.com
X-WR-CALDESC:Events for SVDV Chamber of Commerce
REFRESH-INTERVAL;VALUE=DURATION:PT1H
X-Robots-Tag:noindex
X-PUBLISHED-TTL:PT1H
BEGIN:VTIMEZONE
TZID:America/New_York
BEGIN:DAYLIGHT
TZOFFSETFROM:-0500
TZOFFSETTO:-0400
TZNAME:EDT
DTSTART:20220313T070000
END:DAYLIGHT
BEGIN:STANDARD
TZOFFSETFROM:-0400
TZOFFSETTO:-0500
TZNAME:EST
DTSTART:20221106T060000
END:STANDARD
BEGIN:DAYLIGHT
TZOFFSETFROM:-0500
TZOFFSETTO:-0400
TZNAME:EDT
DTSTART:20230312T070000
END:DAYLIGHT
BEGIN:STANDARD
TZOFFSETFROM:-0400
TZOFFSETTO:-0500
TZNAME:EST
DTSTART:20231105T060000
END:STANDARD
BEGIN:DAYLIGHT
TZOFFSETFROM:-0500
TZOFFSETTO:-0400
TZNAME:EDT
DTSTART:20240310T070000
END:DAYLIGHT
BEGIN:STANDARD
TZOFFSETFROM:-0400
TZOFFSETTO:-0500
TZNAME:EST
DTSTART:20241103T060000
END:STANDARD
END:VTIMEZONE
BEGIN:VEVENT
DTSTART;TZID=America/New_York:20230525T090000
DTEND;TZID=America/New_York:20230529T170000
DTSTAMP:20260420T122952
CREATED:20230518T195755Z
LAST-MODIFIED:20230518T195755Z
UID:10000576-1685005200-1685379600@www.visitvermont.com
SUMMARY:Whitingham Holiday Pop-up Shop
DESCRIPTION:
URL:https://www.visitvermont.com/event/whitingham-holiday-pop-up-shop-2/
LOCATION:Whitingham Vermont Holiday Pop-Up Shop\, 6677 Route 100\, Whitingham\, VT\, United States
ATTACH;FMTTYPE=application/pdf:https://www.visitvermont.com/wp-content/uploads/2023/05/mem-holiday-pop-up-1.pdf
END:VEVENT
BEGIN:VEVENT
DTSTART;TZID=America/New_York:20230528T103000
DTEND;TZID=America/New_York:20230528T140000
DTSTAMP:20260420T122952
CREATED:20220420T135738Z
LAST-MODIFIED:20230528T123459Z
UID:10000367-1685269800-1685282400@www.visitvermont.com
SUMMARY:The Great Duck Race
DESCRIPTION:34th ANNUAL GREAT DUCK RACE \nMay 28\, 2023 is the 34th Annual GREAT DUCK RACE to benefit the Make a Wish Foundation in Wilmington\, VT! Join in the fun – all proceeds go to help grant wishes for children with life threatening illnesses.  Games\, Face Painting\, Music\, Bake Sales and a BB-Q by the Rotary.  Around 12:30\, 1500 Rubber Ducks are dumped in the Deerfield River and race for the finish line… stay and cheer on your duck.  Tickets available on the bridge in Wilmington center by the Crafts Inn and Dots Restaurant at 10:30 AM.  (802) 464-5618 for more information. The week before tickets can be purchased at the Boyd Family Farm both in Wilmington\, VT.
URL:https://www.visitvermont.com/event/the-great-duck-race-rotary-bbq/
LOCATION:Historic Downtown Wilmington\, Wilmington\, VT\, 05363
ATTACH;FMTTYPE=image/png:https://www.visitvermont.com/wp-content/uploads/2022/04/Annual-Great-Duck-Race.png
END:VEVENT
END:VCALENDAR