BEGIN:VCALENDAR
VERSION:2.0
PRODID:-//SVDV Chamber of Commerce - ECPv6.15.18//NONSGML v1.0//EN
CALSCALE:GREGORIAN
METHOD:PUBLISH
X-WR-CALNAME:SVDV Chamber of Commerce
X-ORIGINAL-URL:https://www.visitvermont.com
X-WR-CALDESC:Events for SVDV Chamber of Commerce
REFRESH-INTERVAL;VALUE=DURATION:PT1H
X-Robots-Tag:noindex
X-PUBLISHED-TTL:PT1H
BEGIN:VTIMEZONE
TZID:America/New_York
BEGIN:DAYLIGHT
TZOFFSETFROM:-0500
TZOFFSETTO:-0400
TZNAME:EDT
DTSTART:20220313T070000
END:DAYLIGHT
BEGIN:STANDARD
TZOFFSETFROM:-0400
TZOFFSETTO:-0500
TZNAME:EST
DTSTART:20221106T060000
END:STANDARD
BEGIN:DAYLIGHT
TZOFFSETFROM:-0500
TZOFFSETTO:-0400
TZNAME:EDT
DTSTART:20230312T070000
END:DAYLIGHT
BEGIN:STANDARD
TZOFFSETFROM:-0400
TZOFFSETTO:-0500
TZNAME:EST
DTSTART:20231105T060000
END:STANDARD
BEGIN:DAYLIGHT
TZOFFSETFROM:-0500
TZOFFSETTO:-0400
TZNAME:EDT
DTSTART:20240310T070000
END:DAYLIGHT
BEGIN:STANDARD
TZOFFSETFROM:-0400
TZOFFSETTO:-0500
TZNAME:EST
DTSTART:20241103T060000
END:STANDARD
END:VTIMEZONE
BEGIN:VEVENT
DTSTART;TZID=America/New_York:20230624T170000
DTEND;TZID=America/New_York:20230624T190000
DTSTAMP:20260424T074244
CREATED:20230621T163846Z
LAST-MODIFIED:20230906T143253Z
UID:10000608-1687626000-1687633200@www.visitvermont.com
SUMMARY:Live Music at Fairways - Mount Snow Golf Club
DESCRIPTION:Whether you’re finishing up 18 holes or you just want to sit and relax with a cocktail\, join us on the deck at Fairways to enjoy weekly live music. Soak up the gorgeous views of the surrounding mountains and course in a casual atmosphere with great daily food specials and plenty of drink options. \nMusic Line-Up \n\nJune 24 – Sky Alan\nJuly 1 – Tom Carroll\nJuly 8 – Allegra Larson\nJuly 15 – Seth Adams\nJuly 22 – Mike Mcmann\nJuly 29 – Jill Sachs\nAugust 5 – Breanna Elaine\nAugust 12 – Paul Fisher\nAugust 19 – Mike Mcmann\nAugust 26 – Tom Carroll\nSeptember 2 – Ian Campbell\nSep 9 – Jill Sachs\nSep 16 – Seth Adams\nSep 23 – Mike Mcmann\nSep 30 – Allegra Larson\nOct 7 – Ian Campbell\n\n 
URL:https://www.visitvermont.com/event/live-music-at-fairways-mount-snow-golf-club/2023-06-24/
LOCATION:Mount Snow Golf Course\, 95 Country Club Drive\, West Dover\, VT\, 05356\, United States
ATTACH;FMTTYPE=image/jpeg:https://www.visitvermont.com/wp-content/uploads/2023/06/Fairways.jpg
ORGANIZER;CN="Mount Snow":MAILTO:mountsnowinfo@vailresorts.com
END:VEVENT
BEGIN:VEVENT
DTSTART;TZID=America/New_York:20230624T190000
DTEND;TZID=America/New_York:20230624T220000
DTSTAMP:20260424T074244
CREATED:20230607T172533Z
LAST-MODIFIED:20230607T172533Z
UID:10000588-1687633200-1687644000@www.visitvermont.com
SUMMARY:Comedy Night at Snow Republic Brewing Company
DESCRIPTION:
URL:https://www.visitvermont.com/event/comedy-night-at-snow-republic-brewing-company/
LOCATION:VT
ATTACH;FMTTYPE=image/jpeg:https://www.visitvermont.com/wp-content/uploads/2023/06/350946758_3280785085401519_5852373125323383920_n.jpg
END:VEVENT
END:VCALENDAR