BEGIN:VCALENDAR
VERSION:2.0
PRODID:-//SVDV Chamber of Commerce - ECPv6.15.18//NONSGML v1.0//EN
CALSCALE:GREGORIAN
METHOD:PUBLISH
X-WR-CALNAME:SVDV Chamber of Commerce
X-ORIGINAL-URL:https://www.visitvermont.com
X-WR-CALDESC:Events for SVDV Chamber of Commerce
REFRESH-INTERVAL;VALUE=DURATION:PT1H
X-Robots-Tag:noindex
X-PUBLISHED-TTL:PT1H
BEGIN:VTIMEZONE
TZID:America/New_York
BEGIN:DAYLIGHT
TZOFFSETFROM:-0500
TZOFFSETTO:-0400
TZNAME:EDT
DTSTART:20220313T070000
END:DAYLIGHT
BEGIN:STANDARD
TZOFFSETFROM:-0400
TZOFFSETTO:-0500
TZNAME:EST
DTSTART:20221106T060000
END:STANDARD
BEGIN:DAYLIGHT
TZOFFSETFROM:-0500
TZOFFSETTO:-0400
TZNAME:EDT
DTSTART:20230312T070000
END:DAYLIGHT
BEGIN:STANDARD
TZOFFSETFROM:-0400
TZOFFSETTO:-0500
TZNAME:EST
DTSTART:20231105T060000
END:STANDARD
BEGIN:DAYLIGHT
TZOFFSETFROM:-0500
TZOFFSETTO:-0400
TZNAME:EDT
DTSTART:20240310T070000
END:DAYLIGHT
BEGIN:STANDARD
TZOFFSETFROM:-0400
TZOFFSETTO:-0500
TZNAME:EST
DTSTART:20241103T060000
END:STANDARD
END:VTIMEZONE
BEGIN:VEVENT
DTSTART;TZID=America/New_York:20230625T100000
DTEND;TZID=America/New_York:20230625T110000
DTSTAMP:20260420T135510
CREATED:20230518T135943Z
LAST-MODIFIED:20230605T182751Z
UID:10000564-1687687200-1687690800@www.visitvermont.com
SUMMARY:Goat Hangout at Big Picture Farm
DESCRIPTION:Big Picture Farm\, a small family-owned hillside goat dairy and farmstead confectionery and creamery located in Southern VT (Townshend). Come hang with our goats! Our favorite activity is going to spend time with the goats\, out in the fields. Join us on farm on one of a select days and get in as many goat cuddles as possible. \n$20 per person for age 13+\, $12 per person for 12 and under. Includes a taste of caramels. Product sold separately. \nTickets are not refundable if you are unable to use it\, but can be transferred to someone else\, just let us know. \nContact Info: shop@bigpicturefarm.com
URL:https://www.visitvermont.com/event/goat-hangout-at-big-picture-farm/2023-06-25/
LOCATION:VT
ATTACH;FMTTYPE=image/webp:https://www.visitvermont.com/wp-content/uploads/2023/05/maisieIMG_3377_1024x1024.jpg.webp
END:VEVENT
BEGIN:VEVENT
DTSTART;TZID=America/New_York:20230625T130000
DTEND;TZID=America/New_York:20230625T150000
DTSTAMP:20260420T135510
CREATED:20230621T164335Z
LAST-MODIFIED:20230621T164402Z
UID:10000624-1687698000-1687705200@www.visitvermont.com
SUMMARY:Live Music at The Bullwheel
DESCRIPTION:Take a scenic chairlift ride to Mount Snow’s summit and head to The Bullwheel to enjoy live music on the outdoor deck on Sunday afternoons throughout the summer.
URL:https://www.visitvermont.com/event/live-music-at-the-bullwheel/2023-06-25/
LOCATION:The Bullwheel\, 254 Summit Work Rd\, West Dover\, VT\, 05356\, United States
ATTACH;FMTTYPE=image/jpeg:https://www.visitvermont.com/wp-content/uploads/2023/06/Bullwheel.jpg
ORGANIZER;CN="Mount Snow":MAILTO:mountsnowinfo@vailresorts.com
END:VEVENT
END:VCALENDAR