BEGIN:VCALENDAR
VERSION:2.0
PRODID:-//SVDV Chamber of Commerce - ECPv6.15.18//NONSGML v1.0//EN
CALSCALE:GREGORIAN
METHOD:PUBLISH
X-WR-CALNAME:SVDV Chamber of Commerce
X-ORIGINAL-URL:https://www.visitvermont.com
X-WR-CALDESC:Events for SVDV Chamber of Commerce
REFRESH-INTERVAL;VALUE=DURATION:PT1H
X-Robots-Tag:noindex
X-PUBLISHED-TTL:PT1H
BEGIN:VTIMEZONE
TZID:America/New_York
BEGIN:DAYLIGHT
TZOFFSETFROM:-0500
TZOFFSETTO:-0400
TZNAME:EDT
DTSTART:20230312T070000
END:DAYLIGHT
BEGIN:STANDARD
TZOFFSETFROM:-0400
TZOFFSETTO:-0500
TZNAME:EST
DTSTART:20231105T060000
END:STANDARD
BEGIN:DAYLIGHT
TZOFFSETFROM:-0500
TZOFFSETTO:-0400
TZNAME:EDT
DTSTART:20240310T070000
END:DAYLIGHT
BEGIN:STANDARD
TZOFFSETFROM:-0400
TZOFFSETTO:-0500
TZNAME:EST
DTSTART:20241103T060000
END:STANDARD
BEGIN:DAYLIGHT
TZOFFSETFROM:-0500
TZOFFSETTO:-0400
TZNAME:EDT
DTSTART:20250309T070000
END:DAYLIGHT
BEGIN:STANDARD
TZOFFSETFROM:-0400
TZOFFSETTO:-0500
TZNAME:EST
DTSTART:20251102T060000
END:STANDARD
END:VTIMEZONE
BEGIN:VEVENT
DTSTART;TZID=America/New_York:20240830T143000
DTEND;TZID=America/New_York:20240830T183000
DTSTAMP:20260423T205121
CREATED:20240520T141659Z
LAST-MODIFIED:20240520T141659Z
UID:10001047-1725028200-1725042600@www.visitvermont.com
SUMMARY:Dover Artisan Market
DESCRIPTION:Welcome to the monthly Dover Artisan Market in West Dover VT! Join us at 171 Vermont Rte 100 for an afternoon filled with creativity and local talent. Discover unique handmade crafts\, art pieces\, and delicious treats from talented artisans in the area while listening to live music! The market is the perfect place to find one-of-a-kind gifts or simply treat yourself to something special. Don’t miss out on this opportunity to support community\, local artists\, and makers while enjoying a fun day out. We can’t wait to see you there!\nWe run from June through October!\nFriday\, June 28\, 2:30-6:30\nFriday July 26\, 2:30-6:30\nFriday\, August 30\, 2:30-6:30\nFriday\, September 27\, 2:30-6:30\nFriday\, October 4\, 2:30-6:30
URL:https://www.visitvermont.com/event/dover-artisan-market/2024-08-30/
LOCATION:VT
ATTACH;FMTTYPE=image/png:https://www.visitvermont.com/wp-content/uploads/2024/05/Photoroom-20240508_184113.png
END:VEVENT
BEGIN:VEVENT
DTSTART;TZID=America/New_York:20240830T170000
DTEND;TZID=America/New_York:20240830T200000
DTSTAMP:20260423T205121
CREATED:20240620T171605Z
LAST-MODIFIED:20240620T171605Z
UID:10001119-1725037200-1725048000@www.visitvermont.com
SUMMARY:Base Area Block Party
DESCRIPTION:Join us in the Main Base Area on Friday nights throughout the summer for music\, food\, and yard games \nLOCATION:\nMount Snow Main Base Area
URL:https://www.visitvermont.com/event/base-area-block-party/2024-08-30/
LOCATION:Mount Snow Resort\, 39 Mount Snow Rd\, West Dover\, VT\, 05356\, United States
ATTACH;FMTTYPE=image/jpeg:https://www.visitvermont.com/wp-content/uploads/2024/06/20220902_SO_Starkey_001.jpg
ORGANIZER;CN="Mount Snow":MAILTO:mountsnowinfo@vailresorts.com
END:VEVENT
BEGIN:VEVENT
DTSTART;TZID=America/New_York:20240830T170000
DTEND;TZID=America/New_York:20240830T220000
DTSTAMP:20260423T205121
CREATED:20240814T161629Z
LAST-MODIFIED:20240814T161629Z
UID:10001221-1725037200-1725055200@www.visitvermont.com
SUMMARY:Adams Farm Concert Series: Green Mountain Ridge Runners & Logan Boyd
DESCRIPTION:It’s an evening you’ll won’t want to miss; under the stars and around Southern Vermont’s largest Bonfire!  Featuring Brattleboro’s awarding winning food truck; Biker Bob’s Burgers & Dogs.  The Blond N’ Boozy Mobile Bar will be serving Beer\, Wine & Specialty Cocktails.  Take home fresh from the farm:   farm products\, art and farm merch.  The night will open with Wilmington’s own Logan Boyd performing solo acoustic music from the 60’s to todays top hits.  The evening will conclude with The Green Mountain Ridge Runners offering classic blue grass and old-time favorites\, with original tunes by lead singer and guitarist Jim Knapp. Dan Fontaine adds sparkle with his banjo playing\, and Bruce Avery will provide harmonies and show off his signature washtub stand-up bass.  Additional area musicians will carry forward the fun spirit of the Ridge Runners. \nSliding scale admission; all ages & inclusion welcome.  Pack your lawn blankets; but remember to leave your pets at home. NO BYOB. 15 Higley Hill Rd.\, Wilmington\, VT @adamsfamilyfarmvt
URL:https://www.visitvermont.com/event/adams-farm-concert-series-green-mountain-ridge-runners-logan-boyd/
LOCATION:Adams Farm\, 15 Higley Hill Road\, Wilmington\, Vermont\, 05342
ATTACH;FMTTYPE=image/jpeg:https://www.visitvermont.com/wp-content/uploads/2024/08/Concert-Dates-and-Line-Up.jpeg
END:VEVENT
END:VCALENDAR