BEGIN:VCALENDAR
VERSION:2.0
PRODID:-//SVDV Chamber of Commerce - ECPv6.15.18//NONSGML v1.0//EN
CALSCALE:GREGORIAN
METHOD:PUBLISH
X-WR-CALNAME:SVDV Chamber of Commerce
X-ORIGINAL-URL:https://www.visitvermont.com
X-WR-CALDESC:Events for SVDV Chamber of Commerce
REFRESH-INTERVAL;VALUE=DURATION:PT1H
X-Robots-Tag:noindex
X-PUBLISHED-TTL:PT1H
BEGIN:VTIMEZONE
TZID:America/New_York
BEGIN:DAYLIGHT
TZOFFSETFROM:-0500
TZOFFSETTO:-0400
TZNAME:EDT
DTSTART:20230312T070000
END:DAYLIGHT
BEGIN:STANDARD
TZOFFSETFROM:-0400
TZOFFSETTO:-0500
TZNAME:EST
DTSTART:20231105T060000
END:STANDARD
BEGIN:DAYLIGHT
TZOFFSETFROM:-0500
TZOFFSETTO:-0400
TZNAME:EDT
DTSTART:20240310T070000
END:DAYLIGHT
BEGIN:STANDARD
TZOFFSETFROM:-0400
TZOFFSETTO:-0500
TZNAME:EST
DTSTART:20241103T060000
END:STANDARD
BEGIN:DAYLIGHT
TZOFFSETFROM:-0500
TZOFFSETTO:-0400
TZNAME:EDT
DTSTART:20250309T070000
END:DAYLIGHT
BEGIN:STANDARD
TZOFFSETFROM:-0400
TZOFFSETTO:-0500
TZNAME:EST
DTSTART:20251102T060000
END:STANDARD
END:VTIMEZONE
BEGIN:VEVENT
DTSTART;TZID=America/New_York:20240907T090000
DTEND;TZID=America/New_York:20240915T170000
DTSTAMP:20260423T191956
CREATED:20240628T200239Z
LAST-MODIFIED:20240628T200239Z
UID:10001172-1725699600-1726419600@www.visitvermont.com
SUMMARY:Vermont Cheese Week
DESCRIPTION:Vermont Cheese Week is a statewide\, week-long celebration designed to please the palates and feed the fanaticism of all cheese lovers! Enjoy unique learning\, tasting\, pairing\, and local “Vermontish” experiences all over the state. Looking for a cheese feast? Start the week off at the Harpoon Brewery Kickoff event in Windsor. Need something mellow and romantic? Pick up a basket of cheeses and other local goodies for a picnic on a farm in the Champlain Valley. Watch cheesemaking and tour international award-winning creameries around the state\, or attend special dinners and classes–including some incredible\, dreamy experiences for the cheese-obsessed. You can even sign up for Cheese Camp! Costs for activities vary by event–see the Vermont Cheese Week website at www.vtcheese.com/cheeseweek for details.
URL:https://www.visitvermont.com/event/vermont-cheese-week/
LOCATION:VT
ATTACH;FMTTYPE=image/jpeg:https://www.visitvermont.com/wp-content/uploads/2024/06/Vermont-Cheese-Week.jpg
END:VEVENT
BEGIN:VEVENT
DTSTART;TZID=America/New_York:20240915T130000
DTEND;TZID=America/New_York:20240915T150000
DTSTAMP:20260423T191956
CREATED:20240626T173313Z
LAST-MODIFIED:20240626T173313Z
UID:10001164-1726405200-1726412400@www.visitvermont.com
SUMMARY:Live Music at the Bullwheel
DESCRIPTION:Enjoy live music at The Bullwheel on Sunday afternoons throughout the summer.
URL:https://www.visitvermont.com/event/live-music-at-the-bullwheel-2/2024-09-15/
LOCATION:The Bullwheel\, 254 Summit Work Rd\, West Dover\, VT\, 05356\, United States
ATTACH;FMTTYPE=image/jpeg:https://www.visitvermont.com/wp-content/uploads/2023/06/Bullwheel.jpg
ORGANIZER;CN="Mount Snow":MAILTO:mountsnowinfo@vailresorts.com
END:VEVENT
END:VCALENDAR