BEGIN:VCALENDAR
VERSION:2.0
PRODID:-//SVDV Chamber of Commerce - ECPv6.15.18//NONSGML v1.0//EN
CALSCALE:GREGORIAN
METHOD:PUBLISH
X-WR-CALNAME:SVDV Chamber of Commerce
X-ORIGINAL-URL:https://www.visitvermont.com
X-WR-CALDESC:Events for SVDV Chamber of Commerce
REFRESH-INTERVAL;VALUE=DURATION:PT1H
X-Robots-Tag:noindex
X-PUBLISHED-TTL:PT1H
BEGIN:VTIMEZONE
TZID:America/New_York
BEGIN:DAYLIGHT
TZOFFSETFROM:-0500
TZOFFSETTO:-0400
TZNAME:EDT
DTSTART:20230312T070000
END:DAYLIGHT
BEGIN:STANDARD
TZOFFSETFROM:-0400
TZOFFSETTO:-0500
TZNAME:EST
DTSTART:20231105T060000
END:STANDARD
BEGIN:DAYLIGHT
TZOFFSETFROM:-0500
TZOFFSETTO:-0400
TZNAME:EDT
DTSTART:20240310T070000
END:DAYLIGHT
BEGIN:STANDARD
TZOFFSETFROM:-0400
TZOFFSETTO:-0500
TZNAME:EST
DTSTART:20241103T060000
END:STANDARD
BEGIN:DAYLIGHT
TZOFFSETFROM:-0500
TZOFFSETTO:-0400
TZNAME:EDT
DTSTART:20250309T070000
END:DAYLIGHT
BEGIN:STANDARD
TZOFFSETFROM:-0400
TZOFFSETTO:-0500
TZNAME:EST
DTSTART:20251102T060000
END:STANDARD
END:VTIMEZONE
BEGIN:VEVENT
DTSTART;VALUE=DATE:20240927
DTEND;VALUE=DATE:20240930
DTSTAMP:20260423T231712
CREATED:20240213T193321Z
LAST-MODIFIED:20240828T171512Z
UID:10000922-1727395200-1727654399@www.visitvermont.com
SUMMARY:Art in the Valley
DESCRIPTION:
URL:https://www.visitvermont.com/event/art-in-the-valley/
LOCATION:VT
ATTACH;FMTTYPE=image/jpeg:https://www.visitvermont.com/wp-content/uploads/2024/02/Art-Valley-poster2-scaled.jpg
END:VEVENT
BEGIN:VEVENT
DTSTART;TZID=America/New_York:20240927T140000
DTEND;TZID=America/New_York:20240927T170000
DTSTAMP:20260423T231712
CREATED:20240607T144350Z
LAST-MODIFIED:20240611T150345Z
UID:10001075-1727445600-1727456400@www.visitvermont.com
SUMMARY:Riverside Music Series at Ratu's
DESCRIPTION:
URL:https://www.visitvermont.com/event/riverside-music-series-at-ratus-2/2024-09-27/
LOCATION:Ratu’s\, 34 West Main Street\, Wilmington\, Vermont\, 05363
CATEGORIES:Food Truck,Live Music
ATTACH;FMTTYPE=image/png:https://www.visitvermont.com/wp-content/uploads/2024/06/riverside-event-series.png
END:VEVENT
BEGIN:VEVENT
DTSTART;TZID=America/New_York:20240927T143000
DTEND;TZID=America/New_York:20240927T183000
DTSTAMP:20260423T231712
CREATED:20240520T141659Z
LAST-MODIFIED:20240520T141659Z
UID:10001048-1727447400-1727461800@www.visitvermont.com
SUMMARY:Dover Artisan Market
DESCRIPTION:Welcome to the monthly Dover Artisan Market in West Dover VT! Join us at 171 Vermont Rte 100 for an afternoon filled with creativity and local talent. Discover unique handmade crafts\, art pieces\, and delicious treats from talented artisans in the area while listening to live music! The market is the perfect place to find one-of-a-kind gifts or simply treat yourself to something special. Don’t miss out on this opportunity to support community\, local artists\, and makers while enjoying a fun day out. We can’t wait to see you there!\nWe run from June through October!\nFriday\, June 28\, 2:30-6:30\nFriday July 26\, 2:30-6:30\nFriday\, August 30\, 2:30-6:30\nFriday\, September 27\, 2:30-6:30\nFriday\, October 4\, 2:30-6:30
URL:https://www.visitvermont.com/event/dover-artisan-market/2024-09-27/
LOCATION:VT
ATTACH;FMTTYPE=image/png:https://www.visitvermont.com/wp-content/uploads/2024/05/Photoroom-20240508_184113.png
END:VEVENT
BEGIN:VEVENT
DTSTART;TZID=America/New_York:20240927T170000
DTEND;TZID=America/New_York:20240927T200000
DTSTAMP:20260423T231712
CREATED:20240620T171605Z
LAST-MODIFIED:20240620T171605Z
UID:10001123-1727456400-1727467200@www.visitvermont.com
SUMMARY:Base Area Block Party
DESCRIPTION:Join us in the Main Base Area on Friday nights throughout the summer for music\, food\, and yard games \nLOCATION:\nMount Snow Main Base Area
URL:https://www.visitvermont.com/event/base-area-block-party/2024-09-27/
LOCATION:Mount Snow Resort\, 39 Mount Snow Rd\, West Dover\, VT\, 05356\, United States
ATTACH;FMTTYPE=image/jpeg:https://www.visitvermont.com/wp-content/uploads/2024/06/20220902_SO_Starkey_001.jpg
ORGANIZER;CN="Mount Snow":MAILTO:mountsnowinfo@vailresorts.com
END:VEVENT
BEGIN:VEVENT
DTSTART;TZID=America/New_York:20240927T170000
DTEND;TZID=America/New_York:20240927T220000
DTSTAMP:20260423T231712
CREATED:20240814T165349Z
LAST-MODIFIED:20240814T165349Z
UID:10001223-1727456400-1727474400@www.visitvermont.com
SUMMARY:Adams Family Farm Concert Series: Otter Creek and the DiTriani Brothers
DESCRIPTION:It’s an evening you’ll won’t want to miss; under the stars and around Southern Vermont’s largest Bonfire!  Featuring Brattleboro’s awarding winning food truck; Biker Bob’s Burgers & Dogs.  The Blond N’ Boozy Mobile Bar will be serving Beer\, Wine & Specialty Cocktails.  Take home fresh from the farm:  farm products\, art and farm merch. \nThe night will open with Otter Creek performing with a range of instruments mixing traditional and modern forms of Bluegrass\, Old Time and Country Music.  The evening will conclude with The DiTrani Brothers by way of bent melodies and driving rhythms\, play perilous tunes for the hopeful\, with elements of Balkan music and early American jazz/swing. They deliver both wistful and raucous performances at venues ranging from The House of Blues in New Orleans to DIY backyard stages. Originally from North Bend\, Wash.\, brothers Bobby and Walker DiTrani began writing songs together while traveling across the country\, playing music on the streets. Since then\, they’ve recorded two albums and toured throughout the U.S. with drummer Eddie Gaudet. Now a quartet with acoustic bassist Benjamin Richards\, they just released their third album “Dust Harvest.” \nSliding scale admission; all ages & inclusion welcome.  Pack your lawn blankets; but remember to leave your pets at home. NO BYOB. 15 Higley Hill Rd.\, Wilmington\, VT @adamsfamilyfarmvt
URL:https://www.visitvermont.com/event/adams-family-farm-concert-series-otter-creek-and-the-ditriani-brothers/
LOCATION:Adams Farm\, 15 Higley Hill Road\, Wilmington\, Vermont\, 05342
ATTACH;FMTTYPE=image/jpeg:https://www.visitvermont.com/wp-content/uploads/2024/08/Concert-Dates-and-Line-Up.jpeg
END:VEVENT
END:VCALENDAR