BEGIN:VCALENDAR
VERSION:2.0
PRODID:-//SVDV Chamber of Commerce - ECPv6.15.18//NONSGML v1.0//EN
CALSCALE:GREGORIAN
METHOD:PUBLISH
X-WR-CALNAME:SVDV Chamber of Commerce
X-ORIGINAL-URL:https://www.visitvermont.com
X-WR-CALDESC:Events for SVDV Chamber of Commerce
REFRESH-INTERVAL;VALUE=DURATION:PT1H
X-Robots-Tag:noindex
X-PUBLISHED-TTL:PT1H
BEGIN:VTIMEZONE
TZID:America/New_York
BEGIN:DAYLIGHT
TZOFFSETFROM:-0500
TZOFFSETTO:-0400
TZNAME:EDT
DTSTART:20230312T070000
END:DAYLIGHT
BEGIN:STANDARD
TZOFFSETFROM:-0400
TZOFFSETTO:-0500
TZNAME:EST
DTSTART:20231105T060000
END:STANDARD
BEGIN:DAYLIGHT
TZOFFSETFROM:-0500
TZOFFSETTO:-0400
TZNAME:EDT
DTSTART:20240310T070000
END:DAYLIGHT
BEGIN:STANDARD
TZOFFSETFROM:-0400
TZOFFSETTO:-0500
TZNAME:EST
DTSTART:20241103T060000
END:STANDARD
BEGIN:DAYLIGHT
TZOFFSETFROM:-0500
TZOFFSETTO:-0400
TZNAME:EDT
DTSTART:20250309T070000
END:DAYLIGHT
BEGIN:STANDARD
TZOFFSETFROM:-0400
TZOFFSETTO:-0500
TZNAME:EST
DTSTART:20251102T060000
END:STANDARD
END:VTIMEZONE
BEGIN:VEVENT
DTSTART;TZID=America/New_York:20241001T180000
DTEND;TZID=America/New_York:20241001T180000
DTSTAMP:20260423T204441
CREATED:20240530T155204Z
LAST-MODIFIED:20240620T165423Z
UID:10001090-1727805600-1727805600@www.visitvermont.com
SUMMARY:Sensory Group at the Pool Nature Center Hosted by Vermont Museum of Natural History- 'An Immense World'
DESCRIPTION:Are you interested in diversity in nature? Join Vermont Museum of Natural History’s Sensory Study Group! Starting Tuesday June 11th at 6pm\, we will be meeting for the first of ten Study groups looking at Ed Yong’s book “An Immense World”. The focus of the book is on animal senses\, (both those familiar to us and those that we do not have) and how those senses shape how animals experience their world. As part of these discussions\, we are going to consider how diversity in nature can inform how we address diversity in humans. This information\, and the “different\, not better or worse” thread that moves through the book will integrate into how we consider ‘other’ of all stripes be they two legged\, four legged or ten. We will also discuss ways to develop resources for the visually or hearing-impaired visitors to the Nature Center and especially in conjunction with our Accessible trail being built this summer. We will be thinking about more than just wheelchairs. \nMeetings will be at 6:00 every other Tuesday until October 15. We’ll do a couple chapters at a time to really explore not only the content of the book but also bring in some outside information. We’ll have food and time for talking and thinking. A limited number of copies of the book are available for those who need one. Please reach out to Michael Clough at michael.clough@vermontmuseum.org or Mary Wright at mary.wright@vermontmuseum.org  if you are interested in participating or would like to learn more. The Sensory Study Group is supported in part by a Vermont Humanities project grant.
URL:https://www.visitvermont.com/event/sensory-group-at-the-pool-nature-center-hosted-by-vermont-museum-of-natural-history-an-immense-world/2024-10-01/
LOCATION:VT
ATTACH;FMTTYPE=image/jpeg:https://www.visitvermont.com/wp-content/uploads/2024/05/unnamed-10.jpg
END:VEVENT
END:VCALENDAR