BEGIN:VCALENDAR
VERSION:2.0
PRODID:-//SVDV Chamber of Commerce - ECPv6.15.18//NONSGML v1.0//EN
CALSCALE:GREGORIAN
METHOD:PUBLISH
X-WR-CALNAME:SVDV Chamber of Commerce
X-ORIGINAL-URL:https://www.visitvermont.com
X-WR-CALDESC:Events for SVDV Chamber of Commerce
REFRESH-INTERVAL;VALUE=DURATION:PT1H
X-Robots-Tag:noindex
X-PUBLISHED-TTL:PT1H
BEGIN:VTIMEZONE
TZID:America/New_York
BEGIN:DAYLIGHT
TZOFFSETFROM:-0500
TZOFFSETTO:-0400
TZNAME:EDT
DTSTART:20230312T070000
END:DAYLIGHT
BEGIN:STANDARD
TZOFFSETFROM:-0400
TZOFFSETTO:-0500
TZNAME:EST
DTSTART:20231105T060000
END:STANDARD
BEGIN:DAYLIGHT
TZOFFSETFROM:-0500
TZOFFSETTO:-0400
TZNAME:EDT
DTSTART:20240310T070000
END:DAYLIGHT
BEGIN:STANDARD
TZOFFSETFROM:-0400
TZOFFSETTO:-0500
TZNAME:EST
DTSTART:20241103T060000
END:STANDARD
BEGIN:DAYLIGHT
TZOFFSETFROM:-0500
TZOFFSETTO:-0400
TZNAME:EDT
DTSTART:20250309T070000
END:DAYLIGHT
BEGIN:STANDARD
TZOFFSETFROM:-0400
TZOFFSETTO:-0500
TZNAME:EST
DTSTART:20251102T060000
END:STANDARD
END:VTIMEZONE
BEGIN:VEVENT
DTSTART;TZID=America/New_York:20241005T110000
DTEND;TZID=America/New_York:20241005T170000
DTSTAMP:20260423T191455
CREATED:20240930T182237Z
LAST-MODIFIED:20240930T182237Z
UID:10001233-1728126000-1728147600@www.visitvermont.com
SUMMARY:26th Annual Mount Snow Oktoberfest
DESCRIPTION:What’s better than one Oktoberfest? How about two? \nMount Snow will be hosting our annual Oktoberfest with a re-imagined format of new and old. \nCome join us on Saturday October 5 and Saturday October 12 from 11am-5pm for a more traditional spin on the world-renowned festival. \nThese events will offer free admission and guests will see some of their favorite winter hangouts like Cuzzins\, Station Tap Room\, and 1900’ Burger transformed into traditional German bier halls offering a diverse selection of domestic\, imported\, and local seasonal beers\, ciders\, and other beverages. \nTraditional Oktoberfest fare will be available in addition to a variety of local vendors and food trucks. \nThe base area will be bumping with live music\, games\, and activities for all ages. Also returning this year\, after a much too long hiatus\, will be the Mount Snow Oktoberfest Craft Fair. Guests will be able to stroll the base area and visit dozens of local and regional crafters showcasing a wide variety of offerings. \nWe are also excited to announce that we have partnered with our friends at von Trapp Brewing to host preliminary qualifying rounds of the Vermont State Steinholding Championships! The winners of the men’s and women’s rounds will be invited to represent Mount Snow at von Trapp Brewing for the Vermont State Championship Finals!
URL:https://www.visitvermont.com/event/26th-annual-mount-snow-oktoberfest/
LOCATION:Mount Snow Resort\, 39 Mount Snow Rd\, West Dover\, VT\, 05356\, United States
ATTACH;FMTTYPE=image/avif:https://www.visitvermont.com/wp-content/uploads/2024/09/20141011_SO_MountSnowPhotographer_461.avif
ORGANIZER;CN="Mount Snow":MAILTO:mountsnowinfo@vailresorts.com
END:VEVENT
BEGIN:VEVENT
DTSTART;TZID=America/New_York:20241005T130000
DTEND;TZID=America/New_York:20241005T180000
DTSTAMP:20260423T191455
CREATED:20240620T145151Z
LAST-MODIFIED:20240620T145319Z
UID:10001083-1728133200-1728151200@www.visitvermont.com
SUMMARY:Jacksonville Harvest Festival
DESCRIPTION:Local Artists\, Crafters\, Wellness\, and more! \nVendors Wanted!
URL:https://www.visitvermont.com/event/jacksonville-harvest-festival/
LOCATION:weeping willow yoga\, 453 VT Route 112\, Jacksonville\, VT\, 05342\, United States
ATTACH;FMTTYPE=application/pdf:https://www.visitvermont.com/wp-content/uploads/2024/06/Harvest-Festival-2024-Vendor.pdf
END:VEVENT
BEGIN:VEVENT
DTSTART;TZID=America/New_York:20241005T170000
DTEND;TZID=America/New_York:20241005T190000
DTSTAMP:20260423T191455
CREATED:20240620T171232Z
LAST-MODIFIED:20240620T171232Z
UID:10001107-1728147600-1728154800@www.visitvermont.com
SUMMARY:Live Music at Fairways
DESCRIPTION:Whether you’re finishing up 18 holes or you just want to sit and relax with a cocktail\, join us on the deck at Fairways every Saturday afternoon from 5:00 – 7:00 PM to enjoy live music. \n  \nLOCATION:\nFairways Bar & Grill at Mount Snow Golf Club
URL:https://www.visitvermont.com/event/live-music-at-fairways/2024-10-05/
LOCATION:Mount Snow Golf Course\, 95 Country Club Drive\, West Dover\, VT\, 05356\, United States
ATTACH;FMTTYPE=image/jpeg:https://www.visitvermont.com/wp-content/uploads/2024/06/20230701_SO_Starkey_001.jpg
ORGANIZER;CN="Mount Snow":MAILTO:mountsnowinfo@vailresorts.com
END:VEVENT
END:VCALENDAR