BEGIN:VCALENDAR
VERSION:2.0
PRODID:-//SVDV Chamber of Commerce - ECPv6.15.18//NONSGML v1.0//EN
CALSCALE:GREGORIAN
METHOD:PUBLISH
X-WR-CALNAME:SVDV Chamber of Commerce
X-ORIGINAL-URL:https://www.visitvermont.com
X-WR-CALDESC:Events for SVDV Chamber of Commerce
REFRESH-INTERVAL;VALUE=DURATION:PT1H
X-Robots-Tag:noindex
X-PUBLISHED-TTL:PT1H
BEGIN:VTIMEZONE
TZID:America/New_York
BEGIN:DAYLIGHT
TZOFFSETFROM:-0500
TZOFFSETTO:-0400
TZNAME:EDT
DTSTART:20240310T070000
END:DAYLIGHT
BEGIN:STANDARD
TZOFFSETFROM:-0400
TZOFFSETTO:-0500
TZNAME:EST
DTSTART:20241103T060000
END:STANDARD
BEGIN:DAYLIGHT
TZOFFSETFROM:-0500
TZOFFSETTO:-0400
TZNAME:EDT
DTSTART:20250309T070000
END:DAYLIGHT
BEGIN:STANDARD
TZOFFSETFROM:-0400
TZOFFSETTO:-0500
TZNAME:EST
DTSTART:20251102T060000
END:STANDARD
BEGIN:DAYLIGHT
TZOFFSETFROM:-0500
TZOFFSETTO:-0400
TZNAME:EDT
DTSTART:20260308T070000
END:DAYLIGHT
BEGIN:STANDARD
TZOFFSETFROM:-0400
TZOFFSETTO:-0500
TZNAME:EST
DTSTART:20261101T060000
END:STANDARD
END:VTIMEZONE
BEGIN:VEVENT
DTSTART;VALUE=DATE:20250725
DTEND;VALUE=DATE:20250804
DTSTAMP:20260419T124352
CREATED:20250113T163734Z
LAST-MODIFIED:20250226T181627Z
UID:10001277-1753401600-1754265599@www.visitvermont.com
SUMMARY:Vermont Blueberry Festival
DESCRIPTION:We love our blueberries\, so we give them 10 days of celebration!  A parade and street fair kicks off the Fest\, followed by blueberry themed events and of course picking all week at Boyd Family Farm. \nFull schedule coming soon at vermontblueberryfestival.com
URL:https://www.visitvermont.com/event/vermont-blueberry-festival-3/
LOCATION:VT
CATEGORIES:Food Truck,Live Music
ATTACH;FMTTYPE=image/jpeg:https://www.visitvermont.com/wp-content/uploads/2023/06/Summer_Land_LittlePondDigital-39-scaled.jpg
ORGANIZER;CN="Southern Vermont Deerfield Valley Chamber of Commerce":MAILTO:events@visitvermont.com
END:VEVENT
BEGIN:VEVENT
DTSTART;TZID=America/New_York:20250803T130000
DTEND;TZID=America/New_York:20250803T160000
DTSTAMP:20260419T124352
CREATED:20250129T175503Z
LAST-MODIFIED:20250129T175503Z
UID:10001351-1754226000-1754236800@www.visitvermont.com
SUMMARY:Ian Campbell at Snow Republic
DESCRIPTION:  \nIan Campbell will be playing at Snow Republic on Sunday’s from 1 – 4 pm
URL:https://www.visitvermont.com/event/ian-campbell-at-snow-republic/2025-08-03/
LOCATION:Snow Republic Brewery\, 33 Rte 100 North\, West Dover\, VT\, 05356\, United States
CATEGORIES:Live Music
ATTACH;FMTTYPE=image/png:https://www.visitvermont.com/wp-content/uploads/2025/01/Screenshot-2025-01-29-at-12.50.34 PM.png
END:VEVENT
BEGIN:VEVENT
DTSTART;TZID=America/New_York:20250810T130000
DTEND;TZID=America/New_York:20250810T160000
DTSTAMP:20260419T124352
CREATED:20250129T175503Z
LAST-MODIFIED:20250129T175503Z
UID:10001352-1754830800-1754841600@www.visitvermont.com
SUMMARY:Ian Campbell at Snow Republic
DESCRIPTION:  \nIan Campbell will be playing at Snow Republic on Sunday’s from 1 – 4 pm
URL:https://www.visitvermont.com/event/ian-campbell-at-snow-republic/2025-08-10/
LOCATION:Snow Republic Brewery\, 33 Rte 100 North\, West Dover\, VT\, 05356\, United States
CATEGORIES:Live Music
ATTACH;FMTTYPE=image/png:https://www.visitvermont.com/wp-content/uploads/2025/01/Screenshot-2025-01-29-at-12.50.34 PM.png
END:VEVENT
BEGIN:VEVENT
DTSTART;TZID=America/New_York:20250817T130000
DTEND;TZID=America/New_York:20250817T160000
DTSTAMP:20260419T124352
CREATED:20250129T175503Z
LAST-MODIFIED:20250129T175503Z
UID:10001353-1755435600-1755446400@www.visitvermont.com
SUMMARY:Ian Campbell at Snow Republic
DESCRIPTION:  \nIan Campbell will be playing at Snow Republic on Sunday’s from 1 – 4 pm
URL:https://www.visitvermont.com/event/ian-campbell-at-snow-republic/2025-08-17/
LOCATION:Snow Republic Brewery\, 33 Rte 100 North\, West Dover\, VT\, 05356\, United States
CATEGORIES:Live Music
ATTACH;FMTTYPE=image/png:https://www.visitvermont.com/wp-content/uploads/2025/01/Screenshot-2025-01-29-at-12.50.34 PM.png
END:VEVENT
BEGIN:VEVENT
DTSTART;TZID=America/New_York:20250824T130000
DTEND;TZID=America/New_York:20250824T160000
DTSTAMP:20260419T124352
CREATED:20250129T175503Z
LAST-MODIFIED:20250129T175503Z
UID:10001354-1756040400-1756051200@www.visitvermont.com
SUMMARY:Ian Campbell at Snow Republic
DESCRIPTION:  \nIan Campbell will be playing at Snow Republic on Sunday’s from 1 – 4 pm
URL:https://www.visitvermont.com/event/ian-campbell-at-snow-republic/2025-08-24/
LOCATION:Snow Republic Brewery\, 33 Rte 100 North\, West Dover\, VT\, 05356\, United States
CATEGORIES:Live Music
ATTACH;FMTTYPE=image/png:https://www.visitvermont.com/wp-content/uploads/2025/01/Screenshot-2025-01-29-at-12.50.34 PM.png
END:VEVENT
BEGIN:VEVENT
DTSTART;TZID=America/New_York:20250831T130000
DTEND;TZID=America/New_York:20250831T160000
DTSTAMP:20260419T124352
CREATED:20250129T175503Z
LAST-MODIFIED:20250129T175503Z
UID:10001355-1756645200-1756656000@www.visitvermont.com
SUMMARY:Ian Campbell at Snow Republic
DESCRIPTION:  \nIan Campbell will be playing at Snow Republic on Sunday’s from 1 – 4 pm
URL:https://www.visitvermont.com/event/ian-campbell-at-snow-republic/2025-08-31/
LOCATION:Snow Republic Brewery\, 33 Rte 100 North\, West Dover\, VT\, 05356\, United States
CATEGORIES:Live Music
ATTACH;FMTTYPE=image/png:https://www.visitvermont.com/wp-content/uploads/2025/01/Screenshot-2025-01-29-at-12.50.34 PM.png
END:VEVENT
END:VCALENDAR