BEGIN:VCALENDAR
VERSION:2.0
PRODID:-//SVDV Chamber of Commerce - ECPv6.15.18//NONSGML v1.0//EN
CALSCALE:GREGORIAN
METHOD:PUBLISH
X-WR-CALNAME:SVDV Chamber of Commerce
X-ORIGINAL-URL:https://www.visitvermont.com
X-WR-CALDESC:Events for SVDV Chamber of Commerce
REFRESH-INTERVAL;VALUE=DURATION:PT1H
X-Robots-Tag:noindex
X-PUBLISHED-TTL:PT1H
BEGIN:VTIMEZONE
TZID:America/New_York
BEGIN:DAYLIGHT
TZOFFSETFROM:-0500
TZOFFSETTO:-0400
TZNAME:EDT
DTSTART:20240310T070000
END:DAYLIGHT
BEGIN:STANDARD
TZOFFSETFROM:-0400
TZOFFSETTO:-0500
TZNAME:EST
DTSTART:20241103T060000
END:STANDARD
BEGIN:DAYLIGHT
TZOFFSETFROM:-0500
TZOFFSETTO:-0400
TZNAME:EDT
DTSTART:20250309T070000
END:DAYLIGHT
BEGIN:STANDARD
TZOFFSETFROM:-0400
TZOFFSETTO:-0500
TZNAME:EST
DTSTART:20251102T060000
END:STANDARD
BEGIN:DAYLIGHT
TZOFFSETFROM:-0500
TZOFFSETTO:-0400
TZNAME:EDT
DTSTART:20260308T070000
END:DAYLIGHT
BEGIN:STANDARD
TZOFFSETFROM:-0400
TZOFFSETTO:-0500
TZNAME:EST
DTSTART:20261101T060000
END:STANDARD
END:VTIMEZONE
BEGIN:VEVENT
DTSTART;TZID=America/New_York:20250707T163000
DTEND;TZID=America/New_York:20250707T183000
DTSTAMP:20260419T105739
CREATED:20250701T145814Z
LAST-MODIFIED:20250703T192207Z
UID:10001797-1751905800-1751913000@www.visitvermont.com
SUMMARY:Deerfield Valley Community Social
DESCRIPTION:Join us for the Deerfield Valley Community Social\, a free and welcoming event open to all residents—both new and longtime—as well as local business owners! \nEnjoy FREE delicious empanadas from RVQ and light refreshments provided by River Valley Market. At the cash bar enjoy refreshing handcrafted mixed drinks featuring Metcalfe’s spirits. \nLive music by Logan Boyd will keep the energy up\, and you won’t want to miss the exciting door raffles! \nRSVP below to help us plan for food.We can’t wait to see you there—come connect with your community!
URL:https://www.visitvermont.com/event/deerfield-valley-community-social-hosted-by-the-southern-vermont-deerfield-valley-chamber-of-commerce/
LOCATION:Vermont Distillers\, 7755 Rte 9\, West Marlboro\, Vermont\, 05363
ATTACH;FMTTYPE=image/jpeg:https://www.visitvermont.com/wp-content/uploads/2025/06/Trampoline2022_Dining_0022-scaled.jpg
ORGANIZER;CN="Southern Vermont Deerfield Valley Chamber of Commerce":MAILTO:events@visitvermont.com
END:VEVENT
BEGIN:VEVENT
DTSTART;VALUE=DATE:20250725
DTEND;VALUE=DATE:20250804
DTSTAMP:20260419T105739
CREATED:20250113T163734Z
LAST-MODIFIED:20250226T181627Z
UID:10001277-1753401600-1754265599@www.visitvermont.com
SUMMARY:Vermont Blueberry Festival
DESCRIPTION:We love our blueberries\, so we give them 10 days of celebration!  A parade and street fair kicks off the Fest\, followed by blueberry themed events and of course picking all week at Boyd Family Farm. \nFull schedule coming soon at vermontblueberryfestival.com
URL:https://www.visitvermont.com/event/vermont-blueberry-festival-3/
LOCATION:VT
CATEGORIES:Food Truck,Live Music
ATTACH;FMTTYPE=image/jpeg:https://www.visitvermont.com/wp-content/uploads/2023/06/Summer_Land_LittlePondDigital-39-scaled.jpg
ORGANIZER;CN="Southern Vermont Deerfield Valley Chamber of Commerce":MAILTO:events@visitvermont.com
END:VEVENT
BEGIN:VEVENT
DTSTART;VALUE=DATE:20250919
DTEND;VALUE=DATE:20250922
DTSTAMP:20260419T105739
CREATED:20250113T170132Z
LAST-MODIFIED:20250919T170022Z
UID:10001278-1758240000-1758499199@www.visitvermont.com
SUMMARY:Vermont Wine & Harvest Festival
DESCRIPTION:Set in the backdrop of our world-renowned Vermont fall foliage\,  attendees of the 16th Annual Vermont Wine & Harvest Festival will discover\, savor and enjoy Vermont vintners\, small specialty food producers\, chefs\, painters\, publishers\, cheese makers\, potters\, jewelers\, photographers\, and farmers. \nThe 2025 Festival takes place September 19 – September 21 \nwith its signature events: \nWine Stroll and Soup Contest  \nFriday\, September 19\, 4:00 pm-7pm – Historic Downtown Wilmington \nVermont Wine & Harvest Festival  \nSaturday\, September 20\, 11am – 5pm – Mount Snow Resort\, West Dover \nVermont Wildlife Festival \nSunday\, September 21\, 10am – 4pm – Mount Snow Resort\, West Dover \n  \nVISIT THE EVENT PAGE TO BUY TICKETS & LEARN MORE\n\nPlease note: The Vermont Wine & Harvest Festival events are rain or shine.  Tickets are non-refundable.\nOnline tickets are now sold out for the Soup Stroll. There will be a very limited number of tickets available on site.
URL:https://www.visitvermont.com/event/vermont-wine-harvest-festival-4/
LOCATION:Mount Snow Resort\, 39 Mount Snow Rd\, West Dover\, VT\, 05356\, United States
CATEGORIES:Food Truck,Live Music
ATTACH;FMTTYPE=image/png:https://www.visitvermont.com/wp-content/uploads/2022/12/SVDV_WineandHarvestFestival_Primary_RGB.png
ORGANIZER;CN="Southern Vermont Deerfield Valley Chamber of Commerce":MAILTO:events@visitvermont.com
END:VEVENT
END:VCALENDAR