BEGIN:VCALENDAR
VERSION:2.0
PRODID:-//SVDV Chamber of Commerce - ECPv6.15.18//NONSGML v1.0//EN
CALSCALE:GREGORIAN
METHOD:PUBLISH
X-ORIGINAL-URL:https://www.visitvermont.com
X-WR-CALDESC:Events for SVDV Chamber of Commerce
REFRESH-INTERVAL;VALUE=DURATION:PT1H
X-Robots-Tag:noindex
X-PUBLISHED-TTL:PT1H
BEGIN:VTIMEZONE
TZID:America/New_York
BEGIN:DAYLIGHT
TZOFFSETFROM:-0500
TZOFFSETTO:-0400
TZNAME:EDT
DTSTART:20210314T070000
END:DAYLIGHT
BEGIN:STANDARD
TZOFFSETFROM:-0400
TZOFFSETTO:-0500
TZNAME:EST
DTSTART:20211107T060000
END:STANDARD
BEGIN:DAYLIGHT
TZOFFSETFROM:-0500
TZOFFSETTO:-0400
TZNAME:EDT
DTSTART:20220313T070000
END:DAYLIGHT
BEGIN:STANDARD
TZOFFSETFROM:-0400
TZOFFSETTO:-0500
TZNAME:EST
DTSTART:20221106T060000
END:STANDARD
BEGIN:DAYLIGHT
TZOFFSETFROM:-0500
TZOFFSETTO:-0400
TZNAME:EDT
DTSTART:20230312T070000
END:DAYLIGHT
BEGIN:STANDARD
TZOFFSETFROM:-0400
TZOFFSETTO:-0500
TZNAME:EST
DTSTART:20231105T060000
END:STANDARD
END:VTIMEZONE
BEGIN:VEVENT
DTSTART;TZID=America/New_York:20220925T190000
DTEND;TZID=America/New_York:20221005T190000
DTSTAMP:20260419T202325
CREATED:20220908T141533Z
LAST-MODIFIED:20220908T141533Z
UID:10000442-1664132400-1664996400@www.visitvermont.com
SUMMARY:Congregation Beth El High Holiday Schedule
DESCRIPTION:This year’s services will be in person as well as streamed\, if you are unable to attend in person kindly email cbevtoffice@gmail.com or call ahead to get the link 802-442-9645: \n\nErev Rosh Hashanah– Sunday September 25th 7:00-8:15pm evening service\nRosh Hashanah I– Monday September 26th 10:00-12:00pm morning service\, 12:00pm Tashlich\nRosh Hashanah II– Tuesday September 27th 10:30-12:30pm morning service\nKol Nidre– Tuesday October 4th 6:00-7:30pm evening service\nYom Kipper– Wednesday October 5th 10:00-12:30pm morning service\,  12:30pm Yikzor\, 6:00pm Book of Jonah discussion\, 6:30pm Neilah\, 7:00pm Sound the Shofar/Havdalah
URL:https://www.visitvermont.com/event/congregation-beth-el-high-holiday-schedule/
LOCATION:Congregation Beth El\, 107 Adams Street\, Bennington\, VT\, 05201\, United States
END:VEVENT
BEGIN:VEVENT
DTSTART;VALUE=DATE:20221008
DTEND;VALUE=DATE:20221009
DTSTAMP:20260419T202325
CREATED:20220720T004354Z
LAST-MODIFIED:20220720T004354Z
UID:10000322-1665187200-1665273599@www.visitvermont.com
SUMMARY:Mount Snow OktoberFest
DESCRIPTION:Mount Snow Oktoberfest is back! This year’s version will be scaled back\, but will still offer the beer\, schnitzel\, and Oom-pah music that you love. Enjoy a selection of beers from German and domestic breweries as well as authentic German fare. If safety protocols allow\, they will have annual games like the keg toss\, yodeling contest\, and stein holding. Tickets will be available to purchase soon and they will be limited!\nMore Information here
URL:https://www.visitvermont.com/event/mount-snow-oktoberfest/
LOCATION:Mount Snow Resort\, 39 Mount Snow Rd\, West Dover\, VT\, 05356\, United States
END:VEVENT
BEGIN:VEVENT
DTSTART;VALUE=DATE:20221008
DTEND;VALUE=DATE:20221009
DTSTAMP:20260419T202325
CREATED:20220720T004514Z
LAST-MODIFIED:20220720T004514Z
UID:10000434-1665187200-1665273599@www.visitvermont.com
SUMMARY:Newfane Heritage Festival
DESCRIPTION:Every October for the last 50 years locals and visitors alike have enjoyed the Newfane Heritage Festival\, which showcases a juried selection of artists and craftspeople\, as well as delicious food\, a used goods sale (the Flea Tent)\, a Super Raffle\, children’s activities\, and live entertainment.\nNewfane\, VT\nMore Information here
URL:https://www.visitvermont.com/event/newfane-heritage-festival/
LOCATION:VT
END:VEVENT
BEGIN:VEVENT
DTSTART;TZID=America/New_York:20221008T193000
DTEND;TZID=America/New_York:20221008T193000
DTSTAMP:20260419T202325
CREATED:20220920T140842Z
LAST-MODIFIED:20220920T140842Z
UID:10000443-1665257400-1665257400@www.visitvermont.com
SUMMARY:Glen David Andrews Band
DESCRIPTION:Friends of Historic Memorial Hall Presents Glen David Andrews Band! \nNew Orleans Jazz\, Funk and Gospel Dance Party
URL:https://www.visitvermont.com/event/glen-david-andrews-band/
LOCATION:Memorial Hall\, 14 West Main Street\, Wilmington\, VT\, 05363\, United States
END:VEVENT
BEGIN:VEVENT
DTSTART;TZID=America/New_York:20221009T120000
DTEND;TZID=America/New_York:20221009T180000
DTSTAMP:20260419T202325
CREATED:20220901T170111Z
LAST-MODIFIED:20221003T133038Z
UID:10000440-1665316800-1665338400@www.visitvermont.com
SUMMARY:MSA's 6th Annual Benefit Golf Outing
DESCRIPTION:All proceeds benefit Mount Snow Academy. Sponsorship opportunities available. \n11:15 Registrations \n11:45 Boxed Lunch Available \n5:00 Appetizers and Award Ceremony
URL:https://www.visitvermont.com/event/https-www-facebook-com-events-mount-snow-golf-course-mount-snow-academy-annual-golf-tournament-582299475504346/
LOCATION:Mount Snow Golf Course\, 95 Country Club Drive\, West Dover\, VT\, 05356\, United States
ORGANIZER;CN="Mount Snow":MAILTO:mountsnowinfo@vailresorts.com
END:VEVENT
BEGIN:VEVENT
DTSTART;TZID=America/New_York:20221025T160000
DTEND;TZID=America/New_York:20221025T210000
DTSTAMP:20260419T202325
CREATED:20221014T190454Z
LAST-MODIFIED:20221014T190454Z
UID:10000448-1666713600-1666731600@www.visitvermont.com
SUMMARY:American Flatbread Opening Night Celebration--Hosted by the Rotary Club of Deerfield Valley
DESCRIPTION:
URL:https://www.visitvermont.com/event/american-flatbread-opening-night-celebration-hosted-by-the-rotary-club-of-deerfield-valley/
LOCATION:VT
END:VEVENT
BEGIN:VEVENT
DTSTART;TZID=America/New_York:20221030T140000
DTEND;TZID=America/New_York:20221030T140000
DTSTAMP:20260419T202325
CREATED:20221014T184836Z
LAST-MODIFIED:20221014T184836Z
UID:10000446-1667138400-1667138400@www.visitvermont.com
SUMMARY:Halloween Pet Costume Parade
DESCRIPTION:
URL:https://www.visitvermont.com/event/halloween-pet-costume-parade/
LOCATION:VT
ORGANIZER;CN="Wilmington Works":MAILTO:wilmingtonworks@gmail.com
END:VEVENT
BEGIN:VEVENT
DTSTART;TZID=America/New_York:20221031T160000
DTEND;TZID=America/New_York:20221031T183000
DTSTAMP:20260419T202325
CREATED:20221014T185045Z
LAST-MODIFIED:20221014T185045Z
UID:10000447-1667232000-1667241000@www.visitvermont.com
SUMMARY:Trick or Treating in Historic Downtown Wilmington
DESCRIPTION:
URL:https://www.visitvermont.com/event/trick-or-treating-in-historic-downtown-wilmington/
LOCATION:Historic Downtown Wilmington\, Wilmington\, VT\, 05363
ORGANIZER;CN="Wilmington Works":MAILTO:wilmingtonworks@gmail.com
END:VEVENT
BEGIN:VEVENT
DTSTART;TZID=America/New_York:20221031T180000
DTEND;TZID=America/New_York:20221031T193000
DTSTAMP:20260419T202325
CREATED:20221020T211721Z
LAST-MODIFIED:20221020T211721Z
UID:10000450-1667239200-1667244600@www.visitvermont.com
SUMMARY:Halloween Party at the Old School Community Center
DESCRIPTION:Annual Halloween Event \n \nMonday\, October 31st \nOld School Community Center Wilmington \n6:00pm-7:30pm \nGames\, Activities\, Fun!! \nFor Toddlers- grade 5 \n \nSponsored by: \n Deerfield Valley Community Partnership \nTwin Valley High School Wildcat Community Service Club  \n& \nDeerfield Valley Rotary Club
URL:https://www.visitvermont.com/event/halloween-party-at-the-old-school-community-center/
LOCATION:VT
ATTACH;FMTTYPE=image/jpeg:https://www.visitvermont.com/wp-content/uploads/2022/10/halloweeen.jpg
END:VEVENT
END:VCALENDAR