BEGIN:VCALENDAR
VERSION:2.0
PRODID:-//SVDV Chamber of Commerce - ECPv6.15.18//NONSGML v1.0//EN
CALSCALE:GREGORIAN
METHOD:PUBLISH
X-ORIGINAL-URL:https://www.visitvermont.com
X-WR-CALDESC:Events for SVDV Chamber of Commerce
REFRESH-INTERVAL;VALUE=DURATION:PT1H
X-Robots-Tag:noindex
X-PUBLISHED-TTL:PT1H
BEGIN:VTIMEZONE
TZID:America/New_York
BEGIN:DAYLIGHT
TZOFFSETFROM:-0500
TZOFFSETTO:-0400
TZNAME:EDT
DTSTART:20220313T070000
END:DAYLIGHT
BEGIN:STANDARD
TZOFFSETFROM:-0400
TZOFFSETTO:-0500
TZNAME:EST
DTSTART:20221106T060000
END:STANDARD
BEGIN:DAYLIGHT
TZOFFSETFROM:-0500
TZOFFSETTO:-0400
TZNAME:EDT
DTSTART:20230312T070000
END:DAYLIGHT
BEGIN:STANDARD
TZOFFSETFROM:-0400
TZOFFSETTO:-0500
TZNAME:EST
DTSTART:20231105T060000
END:STANDARD
BEGIN:DAYLIGHT
TZOFFSETFROM:-0500
TZOFFSETTO:-0400
TZNAME:EDT
DTSTART:20240310T070000
END:DAYLIGHT
BEGIN:STANDARD
TZOFFSETFROM:-0400
TZOFFSETTO:-0500
TZNAME:EST
DTSTART:20241103T060000
END:STANDARD
END:VTIMEZONE
BEGIN:VEVENT
DTSTART;VALUE=DATE:20230121
DTEND;VALUE=DATE:20230122
DTSTAMP:20260425T222731
CREATED:20230120T224610Z
LAST-MODIFIED:20230120T224610Z
UID:10000493-1674259200-1674345599@www.visitvermont.com
SUMMARY:Congregation Beth El Shabbat with Rabbi Joshua Boettiger
DESCRIPTION:
URL:https://www.visitvermont.com/event/congregation-beth-el-shabbat-with-rabbi-joshua-boettiger/
LOCATION:VT
END:VEVENT
BEGIN:VEVENT
DTSTART;TZID=America/New_York:20230125T090000
DTEND;TZID=America/New_York:20230125T103000
DTSTAMP:20260425T222731
CREATED:20230113T230240Z
LAST-MODIFIED:20230113T231421Z
UID:10000490-1674637200-1674642600@www.visitvermont.com
SUMMARY:Monthly Coffee Chat -- Southern Vermont Deerfield Valley Chamber Membership Overview
DESCRIPTION:We’re talking all things Chamber Membership at our first Coffee Chat of 2023. Join Executive Director Bethaney LaClair for a brief presentation and discussion on the Southern Vermont Deerfield Valley Chamber of Commerce’s new membership structure.  \n\n This is a virtual event held via Zoom\n Wednesday\, January 25th\, 9 am to 10:30 am.\nTo join via Zoom click here
URL:https://www.visitvermont.com/event/monthly-coffee-chat-southern-vermont-deerfield-valley-chamber-membership-overview/
LOCATION:VT
END:VEVENT
END:VCALENDAR