BEGIN:VCALENDAR
VERSION:2.0
PRODID:-//SVDV Chamber of Commerce - ECPv6.15.18//NONSGML v1.0//EN
CALSCALE:GREGORIAN
METHOD:PUBLISH
X-ORIGINAL-URL:https://www.visitvermont.com
X-WR-CALDESC:Events for SVDV Chamber of Commerce
REFRESH-INTERVAL;VALUE=DURATION:PT1H
X-Robots-Tag:noindex
X-PUBLISHED-TTL:PT1H
BEGIN:VTIMEZONE
TZID:America/New_York
BEGIN:DAYLIGHT
TZOFFSETFROM:-0500
TZOFFSETTO:-0400
TZNAME:EDT
DTSTART:20250309T070000
END:DAYLIGHT
BEGIN:STANDARD
TZOFFSETFROM:-0400
TZOFFSETTO:-0500
TZNAME:EST
DTSTART:20251102T060000
END:STANDARD
BEGIN:DAYLIGHT
TZOFFSETFROM:-0500
TZOFFSETTO:-0400
TZNAME:EDT
DTSTART:20260308T070000
END:DAYLIGHT
BEGIN:STANDARD
TZOFFSETFROM:-0400
TZOFFSETTO:-0500
TZNAME:EST
DTSTART:20261101T060000
END:STANDARD
BEGIN:DAYLIGHT
TZOFFSETFROM:-0500
TZOFFSETTO:-0400
TZNAME:EDT
DTSTART:20270314T070000
END:DAYLIGHT
BEGIN:STANDARD
TZOFFSETFROM:-0400
TZOFFSETTO:-0500
TZNAME:EST
DTSTART:20271107T060000
END:STANDARD
END:VTIMEZONE
BEGIN:VEVENT
DTSTART;TZID=America/New_York:20260726T140000
DTEND;TZID=America/New_York:20260726T170000
DTSTAMP:20260423T151341
CREATED:20260211T204405Z
LAST-MODIFIED:20260211T204405Z
UID:10003619-1785074400-1785085200@www.visitvermont.com
SUMMARY:1776 The Tony Award-Winning Musical
DESCRIPTION:The 1969 Tony Award-Winning Broadway Musical is coming to Wilmington! Performances will be at Memorial Hall\, Wilmington\, VT\, on the following dates. \n  \nFriday\, July 24 at 7 pm\nSaturday\, July 25 at 7 pm\nSunday\, July 26 at 2 pm\nFriday\, July 31 at 7 pm\nSaturday\, August 1 at 7 pm
URL:https://www.visitvermont.com/event/1776-the-tony-award-winning-musical-2/
LOCATION:Memorial Hall\, 14 West Main Street\, Wilmington\, VT\, 05363\, United States
ATTACH;FMTTYPE=application/pdf:https://www.visitvermont.com/wp-content/uploads/2026/02/Auditions-Poster-3.pdf
ORGANIZER;CN="Deerfield Valley Players":MAILTO:barbralipstadt@gmail.com
END:VEVENT
BEGIN:VEVENT
DTSTART;TZID=America/New_York:20260731T190000
DTEND;TZID=America/New_York:20260731T210000
DTSTAMP:20260423T151341
CREATED:20260211T204603Z
LAST-MODIFIED:20260211T204603Z
UID:10003620-1785524400-1785531600@www.visitvermont.com
SUMMARY:1776 The Tony Award-Winning Musical
DESCRIPTION:The 1969 Tony Award-Winning Broadway Musical is coming to Wilmington! Performances will be at Memorial Hall\, Wilmington\, VT\, on the following dates. \n  \nFriday\, July 24 at 7 pm\nSaturday\, July 25 at 7 pm\nSunday\, July 26 at 2 pm\nFriday\, July 31 at 7 pm\nSaturday\, August 1 at 7 pm
URL:https://www.visitvermont.com/event/1776-the-tony-award-winning-musical-3/
LOCATION:Memorial Hall\, 14 West Main Street\, Wilmington\, VT\, 05363\, United States
ATTACH;FMTTYPE=application/pdf:https://www.visitvermont.com/wp-content/uploads/2026/02/Auditions-Poster-4.pdf
ORGANIZER;CN="Deerfield Valley Players":MAILTO:barbralipstadt@gmail.com
END:VEVENT
BEGIN:VEVENT
DTSTART;TZID=America/New_York:20260801T190000
DTEND;TZID=America/New_York:20260801T210000
DTSTAMP:20260423T151341
CREATED:20260211T204713Z
LAST-MODIFIED:20260211T204713Z
UID:10003621-1785610800-1785618000@www.visitvermont.com
SUMMARY:1776 The Tony Award-Winning Musical
DESCRIPTION:The 1969 Tony Award-Winning Broadway Musical is coming to Wilmington! Performances will be at Memorial Hall\, Wilmington\, VT\, on the following dates. \n  \nFriday\, July 24 at 7 pm\nSaturday\, July 25 at 7 pm\nSunday\, July 26 at 2 pm\nFriday\, July 31 at 7 pm\nSaturday\, August 1 at 7 pm
URL:https://www.visitvermont.com/event/1776-the-tony-award-winning-musical-4/
LOCATION:Memorial Hall\, 14 West Main Street\, Wilmington\, VT\, 05363\, United States
ATTACH;FMTTYPE=application/pdf:https://www.visitvermont.com/wp-content/uploads/2026/02/Auditions-Poster-5.pdf
ORGANIZER;CN="Deerfield Valley Players":MAILTO:barbralipstadt@gmail.com
END:VEVENT
END:VCALENDAR