BEGIN:VCALENDAR
VERSION:2.0
PRODID:-//SVDV Chamber of Commerce - ECPv6.15.18//NONSGML v1.0//EN
CALSCALE:GREGORIAN
METHOD:PUBLISH
X-WR-CALNAME:SVDV Chamber of Commerce
X-ORIGINAL-URL:https://www.visitvermont.com
X-WR-CALDESC:Events for SVDV Chamber of Commerce
REFRESH-INTERVAL;VALUE=DURATION:PT1H
X-Robots-Tag:noindex
X-PUBLISHED-TTL:PT1H
BEGIN:VTIMEZONE
TZID:America/New_York
BEGIN:DAYLIGHT
TZOFFSETFROM:-0500
TZOFFSETTO:-0400
TZNAME:EDT
DTSTART:20250309T070000
END:DAYLIGHT
BEGIN:STANDARD
TZOFFSETFROM:-0400
TZOFFSETTO:-0500
TZNAME:EST
DTSTART:20251102T060000
END:STANDARD
BEGIN:DAYLIGHT
TZOFFSETFROM:-0500
TZOFFSETTO:-0400
TZNAME:EDT
DTSTART:20260308T070000
END:DAYLIGHT
BEGIN:STANDARD
TZOFFSETFROM:-0400
TZOFFSETTO:-0500
TZNAME:EST
DTSTART:20261101T060000
END:STANDARD
BEGIN:DAYLIGHT
TZOFFSETFROM:-0500
TZOFFSETTO:-0400
TZNAME:EDT
DTSTART:20270314T070000
END:DAYLIGHT
BEGIN:STANDARD
TZOFFSETFROM:-0400
TZOFFSETTO:-0500
TZNAME:EST
DTSTART:20271107T060000
END:STANDARD
END:VTIMEZONE
BEGIN:VEVENT
DTSTART;TZID=America/New_York:20260703T080000
DTEND;TZID=America/New_York:20260704T220000
DTSTAMP:20260419T234938
CREATED:20260407T171916Z
LAST-MODIFIED:20260407T171916Z
UID:10003636-1783065600-1783202400@www.visitvermont.com
SUMMARY:6th Annual Farm Road Music Fest
DESCRIPTION:6th Annual Farm Road Music Fest! SAVE THE DATE(s)July 3rd & 4th • West Dover\, VermontJoin us for TWO incredible nights of comedy\, live music\, local vibes\, in the heart of Vermont celebrating America’s 250 years of IndependenceJuly 3rd – Comedy Night At The Riverside BarnLaugh the night away with surrounded by good friends\, great energy\, and the perfect rustic backdrop.July 4th – LIVE MUSIC!At The EstateGet ready for an unforgettable time featuring:The Miles BandSherman HillThe Erica Reynolds BandMike McMannThe Ian Campbell BandWhether you’re here for the comedy\, music\, the mountains\, or the memories Farm Road Music Fest is the place to be this July!Tell your friends\, share the post\, and get ready for the best weekend of the summer.Tickets on sale March 4th\, 2026
URL:https://www.visitvermont.com/event/6th-annual-farm-road-music-fest/
LOCATION:Farm Road Estate\, 7 Cross Town Road\, West Dover\, VT\, 05356\, United States
ATTACH;FMTTYPE=image/jpeg:https://www.visitvermont.com/wp-content/uploads/2026/04/farm-road-estate-pond.jpg
END:VEVENT
END:VCALENDAR