BEGIN:VCALENDAR
VERSION:2.0
PRODID:-//SVDV Chamber of Commerce - ECPv6.15.18//NONSGML v1.0//EN
CALSCALE:GREGORIAN
METHOD:PUBLISH
X-WR-CALNAME:SVDV Chamber of Commerce
X-ORIGINAL-URL:https://www.visitvermont.com
X-WR-CALDESC:Events for SVDV Chamber of Commerce
REFRESH-INTERVAL;VALUE=DURATION:PT1H
X-Robots-Tag:noindex
X-PUBLISHED-TTL:PT1H
BEGIN:VTIMEZONE
TZID:America/New_York
BEGIN:DAYLIGHT
TZOFFSETFROM:-0500
TZOFFSETTO:-0400
TZNAME:EDT
DTSTART:20210314T070000
END:DAYLIGHT
BEGIN:STANDARD
TZOFFSETFROM:-0400
TZOFFSETTO:-0500
TZNAME:EST
DTSTART:20211107T060000
END:STANDARD
BEGIN:DAYLIGHT
TZOFFSETFROM:-0500
TZOFFSETTO:-0400
TZNAME:EDT
DTSTART:20220313T070000
END:DAYLIGHT
BEGIN:STANDARD
TZOFFSETFROM:-0400
TZOFFSETTO:-0500
TZNAME:EST
DTSTART:20221106T060000
END:STANDARD
BEGIN:DAYLIGHT
TZOFFSETFROM:-0500
TZOFFSETTO:-0400
TZNAME:EDT
DTSTART:20230312T070000
END:DAYLIGHT
BEGIN:STANDARD
TZOFFSETFROM:-0400
TZOFFSETTO:-0500
TZNAME:EST
DTSTART:20231105T060000
END:STANDARD
BEGIN:DAYLIGHT
TZOFFSETFROM:-0500
TZOFFSETTO:-0400
TZNAME:EDT
DTSTART:20240310T070000
END:DAYLIGHT
BEGIN:STANDARD
TZOFFSETFROM:-0400
TZOFFSETTO:-0500
TZNAME:EST
DTSTART:20241103T060000
END:STANDARD
BEGIN:DAYLIGHT
TZOFFSETFROM:-0500
TZOFFSETTO:-0400
TZNAME:EDT
DTSTART:20250309T070000
END:DAYLIGHT
BEGIN:STANDARD
TZOFFSETFROM:-0400
TZOFFSETTO:-0500
TZNAME:EST
DTSTART:20251102T060000
END:STANDARD
END:VTIMEZONE
BEGIN:VEVENT
DTSTART;TZID=America/New_York:20240814T190000
DTEND;TZID=America/New_York:20240817T190000
DTSTAMP:20260424T093115
CREATED:20240509T150900Z
LAST-MODIFIED:20240724T185458Z
UID:10001035-1723662000-1723921200@www.visitvermont.com
SUMMARY:XANADU presented by the Deerfield Valley Players
DESCRIPTION:XANADU \, the 2007 award-nominated musical about following your dreams despite the limitations that others set for you\, will be presented by the Deerfield Valley Players at 7:30 pm on August 14\, 15\, 16\, and 17 at Memorial Hall\, 14 West Main Street\, Wilmington\, Vermont.\n\nXANADU is a comedy jukebox musical adapted for the stage from the 1980’s movie of the same name. While the film was a box office flop\, the 2007 Broadway musical is an absolute gem of 1980’s cheesy dialogue and disco.\n\nIt features an unconventional campy story that blends the golden age of 1940’s musicals and 1980’s new wave sound.  Mythological Greek muses come to life after being sketched by a surfer/dude sidewalk artist in Venice\, California.\nCharacters whirl around in a roller disco\, and the pop sound track sets the tone for a 90 minute fan-favorite show.\n\nThe production is directed by Caden Ari Adair\, who will also play the leading role.  Barbara Lipstadt\, founder of the Deerfield Valley Players\, is the musical director.  Local actors include Carrie Blake\, Joanne Bourbeau\, George Adair\, Hillary Smite\, AJ Kuusinen\, Mary Reilly\, Bashtian Morehead\, Jo Swani\, Nikhil Swani\, and Steve Teisch. John Iverson will provide lighting and sound and the set was designed by Caden Adair.\n\nTickets (adults – $18 and students – $12) are available at events.com and Bartleby’s Book Store in Wilmington. Performance rights are from Music Theater International and the show is sponsored by Friends of Historic Memorial Hall.
URL:https://www.visitvermont.com/event/xanadu-presented-by-the-deerfield-valley-players/
LOCATION:Memorial Hall\, 14 West Main Street\, Wilmington\, VT\, 05363\, United States
ATTACH;FMTTYPE=image/png:https://www.visitvermont.com/wp-content/uploads/2024/05/xanadu-poster-1.png
END:VEVENT
BEGIN:VEVENT
DTSTART;TZID=America/New_York:20230805T193000
DTEND;TZID=America/New_York:20230805T213000
DTSTAMP:20260424T093115
CREATED:20230526T222717Z
LAST-MODIFIED:20230526T222717Z
UID:10000580-1691263800-1691271000@www.visitvermont.com
SUMMARY:Deerfield Valley Players in the production of PIPPIN
DESCRIPTION:Friends of Historic Memorial Hall presents the Deerfield Valley Players in the production of PIPPIN (2013 Broadway Revival) the musical\, with music and lyrics by Stephen Schwartz\, book by Roger O. Hirson\, originally produced by Stuart Ostrow and originally directed by Bob Fosse. \nHistoric Memorial Hall\, 14 West Main Street\, Wilmington\, VT. House opens 7pm\, show at 7:30p nightly. Tickets available as of June 1 at events.com and at Bartleby’s Books\, 17 West Main Street\, Wilmington\, VT.
URL:https://www.visitvermont.com/event/deerfield-valley-players-in-the-production-of-pippin/2023-08-05/
LOCATION:Memorial Hall\, 14 West Main Street\, Wilmington\, VT\, 05363\, United States
ATTACH;FMTTYPE=image/jpeg:https://www.visitvermont.com/wp-content/uploads/2023/05/348968941_3615773462081223_1843014869932707460_n.jpg
END:VEVENT
BEGIN:VEVENT
DTSTART;TZID=America/New_York:20230804T193000
DTEND;TZID=America/New_York:20230804T213000
DTSTAMP:20260424T093115
CREATED:20230526T222717Z
LAST-MODIFIED:20230526T222717Z
UID:10000579-1691177400-1691184600@www.visitvermont.com
SUMMARY:Deerfield Valley Players in the production of PIPPIN
DESCRIPTION:Friends of Historic Memorial Hall presents the Deerfield Valley Players in the production of PIPPIN (2013 Broadway Revival) the musical\, with music and lyrics by Stephen Schwartz\, book by Roger O. Hirson\, originally produced by Stuart Ostrow and originally directed by Bob Fosse. \nHistoric Memorial Hall\, 14 West Main Street\, Wilmington\, VT. House opens 7pm\, show at 7:30p nightly. Tickets available as of June 1 at events.com and at Bartleby’s Books\, 17 West Main Street\, Wilmington\, VT.
URL:https://www.visitvermont.com/event/deerfield-valley-players-in-the-production-of-pippin/2023-08-04/
LOCATION:Memorial Hall\, 14 West Main Street\, Wilmington\, VT\, 05363\, United States
ATTACH;FMTTYPE=image/jpeg:https://www.visitvermont.com/wp-content/uploads/2023/05/348968941_3615773462081223_1843014869932707460_n.jpg
END:VEVENT
BEGIN:VEVENT
DTSTART;TZID=America/New_York:20230803T193000
DTEND;TZID=America/New_York:20230803T213000
DTSTAMP:20260424T093115
CREATED:20230526T222717Z
LAST-MODIFIED:20230526T222717Z
UID:10000578-1691091000-1691098200@www.visitvermont.com
SUMMARY:Deerfield Valley Players in the production of PIPPIN
DESCRIPTION:Friends of Historic Memorial Hall presents the Deerfield Valley Players in the production of PIPPIN (2013 Broadway Revival) the musical\, with music and lyrics by Stephen Schwartz\, book by Roger O. Hirson\, originally produced by Stuart Ostrow and originally directed by Bob Fosse. \nHistoric Memorial Hall\, 14 West Main Street\, Wilmington\, VT. House opens 7pm\, show at 7:30p nightly. Tickets available as of June 1 at events.com and at Bartleby’s Books\, 17 West Main Street\, Wilmington\, VT.
URL:https://www.visitvermont.com/event/deerfield-valley-players-in-the-production-of-pippin/2023-08-03/
LOCATION:Memorial Hall\, 14 West Main Street\, Wilmington\, VT\, 05363\, United States
ATTACH;FMTTYPE=image/jpeg:https://www.visitvermont.com/wp-content/uploads/2023/05/348968941_3615773462081223_1843014869932707460_n.jpg
END:VEVENT
BEGIN:VEVENT
DTSTART;TZID=America/New_York:20221217T140000
DTEND;TZID=America/New_York:20221217T170000
DTSTAMP:20260424T093115
CREATED:20221206T153108Z
LAST-MODIFIED:20221216T185400Z
UID:10000484-1671285600-1671296400@www.visitvermont.com
SUMMARY:A Christmas Carol at Memorial Hall
DESCRIPTION:****Update — Due to the wonderful snow\, the Play has been postponed until Sunday\, December 18th.  ****** \nThe Friends of Historic Memorial Hall presents  \nCharles’ Dickens A Christmas Carol. A 1930’s Radio Play \nSaturday December 17th \n(Snow Date December 18th ) \nDoors open at 1:30pm \nShowtime 2pm \nMinimum donation per ticket $5.00 \nAll donations from this performance to benefit The Deerfield Valley Food Pantry. \nAbout the Deerfield Valley Food Pantry \nThe mission of the Deerfield Valley Food Pantry (DVFP) is to see that no one in the area goes needlessly hungry\, or lacks the basics for personal care. They provide to all those who ask for assistance. Serving Wilmington\, Whitingham\, Jacksonville\, Dover\, Readsboro\, Marlboro\, Halifax\, and Searsburg\, the DVFP relies on donations of food items\, the financial support of local churches\, towns\, organizations and individuals\, plus an annual membership drive to make sure our shelves are never empty. The DVFP is a 501(c)(3) organization and a member of the Vermont Foodbank. \nhttp://www.deerfieldvalleyfoodpantry.org/ \nAbout the Performance \nRelive the days of old-time radio of A Christmas Carol\, a 1930’s Radio Play. See\nCharles Dickens’ magical story of the moral redemption of Ebenezer Scrooge performed by six actors playing a host of delightful characters\, including ghosts\, Jacob Marley\, TinyTim and more. The production will also highlight commercials from the glory days of radio. Come join the fun and experience this classic story that celebrates the rebirth of the human spirit. \nA Christmas Carol\, a 1930’s Radio Play is the ultimate family show\nwith something to delight the youngest to the eldest member of the audience.\nCompany: Actors\, Michael Haley\, Joan Haley\, John Reese\, Thom Griffin\, Ann\nSteinhauser\, and Brooke Steinhauser with John Iverson’s creative commercials and\nJohn Reese’s direction. \nA Christmas Carol\, by Charles Dickens\, published in 1843 in London\, is one of the most beloved stories of the holiday season. This unique tale is shaped so that it becomes a celebration of the human spirit\, as the old curmudgeon\, Ebenezer Scrooge\, is given a chance to reawaken his conscience and experience a rebirth of his humanity \nThis performance has been made possible with the generous donations from Denise and Dickie Deutsch\, Marcia and Joe Rosen and Adele and Richard Mattern. \nWe thank you for your support! \n 
URL:https://www.visitvermont.com/event/a-christmas-carol-at-memorial-hall/
LOCATION:Memorial Hall\, 14 West Main Street\, Wilmington\, VT\, 05363\, United States
END:VEVENT
END:VCALENDAR