BEGIN:VCALENDAR
VERSION:2.0
PRODID:-//SVDV Chamber of Commerce - ECPv6.15.18//NONSGML v1.0//EN
CALSCALE:GREGORIAN
METHOD:PUBLISH
X-WR-CALNAME:SVDV Chamber of Commerce
X-ORIGINAL-URL:https://www.visitvermont.com
X-WR-CALDESC:Events for SVDV Chamber of Commerce
REFRESH-INTERVAL;VALUE=DURATION:PT1H
X-Robots-Tag:noindex
X-PUBLISHED-TTL:PT1H
BEGIN:VTIMEZONE
TZID:America/New_York
BEGIN:DAYLIGHT
TZOFFSETFROM:-0500
TZOFFSETTO:-0400
TZNAME:EDT
DTSTART:20230312T070000
END:DAYLIGHT
BEGIN:STANDARD
TZOFFSETFROM:-0400
TZOFFSETTO:-0500
TZNAME:EST
DTSTART:20231105T060000
END:STANDARD
BEGIN:DAYLIGHT
TZOFFSETFROM:-0500
TZOFFSETTO:-0400
TZNAME:EDT
DTSTART:20240310T070000
END:DAYLIGHT
BEGIN:STANDARD
TZOFFSETFROM:-0400
TZOFFSETTO:-0500
TZNAME:EST
DTSTART:20241103T060000
END:STANDARD
BEGIN:DAYLIGHT
TZOFFSETFROM:-0500
TZOFFSETTO:-0400
TZNAME:EDT
DTSTART:20250309T070000
END:DAYLIGHT
BEGIN:STANDARD
TZOFFSETFROM:-0400
TZOFFSETTO:-0500
TZNAME:EST
DTSTART:20251102T060000
END:STANDARD
BEGIN:DAYLIGHT
TZOFFSETFROM:-0500
TZOFFSETTO:-0400
TZNAME:EDT
DTSTART:20260308T070000
END:DAYLIGHT
BEGIN:STANDARD
TZOFFSETFROM:-0400
TZOFFSETTO:-0500
TZNAME:EST
DTSTART:20261101T060000
END:STANDARD
END:VTIMEZONE
BEGIN:VEVENT
DTSTART;TZID=America/New_York:20251213T100000
DTEND;TZID=America/New_York:20251213T150000
DTSTAMP:20260424T075902
CREATED:20251201T191553Z
LAST-MODIFIED:20251201T191553Z
UID:10003529-1765620000-1765638000@www.visitvermont.com
SUMMARY:Bright Lights Craft Fair
DESCRIPTION:Join us for this fun and festive show and help support our local artists and crafters. Come in out of the cold and connect with your neighbors. There will be a bake sale and a raffle. December 13\, 10 am – 3 pm at historic Memorial Hall on Main Street in Wilmington\, Vermont.
URL:https://www.visitvermont.com/event/bright-lights-craft-fair/
LOCATION:Memorial Hall\, 14 West Main Street\, Wilmington\, VT\, 05363\, United States
ATTACH;FMTTYPE=image/jpeg:https://www.visitvermont.com/wp-content/uploads/2025/12/bright-lights-craft-fair-wilmington.jpeg
ORGANIZER;CN="I Love Art Space":MAILTO:iloveartspace22@gmail.com 
END:VEVENT
BEGIN:VEVENT
DTSTART;TZID=America/New_York:20251213T100000
DTEND;TZID=America/New_York:20251213T150000
DTSTAMP:20260424T075902
CREATED:20251201T191253Z
LAST-MODIFIED:20251201T191253Z
UID:10003528-1765620000-1765638000@www.visitvermont.com
SUMMARY:Dover Holiday Craft Fair and Visit From Santa
DESCRIPTION:Craft fair with local vendors and visit from Santa!
URL:https://www.visitvermont.com/event/dover-holiday-craft-fair-and-visit-from-santa/
LOCATION:East Dover Town Hall\, 189 Taft Brook Rd\, East Dover\, VT\, United States
ATTACH;FMTTYPE=image/png:https://www.visitvermont.com/wp-content/uploads/2025/12/Santa-Dover-craft-fair.png
ORGANIZER;CN="I Love Art Space":MAILTO:iloveartspace22@gmail.com 
END:VEVENT
BEGIN:VEVENT
DTSTART;TZID=America/New_York:20251130T100000
DTEND;TZID=America/New_York:20251130T130000
DTSTAMP:20260424T075902
CREATED:20251112T210641Z
LAST-MODIFIED:20251112T210641Z
UID:10003516-1764496800-1764507600@www.visitvermont.com
SUMMARY:Santa at the Dover Craft Fair
DESCRIPTION:Visit the Dover Craft fair\, by I Love Art Space\, to see Santa
URL:https://www.visitvermont.com/event/santa-at-the-dover-craft-fair/
LOCATION:East Dover Town Hall\, 189 Taft Brook Rd\, East Dover\, VT\, United States
ATTACH;FMTTYPE=image/png:https://www.visitvermont.com/wp-content/uploads/2025/11/Screenshot-2025-11-12-at-4.04.10-PM.png
ORGANIZER;CN="I Love Art Space":MAILTO:iloveartspace22@gmail.com 
END:VEVENT
BEGIN:VEVENT
DTSTART;VALUE=DATE:20250524
DTEND;VALUE=DATE:20250526
DTSTAMP:20260424T075902
CREATED:20250422T012425Z
LAST-MODIFIED:20250422T012425Z
UID:10001777-1748044800-1748217599@www.visitvermont.com
SUMMARY:Vermont Crafts Council Open Studio
DESCRIPTION:
URL:https://www.visitvermont.com/event/vermont-crafts-council-open-studio/
LOCATION:I love Art Space\, 171 Vermont Rte 100\, West Dover\, VT\, 05356\, United States
ATTACH;FMTTYPE=image/jpeg:https://www.visitvermont.com/wp-content/uploads/2024/05/iloveartspacewithbackground-scaled.jpg
ORGANIZER;CN="I Love Art Space":MAILTO:iloveartspace22@gmail.com 
END:VEVENT
BEGIN:VEVENT
DTSTART;TZID=America/New_York:20250322T093000
DTEND;TZID=America/New_York:20250322T153000
DTSTAMP:20260424T075902
CREATED:20250129T155519Z
LAST-MODIFIED:20250129T155538Z
UID:10001315-1742635800-1742657400@www.visitvermont.com
SUMMARY:Maple Festival Craft Fair
DESCRIPTION:  \nMaple Festival Craft Fair presented by I Love Art Space on March 22 \n  \n(Snow date 3/23/25)
URL:https://www.visitvermont.com/event/9747/
LOCATION:I love Art Space\, 171 Vermont Rte 100\, West Dover\, VT\, 05356\, United States
ATTACH;FMTTYPE=image/jpeg:https://www.visitvermont.com/wp-content/uploads/2025/01/4b678999-eda0-2447-9334-70e847b4d77b.jpeg
ORGANIZER;CN="I Love Art Space":MAILTO:iloveartspace22@gmail.com 
END:VEVENT
BEGIN:VEVENT
DTSTART;TZID=America/New_York:20250215T110000
DTEND;TZID=America/New_York:20250215T150000
DTSTAMP:20260424T075902
CREATED:20250128T204338Z
LAST-MODIFIED:20250128T204927Z
UID:10001311-1739617200-1739631600@www.visitvermont.com
SUMMARY:Valentine's Party at I Love Art Space
DESCRIPTION:Come and join us and craft Valentine’s decorations and card.  There will also be yummy valentine’s cookie decorations.  This event is by donation at the door.
URL:https://www.visitvermont.com/event/valentines-party-at-i-love-art-space/
LOCATION:I love Art Space\, 171 Vermont Rte 100\, West Dover\, VT\, 05356\, United States
ATTACH;FMTTYPE=image/jpeg:https://www.visitvermont.com/wp-content/uploads/2025/01/474075352_1026546472851433_7189693842477666363_n.jpg
ORGANIZER;CN="I Love Art Space":MAILTO:iloveartspace22@gmail.com 
END:VEVENT
BEGIN:VEVENT
DTSTART;TZID=America/New_York:20250103T110000
DTEND;TZID=America/New_York:20250103T160000
DTSTAMP:20260424T075902
CREATED:20241231T191550Z
LAST-MODIFIED:20241231T191550Z
UID:10001267-1735902000-1735920000@www.visitvermont.com
SUMMARY:I Love Art Space Kids Event
DESCRIPTION:I Love Art for Kids – Drop  In – A variety of seasonal crafts for children of all ages. \nBy donation\, limit one craft per child.
URL:https://www.visitvermont.com/event/i-love-art-space-kids-event/
LOCATION:I love Art Space\, 171 Vermont Rte 100\, West Dover\, VT\, 05356\, United States
ATTACH;FMTTYPE=application/pdf:https://www.visitvermont.com/wp-content/uploads/2024/12/schedulefor1224-1.pdf
ORGANIZER;CN="I Love Art Space":MAILTO:iloveartspace22@gmail.com 
END:VEVENT
BEGIN:VEVENT
DTSTART;TZID=America/New_York:20250102T110000
DTEND;TZID=America/New_York:20250102T160000
DTSTAMP:20260424T075902
CREATED:20241231T191330Z
LAST-MODIFIED:20241231T191330Z
UID:10001266-1735815600-1735833600@www.visitvermont.com
SUMMARY:I Love Art for Kids - Treasure Boxes
DESCRIPTION:I Love Art for Kids – Drop  In – A variety of seasonal crafts for children of all ages. \nBy donation\, limit one craft per child.
URL:https://www.visitvermont.com/event/i-love-art-for-kids-treasure-boxes/
LOCATION:I love Art Space\, 171 Vermont Rte 100\, West Dover\, VT\, 05356\, United States
ATTACH;FMTTYPE=application/pdf:https://www.visitvermont.com/wp-content/uploads/2024/12/schedulefor1224.pdf
ORGANIZER;CN="I Love Art Space":MAILTO:iloveartspace22@gmail.com 
END:VEVENT
BEGIN:VEVENT
DTSTART;TZID=America/New_York:20241221T090000
DTEND;TZID=America/New_York:20241221T160000
DTSTAMP:20260424T075902
CREATED:20241203T173348Z
LAST-MODIFIED:20241203T173348Z
UID:10001252-1734771600-1734796800@www.visitvermont.com
SUMMARY:Winter Flower Power\, Water Color Painting\, Paper floral Arrangement & Lunch
DESCRIPTION:Join Carol Sewall and Jane May Jones for a fun day of creativity and lunch at I Love Art Space. In the morning we will paint a beautiful watercolor\, step by step\, no experience necessary and Carol will teach you how to create a crepe paper flower arrangement for your holiday table. Visit https://iloveartspace.com/ to purchase a spot!
URL:https://www.visitvermont.com/event/winter-flower-power-water-color-painting-paper-floral-arrangement-lunch/
LOCATION:I love Art Space\, 171 Vermont Rte 100\, West Dover\, VT\, 05356\, United States
ORGANIZER;CN="I Love Art Space":MAILTO:iloveartspace22@gmail.com 
END:VEVENT
BEGIN:VEVENT
DTSTART;TZID=America/New_York:20241214T100000
DTEND;TZID=America/New_York:20241214T160000
DTSTAMP:20260424T075902
CREATED:20241203T172525Z
LAST-MODIFIED:20241203T172525Z
UID:10001251-1734170400-1734192000@www.visitvermont.com
SUMMARY:Dover Holiday Craft Fair Dover Town Hall
DESCRIPTION:Don’t miss out on the annual Dover Holiday Craft Fair\, shop local artists and crafters at the East Dover Town Hall!
URL:https://www.visitvermont.com/event/dover-holiday-craft-fair-dover-town-hall/
LOCATION:East Dover Town Hall\, 189 Taft Brook Rd\, East Dover\, VT\, United States
ATTACH;FMTTYPE=image/jpeg:https://www.visitvermont.com/wp-content/uploads/2024/12/2024-craft-fair-ad-2-1024x791-1.jpg
ORGANIZER;CN="I Love Art Space":MAILTO:iloveartspace22@gmail.com 
END:VEVENT
BEGIN:VEVENT
DTSTART;TZID=America/New_York:20241207T160000
DTEND;TZID=America/New_York:20241207T180000
DTSTAMP:20260424T075902
CREATED:20241203T174402Z
LAST-MODIFIED:20241203T174402Z
UID:10001253-1733587200-1733594400@www.visitvermont.com
SUMMARY:I Love Art for Winter Artists Reception
DESCRIPTION:  \n \nJoin us for the celebration of Winter art at The Gallery at I Love Art Space! December 7th from 4:00pm to 6:00pm – free admission.
URL:https://www.visitvermont.com/event/i-love-art-for-winter-artists-reception/
LOCATION:I love Art Space\, 171 Vermont Rte 100\, West Dover\, VT\, 05356\, United States
ATTACH;FMTTYPE=image/jpeg:https://www.visitvermont.com/wp-content/uploads/2024/12/image10.jpeg
ORGANIZER;CN="I Love Art Space":MAILTO:iloveartspace22@gmail.com 
END:VEVENT
END:VCALENDAR