BEGIN:VCALENDAR
VERSION:2.0
PRODID:-//SVDV Chamber of Commerce - ECPv6.15.18//NONSGML v1.0//EN
CALSCALE:GREGORIAN
METHOD:PUBLISH
X-WR-CALNAME:SVDV Chamber of Commerce
X-ORIGINAL-URL:https://www.visitvermont.com
X-WR-CALDESC:Events for SVDV Chamber of Commerce
REFRESH-INTERVAL;VALUE=DURATION:PT1H
X-Robots-Tag:noindex
X-PUBLISHED-TTL:PT1H
BEGIN:VTIMEZONE
TZID:America/New_York
BEGIN:DAYLIGHT
TZOFFSETFROM:-0500
TZOFFSETTO:-0400
TZNAME:EDT
DTSTART:20240310T070000
END:DAYLIGHT
BEGIN:STANDARD
TZOFFSETFROM:-0400
TZOFFSETTO:-0500
TZNAME:EST
DTSTART:20241103T060000
END:STANDARD
BEGIN:DAYLIGHT
TZOFFSETFROM:-0500
TZOFFSETTO:-0400
TZNAME:EDT
DTSTART:20250309T070000
END:DAYLIGHT
BEGIN:STANDARD
TZOFFSETFROM:-0400
TZOFFSETTO:-0500
TZNAME:EST
DTSTART:20251102T060000
END:STANDARD
BEGIN:DAYLIGHT
TZOFFSETFROM:-0500
TZOFFSETTO:-0400
TZNAME:EDT
DTSTART:20260308T070000
END:DAYLIGHT
BEGIN:STANDARD
TZOFFSETFROM:-0400
TZOFFSETTO:-0500
TZNAME:EST
DTSTART:20261101T060000
END:STANDARD
END:VTIMEZONE
BEGIN:VEVENT
DTSTART;TZID=America/New_York:20250723T120000
DTEND;TZID=America/New_York:20250723T180000
DTSTAMP:20260424T020648
CREATED:20250519T004327Z
LAST-MODIFIED:20250519T004942Z
UID:10001790-1753272000-1753293600@www.visitvermont.com
SUMMARY:40th Annual Interaction Golf Tournament (formerly Youth Services)
DESCRIPTION:You’re Invited to a Milestone Celebration! ️\nJoin us for an unforgettable day on the green as we celebrate a memorable milestone in style! ️\nDate: Wednesday\, July 23\, 2025\nShotgun Start: 12:00 PM\nLocation: Brattleboro Country Club\nEnjoy a full day of golf and fun! Prizes for the best well dressed team!\nLunch & Banquet Dinner at Bella Notte Restaurant\nHelicopter Golf Ball Drop\nRegistration: $160 per individual / $640 per foursome\nRegister now to secure your spot
URL:https://www.visitvermont.com/event/interaction-golf-tournament/
LOCATION:Brattleboro Country Club
ATTACH;FMTTYPE=image/png:https://www.visitvermont.com/wp-content/uploads/2025/05/Golf-Tournament-Interaction-Flyer.png
END:VEVENT
END:VCALENDAR