BEGIN:VCALENDAR
VERSION:2.0
PRODID:-//SVDV Chamber of Commerce - ECPv6.15.18//NONSGML v1.0//EN
CALSCALE:GREGORIAN
METHOD:PUBLISH
X-WR-CALNAME:SVDV Chamber of Commerce
X-ORIGINAL-URL:https://www.visitvermont.com
X-WR-CALDESC:Events for SVDV Chamber of Commerce
REFRESH-INTERVAL;VALUE=DURATION:PT1H
X-Robots-Tag:noindex
X-PUBLISHED-TTL:PT1H
BEGIN:VTIMEZONE
TZID:America/New_York
BEGIN:DAYLIGHT
TZOFFSETFROM:-0500
TZOFFSETTO:-0400
TZNAME:EDT
DTSTART:20210314T070000
END:DAYLIGHT
BEGIN:STANDARD
TZOFFSETFROM:-0400
TZOFFSETTO:-0500
TZNAME:EST
DTSTART:20211107T060000
END:STANDARD
BEGIN:DAYLIGHT
TZOFFSETFROM:-0500
TZOFFSETTO:-0400
TZNAME:EDT
DTSTART:20220313T070000
END:DAYLIGHT
BEGIN:STANDARD
TZOFFSETFROM:-0400
TZOFFSETTO:-0500
TZNAME:EST
DTSTART:20221106T060000
END:STANDARD
BEGIN:DAYLIGHT
TZOFFSETFROM:-0500
TZOFFSETTO:-0400
TZNAME:EDT
DTSTART:20230312T070000
END:DAYLIGHT
BEGIN:STANDARD
TZOFFSETFROM:-0400
TZOFFSETTO:-0500
TZNAME:EST
DTSTART:20231105T060000
END:STANDARD
BEGIN:DAYLIGHT
TZOFFSETFROM:-0500
TZOFFSETTO:-0400
TZNAME:EDT
DTSTART:20240310T070000
END:DAYLIGHT
BEGIN:STANDARD
TZOFFSETFROM:-0400
TZOFFSETTO:-0500
TZNAME:EST
DTSTART:20241103T060000
END:STANDARD
BEGIN:DAYLIGHT
TZOFFSETFROM:-0500
TZOFFSETTO:-0400
TZNAME:EDT
DTSTART:20250309T070000
END:DAYLIGHT
BEGIN:STANDARD
TZOFFSETFROM:-0400
TZOFFSETTO:-0500
TZNAME:EST
DTSTART:20251102T060000
END:STANDARD
BEGIN:DAYLIGHT
TZOFFSETFROM:-0500
TZOFFSETTO:-0400
TZNAME:EDT
DTSTART:20260308T070000
END:DAYLIGHT
BEGIN:STANDARD
TZOFFSETFROM:-0400
TZOFFSETTO:-0500
TZNAME:EST
DTSTART:20261101T060000
END:STANDARD
END:VTIMEZONE
BEGIN:VEVENT
DTSTART;TZID=America/New_York:20250322T100000
DTEND;TZID=America/New_York:20250322T113000
DTSTAMP:20260420T034611
CREATED:20250316T234526Z
LAST-MODIFIED:20250316T234526Z
UID:10001761-1742637600-1742643000@www.visitvermont.com
SUMMARY:Wildwoods Ramble with Vermont Natural History Museum
DESCRIPTION:Wildwoods Ramble\n\nJoin the Vermont Museum of Natural History staff at 10:00 AM on March 22nd to trek around in the woods! We’ll gather in the lot at our Pool Nature Center and head off into the surrounding forest. We’ll take the teachable moments as they come\, but our main focus will be on exploring and seeking out signs of spring. Watch www.facebook.com/vermontmuseum for a conditions update\, but expect snow and mud! Be sure to dress for the weather and with appropriate footwear. This walk is appropriate for all ages but will include walking off trail and through potentially rough and slippery conditions.\n\nDonations are appreciated to support our programming and care for our non-releasable animals.\nThe Pool Nature Center is located at 117 Adams Crossroad in Marlboro\, VT
URL:https://www.visitvermont.com/event/wildwoods-ramble-with-vermont-natural-history-museum/
LOCATION:Pool Nature Center\, 117 Adams Cross Rd\, Marlboro\, VT\, 05301\, United States
ATTACH;FMTTYPE=image/jpeg:https://www.visitvermont.com/wp-content/uploads/2025/03/beaver-walk-scaled.jpg
END:VEVENT
BEGIN:VEVENT
DTSTART;TZID=America/New_York:20240922T100000
DTEND;TZID=America/New_York:20240922T160000
DTSTAMP:20260420T034611
CREATED:20240823T164022Z
LAST-MODIFIED:20240823T164022Z
UID:10001230-1726999200-1727020800@www.visitvermont.com
SUMMARY:Vermont Wildlife Festival
DESCRIPTION:September 22nd 2024 10:00am – 4:00pm\n\nIn partnership with the Southern Vermont Deerfield Valley Chamber of Commerce\, the Town of Dover Vermont and Mount Snow Resorts\, The Vermont Museum of Natural History is pleased to return to Mount Snow with our 14th Vermont Wildlife Festival! This event will bring together dozens of organizations connected to the outdoors in New England. Learn about flyfishing\, the VT Bear Project \, Turtle Rescue and Outdoor Survival!  Meet live animals\, enjoy kid’s activities\, great food and presentations from organizations from around the region.\n\nAdmission is by donation and goes to support the costs of the festival and the Museum’s education programs.\nVisit www.vermontmuseum.org for more information.
URL:https://www.visitvermont.com/event/vermont-wildlife-festival/
LOCATION:Mount Snow Resort\, 39 Mount Snow Rd\, West Dover\, VT\, 05356\, United States
ATTACH;FMTTYPE=image/jpeg:https://www.visitvermont.com/wp-content/uploads/2024/08/71187584_703457293453907_7966430165255323648_n-scaled.jpg
END:VEVENT
BEGIN:VEVENT
DTSTART;TZID=America/New_York:20240901T140000
DTEND;TZID=America/New_York:20240901T150000
DTSTAMP:20260420T034611
CREATED:20240718T150921Z
LAST-MODIFIED:20240718T150921Z
UID:10001192-1725199200-1725202800@www.visitvermont.com
SUMMARY:Turtle Yoga at Pool Nature Center
DESCRIPTION:Join Amy of Weeping Willow Yoga and have a yoga class with the Museum’s Turtles! \nA portion of the proceeds will be donated to the Pool Nature Center for the care and keeping of their animals.
URL:https://www.visitvermont.com/event/turtle-yoga-at-pool-nature-center/
LOCATION:Pool Nature Center\, 117 Adams Cross Rd\, Marlboro\, VT\, 05301\, United States
ATTACH;FMTTYPE=image/png:https://www.visitvermont.com/wp-content/uploads/2024/07/turtle-yoga-4.png
END:VEVENT
BEGIN:VEVENT
DTSTART;TZID=America/New_York:20240824T110000
DTEND;TZID=America/New_York:20240824T130000
DTSTAMP:20260420T034611
CREATED:20240812T160015Z
LAST-MODIFIED:20240812T160015Z
UID:10001218-1724497200-1724504400@www.visitvermont.com
SUMMARY:Animal Enrichment Building at Pool Nature Center
DESCRIPTION:Come help Museum Staff build enrichment for the enclosures! Enrichment is so important for our animals\, and we would love your help!
URL:https://www.visitvermont.com/event/animal-enrichment-building-at-pool-nature-center/
LOCATION:Pool Nature Center\, 117 Adams Cross Rd\, Marlboro\, VT\, 05301\, United States
ATTACH;FMTTYPE=image/png:https://www.visitvermont.com/wp-content/uploads/2024/08/Enrichment-Building-824-2.png
END:VEVENT
BEGIN:VEVENT
DTSTART;TZID=America/New_York:20240817T110000
DTEND;TZID=America/New_York:20240817T130000
DTSTAMP:20260420T034611
CREATED:20240703T152722Z
LAST-MODIFIED:20240703T152722Z
UID:10001177-1723892400-1723899600@www.visitvermont.com
SUMMARY:Turtle Romp at the Pool Nature Center
DESCRIPTION:Come meet and learn about the Museum’s Turtles at their Pool Nature Center!
URL:https://www.visitvermont.com/event/turtle-romp-at-the-pool-nature-center/
LOCATION:Pool Nature Center\, 117 Adams Cross Rd\, Marlboro\, VT\, 05301\, United States
ATTACH;FMTTYPE=image/png:https://www.visitvermont.com/wp-content/uploads/2024/07/Turtle-Romp.png
END:VEVENT
BEGIN:VEVENT
DTSTART;TZID=America/New_York:20240803T110000
DTEND;TZID=America/New_York:20240803T130000
DTSTAMP:20260420T034611
CREATED:20240703T151705Z
LAST-MODIFIED:20240703T151705Z
UID:10001175-1722682800-1722690000@www.visitvermont.com
SUMMARY:Explore Your Animal Senses at the Pool Nature Center!
DESCRIPTION:Learn with museum staff at this interactive exhibit!
URL:https://www.visitvermont.com/event/explore-your-animal-senses-at-the-pool-nature-center/
LOCATION:Pool Nature Center\, 117 Adams Cross Rd\, Marlboro\, VT\, 05301\, United States
ATTACH;FMTTYPE=image/png:https://www.visitvermont.com/wp-content/uploads/2024/07/Animal-Senses.png
END:VEVENT
BEGIN:VEVENT
DTSTART;TZID=America/New_York:20240727T110000
DTEND;TZID=America/New_York:20240727T130000
DTSTAMP:20260420T034611
CREATED:20240702T200220Z
LAST-MODIFIED:20240702T200221Z
UID:10001170-1722078000-1722085200@www.visitvermont.com
SUMMARY:Vermont Wildlife at the Pool Nature Center
DESCRIPTION:Come meet the Wildlife of the Vermont Museum of Natural History at the Pool Nature Center!
URL:https://www.visitvermont.com/event/vermont-wildlife-at-the-pool-nature-center/
LOCATION:Pool Nature Center\, 117 Adams Cross Rd\, Marlboro\, VT\, 05301\, United States
ATTACH;FMTTYPE=image/png:https://www.visitvermont.com/wp-content/uploads/2024/06/Vermont-Wildlife.png
END:VEVENT
BEGIN:VEVENT
DTSTART;TZID=America/New_York:20240720T110000
DTEND;TZID=America/New_York:20240720T110000
DTSTAMP:20260420T034611
CREATED:20240702T200325Z
LAST-MODIFIED:20240702T200325Z
UID:10001169-1721473200-1721473200@www.visitvermont.com
SUMMARY:Mushroom Walk at Pool Nature Center with Vermont Mycological Society
DESCRIPTION:Come to the Pool Nature Center to take a walk through the woods and hunt for mushrooms with the Vermont Mycological Society!
URL:https://www.visitvermont.com/event/mushroom-walk-at-pool-nature-center-with-vermont-mycological-society/
LOCATION:Pool Nature Center\, 117 Adams Cross Rd\, Marlboro\, VT\, 05301\, United States
ATTACH;FMTTYPE=image/png:https://www.visitvermont.com/wp-content/uploads/2024/06/Mushroom-Walk-1.png
END:VEVENT
BEGIN:VEVENT
DTSTART;TZID=America/New_York:20240713T110000
DTEND;TZID=America/New_York:20240713T130000
DTSTAMP:20260420T034611
CREATED:20240613T182341Z
LAST-MODIFIED:20240613T182341Z
UID:10001078-1720868400-1720875600@www.visitvermont.com
SUMMARY:From the Vaults: Wild Reptiles at the Pool Nature Center
DESCRIPTION:Come to the Pool Nature Center to see the Wild Reptiles of the Southern Vermont Natural History Museum! \nJuly 13th\, 11 AM- 1 PM
URL:https://www.visitvermont.com/event/from-the-vaults-wild-reptiles-at-the-pool-nature-center/
ATTACH;FMTTYPE=image/png:https://www.visitvermont.com/wp-content/uploads/2024/06/Colorful-World-Snake-Day-Instagram-Story-1.png
END:VEVENT
BEGIN:VEVENT
DTSTART;TZID=America/New_York:20240706T100000
DTEND;TZID=America/New_York:20240706T140000
DTSTAMP:20260420T034611
CREATED:20240702T144854Z
LAST-MODIFIED:20240702T144854Z
UID:10001171-1720260000-1720274400@www.visitvermont.com
SUMMARY:Opossum Day at Pool Nature Center!
DESCRIPTION:Come meet the Opossum and learn how important she is to the local ecosystem!
URL:https://www.visitvermont.com/event/opossum-day-at-pool-nature-center/
LOCATION:Pool Nature Center\, 117 Adams Cross Rd\, Marlboro\, VT\, 05301\, United States
ATTACH;FMTTYPE=image/png:https://www.visitvermont.com/wp-content/uploads/2024/06/Opossum-Day-1.png
END:VEVENT
BEGIN:VEVENT
DTSTART;TZID=America/New_York:20240629T110000
DTEND;TZID=America/New_York:20240629T140000
DTSTAMP:20260420T034611
CREATED:20240613T182538Z
LAST-MODIFIED:20240613T182538Z
UID:10001079-1719658800-1719669600@www.visitvermont.com
SUMMARY:Meet the Raptors at Pool Nature Center
DESCRIPTION:Come Learn about Birds of Prey at the Pool Nature Center!
URL:https://www.visitvermont.com/event/meet-the-raptors-at-pool-nature-center/
ATTACH;FMTTYPE=application/pdf:https://www.visitvermont.com/wp-content/uploads/2024/06/Dark-Green-and-Brown-Floral-Illustrative-Bird-Page-Border-3-1.pdf
END:VEVENT
BEGIN:VEVENT
DTSTART;TZID=America/New_York:20220212T130000
DTEND;TZID=America/New_York:20220212T160000
DTSTAMP:20260420T034611
CREATED:20220211T214037Z
LAST-MODIFIED:20220211T214037Z
UID:10000361-1644670800-1644681600@www.visitvermont.com
SUMMARY:Kids Exploration - Let's Chase Tracks
DESCRIPTION:Meet Southern Vermont Natural History Museum staff at the Museum’s Mountainside Center at 117 Adams Cross Road in Marlboro\, VT.  We’ll search for the tracks and traces of Wildlife found on the Pool Farm Conservation Area. Our goal will be to learn about track patterns and some of the clues we can look for when identifying our wild neighbors. Adults are also welcome!  Please be sure to dress for the weather and contact the Museum with any questions. Donations are always appreciated but not required.
URL:https://www.visitvermont.com/event/kids-exploration-lets-chase-tracks/
END:VEVENT
END:VCALENDAR