BEGIN:VCALENDAR
VERSION:2.0
PRODID:-//SVDV Chamber of Commerce - ECPv6.15.18//NONSGML v1.0//EN
CALSCALE:GREGORIAN
METHOD:PUBLISH
X-ORIGINAL-URL:https://www.visitvermont.com
X-WR-CALDESC:Events for SVDV Chamber of Commerce
REFRESH-INTERVAL;VALUE=DURATION:PT1H
X-Robots-Tag:noindex
X-PUBLISHED-TTL:PT1H
BEGIN:VTIMEZONE
TZID:America/New_York
BEGIN:DAYLIGHT
TZOFFSETFROM:-0500
TZOFFSETTO:-0400
TZNAME:EDT
DTSTART:20240310T070000
END:DAYLIGHT
BEGIN:STANDARD
TZOFFSETFROM:-0400
TZOFFSETTO:-0500
TZNAME:EST
DTSTART:20241103T060000
END:STANDARD
BEGIN:DAYLIGHT
TZOFFSETFROM:-0500
TZOFFSETTO:-0400
TZNAME:EDT
DTSTART:20250309T070000
END:DAYLIGHT
BEGIN:STANDARD
TZOFFSETFROM:-0400
TZOFFSETTO:-0500
TZNAME:EST
DTSTART:20251102T060000
END:STANDARD
BEGIN:DAYLIGHT
TZOFFSETFROM:-0500
TZOFFSETTO:-0400
TZNAME:EDT
DTSTART:20260308T070000
END:DAYLIGHT
BEGIN:STANDARD
TZOFFSETFROM:-0400
TZOFFSETTO:-0500
TZNAME:EST
DTSTART:20261101T060000
END:STANDARD
END:VTIMEZONE
BEGIN:VEVENT
DTSTART;TZID=America/New_York:20250203T080000
DTEND;TZID=America/New_York:20250203T170000
DTSTAMP:20260423T151628
CREATED:20250117T024146Z
LAST-MODIFIED:20250117T024147Z
UID:10001280-1738569600-1738602000@www.visitvermont.com
SUMMARY:Community Ski Day at Haystack Mountain
DESCRIPTION:🎉 60th Anniversary Celebration\nBring your Haystack stories and memorabilia to share and display at the Lodge. Tell us about The Tunnel\, recollect Sgt. Pepper’s Disco\, giggle about Fannie Hill\, and racing stories of yore. \nNick from Fresh Prints Photography will be shooting photos on the hill to capture memories of this incredible day. \nEvent Details: \n\nLodge Open: 8:00 AM – 5:00 PM\nLifts Spin: 9:00 AM – 3:30 PM\nTrestle Bar Open: 10:30 AM – 4:00 PM (credit card only)\nMid Mountain Cabin Bar Open: 11:00 AM – 3:00 PM (beverages & snacks\, credit card only)\nCheck-in: At the Lodge Lobby\n\nTicket Info: \n\nPrice: $39 + tax & Eventbrite fees (includes your ski pass and lunch)\nTickets: Limited and available on a first-come\, first-served basis\nRegistration Non-refundable\nProceeds Benefit: Deerfield Valley Food Bank & Community Cares Foundation (Fuel Assistance Fund)\n\nWho Can Participate? \n\nFull-time residents of the Southern VT Deerfield Valley Chamber area (Wilmington\, Dover\, Wardsboro\, Jacksonville\, Readsboro\, and Whitingham).\nEmployees of local businesses affiliated with the Chamber.\nBring Proof of Residency or Employment to pick up your ski pass.\n\nImportant Reminders: \n\nSign the Waiver before arrival.\nBring Proof of Residency or Employment to pick up your ski pass.\nSki/Snowboard Rentals and Lessons not available today.\nLimited Availability of Tickets: Be sure to register early.
URL:https://www.visitvermont.com/event/community-ski-day-at-haystack-mountain/
LOCATION:The Hermitage Club\, 183 Gatehouse Trail\, Wilmington\, VT\, 05363\, United States
ATTACH;FMTTYPE=image/png:https://www.visitvermont.com/wp-content/uploads/2025/01/Untitled-design-6.png
END:VEVENT
END:VCALENDAR