BEGIN:VCALENDAR
VERSION:2.0
PRODID:-//SVDV Chamber of Commerce - ECPv6.15.18//NONSGML v1.0//EN
CALSCALE:GREGORIAN
METHOD:PUBLISH
X-WR-CALNAME:SVDV Chamber of Commerce
X-ORIGINAL-URL:https://www.visitvermont.com
X-WR-CALDESC:Events for SVDV Chamber of Commerce
REFRESH-INTERVAL;VALUE=DURATION:PT1H
X-Robots-Tag:noindex
X-PUBLISHED-TTL:PT1H
BEGIN:VTIMEZONE
TZID:America/New_York
BEGIN:DAYLIGHT
TZOFFSETFROM:-0500
TZOFFSETTO:-0400
TZNAME:EDT
DTSTART:20240310T070000
END:DAYLIGHT
BEGIN:STANDARD
TZOFFSETFROM:-0400
TZOFFSETTO:-0500
TZNAME:EST
DTSTART:20241103T060000
END:STANDARD
BEGIN:DAYLIGHT
TZOFFSETFROM:-0500
TZOFFSETTO:-0400
TZNAME:EDT
DTSTART:20250309T070000
END:DAYLIGHT
BEGIN:STANDARD
TZOFFSETFROM:-0400
TZOFFSETTO:-0500
TZNAME:EST
DTSTART:20251102T060000
END:STANDARD
BEGIN:DAYLIGHT
TZOFFSETFROM:-0500
TZOFFSETTO:-0400
TZNAME:EDT
DTSTART:20260308T070000
END:DAYLIGHT
BEGIN:STANDARD
TZOFFSETFROM:-0400
TZOFFSETTO:-0500
TZNAME:EST
DTSTART:20261101T060000
END:STANDARD
END:VTIMEZONE
BEGIN:VEVENT
DTSTART;TZID=America/New_York:20251207T123000
DTEND;TZID=America/New_York:20251207T143000
DTSTAMP:20260420T065249
CREATED:20251126T152807Z
LAST-MODIFIED:20251126T152807Z
UID:10003521-1765110600-1765117800@www.visitvermont.com
SUMMARY:Cookie Decorating and Santa Visit at Whitingham Pop-Up Shop
DESCRIPTION:Decorate some cookies\, shop\, and visit with Santa and Mrs. Claus!
URL:https://www.visitvermont.com/event/cookie-decorating-and-santa-visit-at-whitingham-pop-up-shop/
LOCATION:Whitingham Vermont Holiday Pop-Up Shop\, 6677 Route 100\, Whitingham\, VT\, United States
ORGANIZER;CN="Whitingham Vermont Holiday Pop-Up Shop":MAILTO:Whitinghampopupshop@gmail.com
END:VEVENT
BEGIN:VEVENT
DTSTART;TZID=America/New_York:20250517T090000
DTEND;TZID=America/New_York:20250517T170000
DTSTAMP:20260420T065249
CREATED:20250128T172603Z
LAST-MODIFIED:20250128T172603Z
UID:10001295-1747472400-1747501200@www.visitvermont.com
SUMMARY:Whitingham Vermont Holiday Pop-Up Shop
DESCRIPTION:
URL:https://www.visitvermont.com/event/whitingham-vermont-holiday-pop-up-shop-3/2025-05-17/
LOCATION:Whitingham Vermont Holiday Pop-Up Shop\, 6677 Route 100\, Whitingham\, VT\, United States
ATTACH;FMTTYPE=image/jpeg:https://www.visitvermont.com/wp-content/uploads/2025/01/475319699_1021574863114577_7117802217387542445_n.jpg
ORGANIZER;CN="Whitingham Vermont Holiday Pop-Up Shop":MAILTO:Whitinghampopupshop@gmail.com
END:VEVENT
BEGIN:VEVENT
DTSTART;TZID=America/New_York:20250510T090000
DTEND;TZID=America/New_York:20250510T170000
DTSTAMP:20260420T065249
CREATED:20250128T172603Z
LAST-MODIFIED:20250128T172603Z
UID:10001294-1746867600-1746896400@www.visitvermont.com
SUMMARY:Whitingham Vermont Holiday Pop-Up Shop
DESCRIPTION:
URL:https://www.visitvermont.com/event/whitingham-vermont-holiday-pop-up-shop-3/2025-05-10/
LOCATION:Whitingham Vermont Holiday Pop-Up Shop\, 6677 Route 100\, Whitingham\, VT\, United States
ATTACH;FMTTYPE=image/jpeg:https://www.visitvermont.com/wp-content/uploads/2025/01/475319699_1021574863114577_7117802217387542445_n.jpg
ORGANIZER;CN="Whitingham Vermont Holiday Pop-Up Shop":MAILTO:Whitinghampopupshop@gmail.com
END:VEVENT
BEGIN:VEVENT
DTSTART;TZID=America/New_York:20250503T090000
DTEND;TZID=America/New_York:20250503T170000
DTSTAMP:20260420T065249
CREATED:20250128T172603Z
LAST-MODIFIED:20250128T172603Z
UID:10001293-1746262800-1746291600@www.visitvermont.com
SUMMARY:Whitingham Vermont Holiday Pop-Up Shop
DESCRIPTION:
URL:https://www.visitvermont.com/event/whitingham-vermont-holiday-pop-up-shop-3/2025-05-03/
LOCATION:Whitingham Vermont Holiday Pop-Up Shop\, 6677 Route 100\, Whitingham\, VT\, United States
ATTACH;FMTTYPE=image/jpeg:https://www.visitvermont.com/wp-content/uploads/2025/01/475319699_1021574863114577_7117802217387542445_n.jpg
ORGANIZER;CN="Whitingham Vermont Holiday Pop-Up Shop":MAILTO:Whitinghampopupshop@gmail.com
END:VEVENT
BEGIN:VEVENT
DTSTART;TZID=America/New_York:20250426T090000
DTEND;TZID=America/New_York:20250426T170000
DTSTAMP:20260420T065249
CREATED:20250128T172603Z
LAST-MODIFIED:20250128T172603Z
UID:10001292-1745658000-1745686800@www.visitvermont.com
SUMMARY:Whitingham Vermont Holiday Pop-Up Shop
DESCRIPTION:
URL:https://www.visitvermont.com/event/whitingham-vermont-holiday-pop-up-shop-3/2025-04-26/
LOCATION:Whitingham Vermont Holiday Pop-Up Shop\, 6677 Route 100\, Whitingham\, VT\, United States
ATTACH;FMTTYPE=image/jpeg:https://www.visitvermont.com/wp-content/uploads/2025/01/475319699_1021574863114577_7117802217387542445_n.jpg
ORGANIZER;CN="Whitingham Vermont Holiday Pop-Up Shop":MAILTO:Whitinghampopupshop@gmail.com
END:VEVENT
BEGIN:VEVENT
DTSTART;TZID=America/New_York:20250419T090000
DTEND;TZID=America/New_York:20250419T170000
DTSTAMP:20260420T065249
CREATED:20250128T172603Z
LAST-MODIFIED:20250128T172603Z
UID:10001291-1745053200-1745082000@www.visitvermont.com
SUMMARY:Whitingham Vermont Holiday Pop-Up Shop
DESCRIPTION:
URL:https://www.visitvermont.com/event/whitingham-vermont-holiday-pop-up-shop-3/2025-04-19/
LOCATION:Whitingham Vermont Holiday Pop-Up Shop\, 6677 Route 100\, Whitingham\, VT\, United States
ATTACH;FMTTYPE=image/jpeg:https://www.visitvermont.com/wp-content/uploads/2025/01/475319699_1021574863114577_7117802217387542445_n.jpg
ORGANIZER;CN="Whitingham Vermont Holiday Pop-Up Shop":MAILTO:Whitinghampopupshop@gmail.com
END:VEVENT
BEGIN:VEVENT
DTSTART;TZID=America/New_York:20250412T090000
DTEND;TZID=America/New_York:20250412T170000
DTSTAMP:20260420T065249
CREATED:20250128T172603Z
LAST-MODIFIED:20250128T172603Z
UID:10001290-1744448400-1744477200@www.visitvermont.com
SUMMARY:Whitingham Vermont Holiday Pop-Up Shop
DESCRIPTION:
URL:https://www.visitvermont.com/event/whitingham-vermont-holiday-pop-up-shop-3/2025-04-12/
LOCATION:Whitingham Vermont Holiday Pop-Up Shop\, 6677 Route 100\, Whitingham\, VT\, United States
ATTACH;FMTTYPE=image/jpeg:https://www.visitvermont.com/wp-content/uploads/2025/01/475319699_1021574863114577_7117802217387542445_n.jpg
ORGANIZER;CN="Whitingham Vermont Holiday Pop-Up Shop":MAILTO:Whitinghampopupshop@gmail.com
END:VEVENT
BEGIN:VEVENT
DTSTART;TZID=America/New_York:20250405T090000
DTEND;TZID=America/New_York:20250405T170000
DTSTAMP:20260420T065249
CREATED:20250128T172603Z
LAST-MODIFIED:20250128T172603Z
UID:10001289-1743843600-1743872400@www.visitvermont.com
SUMMARY:Whitingham Vermont Holiday Pop-Up Shop
DESCRIPTION:
URL:https://www.visitvermont.com/event/whitingham-vermont-holiday-pop-up-shop-3/2025-04-05/
LOCATION:Whitingham Vermont Holiday Pop-Up Shop\, 6677 Route 100\, Whitingham\, VT\, United States
ATTACH;FMTTYPE=image/jpeg:https://www.visitvermont.com/wp-content/uploads/2025/01/475319699_1021574863114577_7117802217387542445_n.jpg
ORGANIZER;CN="Whitingham Vermont Holiday Pop-Up Shop":MAILTO:Whitinghampopupshop@gmail.com
END:VEVENT
BEGIN:VEVENT
DTSTART;TZID=America/New_York:20250329T090000
DTEND;TZID=America/New_York:20250329T170000
DTSTAMP:20260420T065249
CREATED:20250128T172603Z
LAST-MODIFIED:20250128T172603Z
UID:10001288-1743238800-1743267600@www.visitvermont.com
SUMMARY:Whitingham Vermont Holiday Pop-Up Shop
DESCRIPTION:
URL:https://www.visitvermont.com/event/whitingham-vermont-holiday-pop-up-shop-3/2025-03-29/
LOCATION:Whitingham Vermont Holiday Pop-Up Shop\, 6677 Route 100\, Whitingham\, VT\, United States
ATTACH;FMTTYPE=image/jpeg:https://www.visitvermont.com/wp-content/uploads/2025/01/475319699_1021574863114577_7117802217387542445_n.jpg
ORGANIZER;CN="Whitingham Vermont Holiday Pop-Up Shop":MAILTO:Whitinghampopupshop@gmail.com
END:VEVENT
BEGIN:VEVENT
DTSTART;TZID=America/New_York:20250322T090000
DTEND;TZID=America/New_York:20250322T170000
DTSTAMP:20260420T065249
CREATED:20250128T172603Z
LAST-MODIFIED:20250128T172603Z
UID:10001287-1742634000-1742662800@www.visitvermont.com
SUMMARY:Whitingham Vermont Holiday Pop-Up Shop
DESCRIPTION:
URL:https://www.visitvermont.com/event/whitingham-vermont-holiday-pop-up-shop-3/2025-03-22/
LOCATION:Whitingham Vermont Holiday Pop-Up Shop\, 6677 Route 100\, Whitingham\, VT\, United States
ATTACH;FMTTYPE=image/jpeg:https://www.visitvermont.com/wp-content/uploads/2025/01/475319699_1021574863114577_7117802217387542445_n.jpg
ORGANIZER;CN="Whitingham Vermont Holiday Pop-Up Shop":MAILTO:Whitinghampopupshop@gmail.com
END:VEVENT
BEGIN:VEVENT
DTSTART;TZID=America/New_York:20250315T090000
DTEND;TZID=America/New_York:20250315T170000
DTSTAMP:20260420T065249
CREATED:20250128T172603Z
LAST-MODIFIED:20250128T172603Z
UID:10001286-1742029200-1742058000@www.visitvermont.com
SUMMARY:Whitingham Vermont Holiday Pop-Up Shop
DESCRIPTION:
URL:https://www.visitvermont.com/event/whitingham-vermont-holiday-pop-up-shop-3/2025-03-15/
LOCATION:Whitingham Vermont Holiday Pop-Up Shop\, 6677 Route 100\, Whitingham\, VT\, United States
ATTACH;FMTTYPE=image/jpeg:https://www.visitvermont.com/wp-content/uploads/2025/01/475319699_1021574863114577_7117802217387542445_n.jpg
ORGANIZER;CN="Whitingham Vermont Holiday Pop-Up Shop":MAILTO:Whitinghampopupshop@gmail.com
END:VEVENT
BEGIN:VEVENT
DTSTART;TZID=America/New_York:20250308T090000
DTEND;TZID=America/New_York:20250308T170000
DTSTAMP:20260420T065250
CREATED:20250128T172603Z
LAST-MODIFIED:20250128T172603Z
UID:10001285-1741424400-1741453200@www.visitvermont.com
SUMMARY:Whitingham Vermont Holiday Pop-Up Shop
DESCRIPTION:
URL:https://www.visitvermont.com/event/whitingham-vermont-holiday-pop-up-shop-3/2025-03-08/
LOCATION:Whitingham Vermont Holiday Pop-Up Shop\, 6677 Route 100\, Whitingham\, VT\, United States
ATTACH;FMTTYPE=image/jpeg:https://www.visitvermont.com/wp-content/uploads/2025/01/475319699_1021574863114577_7117802217387542445_n.jpg
ORGANIZER;CN="Whitingham Vermont Holiday Pop-Up Shop":MAILTO:Whitinghampopupshop@gmail.com
END:VEVENT
BEGIN:VEVENT
DTSTART;TZID=America/New_York:20250301T090000
DTEND;TZID=America/New_York:20250301T170000
DTSTAMP:20260420T065250
CREATED:20250128T172603Z
LAST-MODIFIED:20250128T172603Z
UID:10001284-1740819600-1740848400@www.visitvermont.com
SUMMARY:Whitingham Vermont Holiday Pop-Up Shop
DESCRIPTION:
URL:https://www.visitvermont.com/event/whitingham-vermont-holiday-pop-up-shop-3/2025-03-01/
LOCATION:Whitingham Vermont Holiday Pop-Up Shop\, 6677 Route 100\, Whitingham\, VT\, United States
ATTACH;FMTTYPE=image/jpeg:https://www.visitvermont.com/wp-content/uploads/2025/01/475319699_1021574863114577_7117802217387542445_n.jpg
ORGANIZER;CN="Whitingham Vermont Holiday Pop-Up Shop":MAILTO:Whitinghampopupshop@gmail.com
END:VEVENT
BEGIN:VEVENT
DTSTART;TZID=America/New_York:20250222T090000
DTEND;TZID=America/New_York:20250222T170000
DTSTAMP:20260420T065250
CREATED:20250128T172603Z
LAST-MODIFIED:20250128T172603Z
UID:10001283-1740214800-1740243600@www.visitvermont.com
SUMMARY:Whitingham Vermont Holiday Pop-Up Shop
DESCRIPTION:
URL:https://www.visitvermont.com/event/whitingham-vermont-holiday-pop-up-shop-3/2025-02-22/
LOCATION:Whitingham Vermont Holiday Pop-Up Shop\, 6677 Route 100\, Whitingham\, VT\, United States
ATTACH;FMTTYPE=image/jpeg:https://www.visitvermont.com/wp-content/uploads/2025/01/475319699_1021574863114577_7117802217387542445_n.jpg
ORGANIZER;CN="Whitingham Vermont Holiday Pop-Up Shop":MAILTO:Whitinghampopupshop@gmail.com
END:VEVENT
BEGIN:VEVENT
DTSTART;TZID=America/New_York:20250215T090000
DTEND;TZID=America/New_York:20250215T170000
DTSTAMP:20260420T065250
CREATED:20250128T172603Z
LAST-MODIFIED:20250128T172603Z
UID:10001282-1739610000-1739638800@www.visitvermont.com
SUMMARY:Whitingham Vermont Holiday Pop-Up Shop
DESCRIPTION:
URL:https://www.visitvermont.com/event/whitingham-vermont-holiday-pop-up-shop-3/2025-02-15/
LOCATION:Whitingham Vermont Holiday Pop-Up Shop\, 6677 Route 100\, Whitingham\, VT\, United States
ATTACH;FMTTYPE=image/jpeg:https://www.visitvermont.com/wp-content/uploads/2025/01/475319699_1021574863114577_7117802217387542445_n.jpg
ORGANIZER;CN="Whitingham Vermont Holiday Pop-Up Shop":MAILTO:Whitinghampopupshop@gmail.com
END:VEVENT
BEGIN:VEVENT
DTSTART;TZID=America/New_York:20250208T090000
DTEND;TZID=America/New_York:20250208T170000
DTSTAMP:20260420T065250
CREATED:20250128T172603Z
LAST-MODIFIED:20250128T172603Z
UID:10001281-1739005200-1739034000@www.visitvermont.com
SUMMARY:Whitingham Vermont Holiday Pop-Up Shop
DESCRIPTION:
URL:https://www.visitvermont.com/event/whitingham-vermont-holiday-pop-up-shop-3/2025-02-08/
LOCATION:Whitingham Vermont Holiday Pop-Up Shop\, 6677 Route 100\, Whitingham\, VT\, United States
ATTACH;FMTTYPE=image/jpeg:https://www.visitvermont.com/wp-content/uploads/2025/01/475319699_1021574863114577_7117802217387542445_n.jpg
ORGANIZER;CN="Whitingham Vermont Holiday Pop-Up Shop":MAILTO:Whitinghampopupshop@gmail.com
END:VEVENT
END:VCALENDAR