BEGIN:VCALENDAR
VERSION:2.0
PRODID:-//SVDV Chamber of Commerce - ECPv6.15.18//NONSGML v1.0//EN
CALSCALE:GREGORIAN
METHOD:PUBLISH
X-ORIGINAL-URL:https://www.visitvermont.com
X-WR-CALDESC:Events for SVDV Chamber of Commerce
REFRESH-INTERVAL;VALUE=DURATION:PT1H
X-Robots-Tag:noindex
X-PUBLISHED-TTL:PT1H
BEGIN:VTIMEZONE
TZID:America/New_York
BEGIN:DAYLIGHT
TZOFFSETFROM:-0500
TZOFFSETTO:-0400
TZNAME:EDT
DTSTART:20200308T070000
END:DAYLIGHT
BEGIN:STANDARD
TZOFFSETFROM:-0400
TZOFFSETTO:-0500
TZNAME:EST
DTSTART:20201101T060000
END:STANDARD
BEGIN:DAYLIGHT
TZOFFSETFROM:-0500
TZOFFSETTO:-0400
TZNAME:EDT
DTSTART:20210314T070000
END:DAYLIGHT
BEGIN:STANDARD
TZOFFSETFROM:-0400
TZOFFSETTO:-0500
TZNAME:EST
DTSTART:20211107T060000
END:STANDARD
BEGIN:DAYLIGHT
TZOFFSETFROM:-0500
TZOFFSETTO:-0400
TZNAME:EDT
DTSTART:20220313T070000
END:DAYLIGHT
BEGIN:STANDARD
TZOFFSETFROM:-0400
TZOFFSETTO:-0500
TZNAME:EST
DTSTART:20221106T060000
END:STANDARD
BEGIN:DAYLIGHT
TZOFFSETFROM:-0500
TZOFFSETTO:-0400
TZNAME:EDT
DTSTART:20230312T070000
END:DAYLIGHT
BEGIN:STANDARD
TZOFFSETFROM:-0400
TZOFFSETTO:-0500
TZNAME:EST
DTSTART:20231105T060000
END:STANDARD
BEGIN:DAYLIGHT
TZOFFSETFROM:-0500
TZOFFSETTO:-0400
TZNAME:EDT
DTSTART:20240310T070000
END:DAYLIGHT
BEGIN:STANDARD
TZOFFSETFROM:-0400
TZOFFSETTO:-0500
TZNAME:EST
DTSTART:20241103T060000
END:STANDARD
BEGIN:DAYLIGHT
TZOFFSETFROM:-0500
TZOFFSETTO:-0400
TZNAME:EDT
DTSTART:20250309T070000
END:DAYLIGHT
BEGIN:STANDARD
TZOFFSETFROM:-0400
TZOFFSETTO:-0500
TZNAME:EST
DTSTART:20251102T060000
END:STANDARD
BEGIN:DAYLIGHT
TZOFFSETFROM:-0500
TZOFFSETTO:-0400
TZNAME:EDT
DTSTART:20260308T070000
END:DAYLIGHT
BEGIN:STANDARD
TZOFFSETFROM:-0400
TZOFFSETTO:-0500
TZNAME:EST
DTSTART:20261101T060000
END:STANDARD
END:VTIMEZONE
BEGIN:VEVENT
DTSTART;TZID=America/New_York:20251201T080000
DTEND;TZID=America/New_York:20251224T150000
DTSTAMP:20260424T083026
CREATED:20251126T161502Z
LAST-MODIFIED:20251126T161649Z
UID:10003522-1764576000-1766588400@www.visitvermont.com
SUMMARY:Eat Sleep Shop Local 2025
DESCRIPTION:Local = Wilmington\nDecember 1-24\nShop\, then shop some more: for any purchase over $25 at a participating merchant in Wilmington\, take your receipt to a redemption location and claim a $5 coupon that works like cash all around the Valley. You’ll also earn raffle tickets for each $20 you spend. With a grand prize of $500 and second prize of a local gift basket\, why not keep shopping and earning rewards?!
URL:https://www.visitvermont.com/event/eat-sleep-shop-local-2025/
LOCATION:Historic Downtown Wilmington\, Wilmington\, VT\, 05363
ATTACH;FMTTYPE=image/png:https://www.visitvermont.com/wp-content/uploads/2025/11/ESSL-Poster-1-1.png
ORGANIZER;CN="Wilmington Works":MAILTO:wilmingtonworks@gmail.com
END:VEVENT
BEGIN:VEVENT
DTSTART;TZID=America/New_York:20251031T160000
DTEND;TZID=America/New_York:20251031T183000
DTSTAMP:20260424T083026
CREATED:20250930T131206Z
LAST-MODIFIED:20250930T131206Z
UID:10003478-1761926400-1761935400@www.visitvermont.com
SUMMARY:Trick or Treat at Local Businesses!
DESCRIPTION:Enjoy Trick or Treating downtown at our local businesses from 4:00pm-6:30pm.
URL:https://www.visitvermont.com/event/trick-or-treat-at-local-businesses/
LOCATION:Town of Wilmington
ATTACH;FMTTYPE=image/png:https://www.visitvermont.com/wp-content/uploads/2025/09/Screenshot-2025-09-30-at-9.04.11-AM.png
ORGANIZER;CN="Wilmington Works":MAILTO:wilmingtonworks@gmail.com
END:VEVENT
BEGIN:VEVENT
DTSTART;VALUE=DATE:20251028
DTEND;VALUE=DATE:20251029
DTSTAMP:20260424T083026
CREATED:20250930T130943Z
LAST-MODIFIED:20251028T140747Z
UID:10003477-1761609600-1761695999@www.visitvermont.com
SUMMARY:Jack-O' Lantern Display🎃
DESCRIPTION:To kick off Halloween weekend\, there will be a Jack-O’ Lantern display in River Bank Park. Sponsored by Shaws. Local students carve pumpkins for the display\, and the public is invited to carve their own and drop them off at the park anytime on October 26th.
URL:https://www.visitvermont.com/event/jack-o-lantern-display%f0%9f%8e%83/
LOCATION:River Bank Park\, 3 S Main Street\, Wilmington\, 05363\, United States
ATTACH;FMTTYPE=image/png:https://www.visitvermont.com/wp-content/uploads/2025/09/Screenshot-2025-09-30-at-9.04.11-AM.png
ORGANIZER;CN="Wilmington Works":MAILTO:wilmingtonworks@gmail.com
END:VEVENT
BEGIN:VEVENT
DTSTART;TZID=America/New_York:20251025T100000
DTEND;TZID=America/New_York:20251025T170000
DTSTAMP:20260424T083026
CREATED:20250930T133042Z
LAST-MODIFIED:20250930T133042Z
UID:10003481-1761386400-1761411600@www.visitvermont.com
SUMMARY:Resident Hike
DESCRIPTION:ALL are welcome to meet and network with other residents of Wilmington and the Deerfield Valley on a casual weekend hike. Meet at Reardon Bridge downtown for a easy 3.8 mile out and back walk. \n📍 Reardon Bridge\, Hoot Toot and Whistle Trail \nSaturday October 25th\n*Rain Date Sunday October 26th*
URL:https://www.visitvermont.com/event/resident-hike/
LOCATION:Reardon Bridge\, 34 W Main St\, Wilmington\, VT\, 05363\, United States
ATTACH;FMTTYPE=image/png:https://www.visitvermont.com/wp-content/uploads/2025/09/Hike-poster.png
ORGANIZER;CN="Wilmington Works":MAILTO:wilmingtonworks@gmail.com
END:VEVENT
BEGIN:VEVENT
DTSTART;TZID=America/New_York:20250816T170000
DTEND;TZID=America/New_York:20250816T190000
DTSTAMP:20260424T083026
CREATED:20250715T223346Z
LAST-MODIFIED:20250805T012425Z
UID:10001834-1755363600-1755370800@www.visitvermont.com
SUMMARY:Fairy Stroll - Downtown Wilmington
DESCRIPTION:Join Wilmington Works for a the Fairy Village Stroll on Saturday\, August 16th from 5pm – 7pm. The third annual Fairy Stroll is a time to celebrate all things fairy and magical. Dress in your favorite fairy costume and step into a realm of enchantment as you stroll through downtown. Discover delightful performances and enchanting activities for all ages.
URL:https://www.visitvermont.com/event/fairy-stroll/
LOCATION:Historic Downtown Wilmington\, Wilmington\, VT\, 05363
ATTACH;FMTTYPE=image/jpeg:https://www.visitvermont.com/wp-content/uploads/2025/07/Fairy-Stroll-6.jpg
ORGANIZER;CN="Wilmington Works":MAILTO:wilmingtonworks@gmail.com
END:VEVENT
BEGIN:VEVENT
DTSTART;TZID=America/New_York:20250802T170000
DTEND;TZID=America/New_York:20250802T200000
DTSTAMP:20260424T083026
CREATED:20250708T192540Z
LAST-MODIFIED:20250715T223730Z
UID:10001800-1754154000-1754164800@www.visitvermont.com
SUMMARY:Blueberry Block Party!!
DESCRIPTION:Blueberry Festival is back which means our block party on South Main Street is on! Join us on Saturday\, August 2nd\, 2025 from 5-8pm as South Main Street will be full with food\, drinks\, craft vendors\, and music! \nGuess Method will be taking center stage playing dance music that will get you dancing in the street. \nSign up on-site for the classic pie eating contest\, a round for kids and adults! \nIndulge in food that screams summer with a variety sure to satisfy everyone’s taste buds. From mouth watering lobster rolls to refreshing blueberry treats\, there’s something for everyone. \nLocal craft vendors will be showcasing their unique creations\, making it a perfect opportunity to bring home something special.
URL:https://www.visitvermont.com/event/blueberry-block-party-2/
LOCATION:Historic Downtown Wilmington\, Wilmington\, VT\, 05363
ORGANIZER;CN="Wilmington Works":MAILTO:wilmingtonworks@gmail.com
END:VEVENT
BEGIN:VEVENT
DTSTART;TZID=America/New_York:20250712T170000
DTEND;TZID=America/New_York:20250712T190000
DTSTAMP:20260424T083026
CREATED:20250708T190141Z
LAST-MODIFIED:20250708T191711Z
UID:10001798-1752339600-1752346800@www.visitvermont.com
SUMMARY:Picnic in the Park Village Stroll
DESCRIPTION:Join us for a delightful summer evening in downtown Wilmington! On Saturday\, July 12th from 5:00-7:00PM\, we’re spreading out picnic blankets and bringing the community together. \nWhat to bring? \nBring your own picnic basket or grab a bite to eat from one of our amazing downtown restaurants. Then head over to Memorial Hall Lawn and find a spot to relax and enjoy the evening. \nGot an antique car? \nWe’d love to see it! Cruise downtown and park your antique car along Main Street—it’ll add some classic charm to the evening and make the stroll even more special. \n\n\n\n\nWhat to Expect? \nPicnic & relaxation : Enjoy the evening on the lawn with friends\, family\, and good eats. \nLemonade Stand: Cool off with a cup of refreshing lemonade. \n\n\n\n\n\n\n\n\nTeddy Bear story time at Bartleby’s (5:15PM): Bring your favorite stuffed friend for a “beary” fun story session! Lawn Games & Crafts: Head to the library lawn for lawn games and creative pinwheel-making—fun for all ages.
URL:https://www.visitvermont.com/event/picnic-in-the-park-village-stroll/
LOCATION:Historic Downtown Wilmington\, Wilmington\, VT\, 05363
ORGANIZER;CN="Wilmington Works":MAILTO:wilmingtonworks@gmail.com
END:VEVENT
BEGIN:VEVENT
DTSTART;TZID=America/New_York:20250220T170000
DTEND;TZID=America/New_York:20250220T170000
DTSTAMP:20260424T083026
CREATED:20250211T153925Z
LAST-MODIFIED:20250211T153925Z
UID:10001576-1740070800-1740070800@www.visitvermont.com
SUMMARY:Make it on Main Street Business Plan Competition FINAL EVENT!
DESCRIPTION:  \n \n\n\n\n\n\n\n\n\nJoin us for the final event of the “Make it on Main Street: Volume II” business plan competition\, which will take place on Thursday\, February 20th\, 5:00PM at Arthouse located at 12 S Main Street\, Wilmington. We encourage the public to join us and watch the finalists present their business plans to the judges. \nThis competition began with an impressive 26 applicants in the first round. Ten applicants advanced to the second round\, and now we are down to the top four finalists: Buttermountain Bakery\, Cherry Press Printmaking\, Local Loop\, and Valley Craft Ales\, who will compete for the grand prize. \nThe final event will not only showcase the creativity and hard work of these entrepreneurs but also highlight the vibrant spirit of innovation in our community. Guests can enjoy beverages from a cash bar and light hors d’oeuvres while cheering on their favorite finalist. \n Don’t miss this opportunity to see who will take home the cash prize of up to $75\,000 and the chance to bring their vision to life on Main Street!
URL:https://www.visitvermont.com/event/make-it-on-main-street-business-plan-competition-final-event/
LOCATION:Arthouse\, 12 South Main St\, Wilmington\, VT\, 05363\, United States
ATTACH;FMTTYPE=image/png:https://www.visitvermont.com/wp-content/uploads/2025/02/Screenshot-2025-02-11-at-10.34.59 AM.png
ORGANIZER;CN="Wilmington Works":MAILTO:wilmingtonworks@gmail.com
END:VEVENT
BEGIN:VEVENT
DTSTART;VALUE=DATE:20241201
DTEND;VALUE=DATE:20241225
DTSTAMP:20260424T083026
CREATED:20241203T013943Z
LAST-MODIFIED:20241203T013943Z
UID:10001246-1733011200-1735084799@www.visitvermont.com
SUMMARY:Eat\, Sleep\, Shop Local in Downtown Wilmington
DESCRIPTION:Eat\, Sleep\, Shop Local promotes shopping small this holiday season in Historic Downtown Wilmington.  Shop at any participating businesses and bring your receipts from to the Southern Vermont Deerfield Valley Chamber of Commerce Visitor Center to redeem for $5 coupons and chances to win prizes\, including a $500 grand prize!
URL:https://www.visitvermont.com/event/eat-sleep-shop-local-3/
LOCATION:Historic Downtown Wilmington\, Wilmington\, VT\, 05363
ATTACH;FMTTYPE=image/png:https://www.visitvermont.com/wp-content/uploads/2024/12/ESSL-Poster-2024.png
ORGANIZER;CN="Wilmington Works":MAILTO:wilmingtonworks@gmail.com
END:VEVENT
BEGIN:VEVENT
DTSTART;TZID=America/New_York:20241031T160000
DTEND;TZID=America/New_York:20241031T183000
DTSTAMP:20260424T083026
CREATED:20241023T162405Z
LAST-MODIFIED:20241023T162405Z
UID:10001238-1730390400-1730399400@www.visitvermont.com
SUMMARY:Trick or Treating - Downtown Wilmington
DESCRIPTION:
URL:https://www.visitvermont.com/event/trick-or-treating-downtown-wilmington/
LOCATION:Historic Downtown Wilmington\, Wilmington\, VT\, 05363
ATTACH;FMTTYPE=image/png:https://www.visitvermont.com/wp-content/uploads/2024/10/Halloween-2024.png
ORGANIZER;CN="Wilmington Works":MAILTO:wilmingtonworks@gmail.com
END:VEVENT
BEGIN:VEVENT
DTSTART;TZID=America/New_York:20240817T170000
DTEND;TZID=America/New_York:20240817T190000
DTSTAMP:20260424T083026
CREATED:20240520T190224Z
LAST-MODIFIED:20240807T182232Z
UID:10001056-1723914000-1723921200@www.visitvermont.com
SUMMARY:Wilmington Village Stroll!
DESCRIPTION:Stroll through downtown and explore the shops! Create your own flower crown\, immerse yourself in an enchanted activation of the park\, and enjoy live music!
URL:https://www.visitvermont.com/event/wilmington-village-stroll/
LOCATION:Historic Downtown Wilmington\, Wilmington\, VT\, 05363
ATTACH;FMTTYPE=image/png:https://www.visitvermont.com/wp-content/uploads/2024/05/Village-Stroll.png
ORGANIZER;CN="Wilmington Works":MAILTO:wilmingtonworks@gmail.com
END:VEVENT
BEGIN:VEVENT
DTSTART;TZID=America/New_York:20240628T160000
DTEND;TZID=America/New_York:20240628T190000
DTSTAMP:20260424T083026
CREATED:20240520T182827Z
LAST-MODIFIED:20240520T182844Z
UID:10001054-1719590400-1719601200@www.visitvermont.com
SUMMARY:Wilmington's A-Buzz Village Stroll
DESCRIPTION:Stroll through downtown and explore the shops! Enjoy live music\, pot your very own pollinator seeds\, and buzz into our beehive!
URL:https://www.visitvermont.com/event/wilmingtons-a-buzz-village-stroll/
LOCATION:Historic Downtown Wilmington\, Wilmington\, VT\, 05363
ATTACH;FMTTYPE=image/png:https://www.visitvermont.com/wp-content/uploads/2024/05/unnamed-24.png
ORGANIZER;CN="Wilmington Works":MAILTO:wilmingtonworks@gmail.com
END:VEVENT
BEGIN:VEVENT
DTSTART;TZID=America/New_York:20231222T080000
DTEND;TZID=America/New_York:20231222T170000
DTSTAMP:20260424T083026
CREATED:20231129T202853Z
LAST-MODIFIED:20231129T202952Z
UID:10000752-1703232000-1703264400@www.visitvermont.com
SUMMARY:Eat\, Sleep\, Shop Local in Dover and Wilmington!
DESCRIPTION:From December 1-24th\, come get your Eat\, Sleep\, Shop Local coupons! For every $25.00 dollars spent\, bring your receipt to either the Chamber of Commerce in Wilmington or Deerfield Bar and Bottle in Dover to get an additional $5.00 coupon for participating local businesses. Coupons can only be used for this year\, and only between 12/1/23 and 12/24/23. \nFor every $20.00 spent\, an additional raffle ticket will be given. \n 
URL:https://www.visitvermont.com/event/eat-sleep-shop-local-in-dover-and-wilmington/2023-12-22/
LOCATION:Historic Downtown Wilmington\, Wilmington\, VT\, 05363
ATTACH;FMTTYPE=image/png:https://www.visitvermont.com/wp-content/uploads/2023/11/ESSL-8.5x11.png
ORGANIZER;CN="Wilmington Works":MAILTO:wilmingtonworks@gmail.com
END:VEVENT
BEGIN:VEVENT
DTSTART;TZID=America/New_York:20231215T080000
DTEND;TZID=America/New_York:20231215T170000
DTSTAMP:20260424T083026
CREATED:20231129T202853Z
LAST-MODIFIED:20231129T202952Z
UID:10000751-1702627200-1702659600@www.visitvermont.com
SUMMARY:Eat\, Sleep\, Shop Local in Dover and Wilmington!
DESCRIPTION:From December 1-24th\, come get your Eat\, Sleep\, Shop Local coupons! For every $25.00 dollars spent\, bring your receipt to either the Chamber of Commerce in Wilmington or Deerfield Bar and Bottle in Dover to get an additional $5.00 coupon for participating local businesses. Coupons can only be used for this year\, and only between 12/1/23 and 12/24/23. \nFor every $20.00 spent\, an additional raffle ticket will be given. \n 
URL:https://www.visitvermont.com/event/eat-sleep-shop-local-in-dover-and-wilmington/2023-12-15/
LOCATION:Historic Downtown Wilmington\, Wilmington\, VT\, 05363
ATTACH;FMTTYPE=image/png:https://www.visitvermont.com/wp-content/uploads/2023/11/ESSL-8.5x11.png
ORGANIZER;CN="Wilmington Works":MAILTO:wilmingtonworks@gmail.com
END:VEVENT
BEGIN:VEVENT
DTSTART;TZID=America/New_York:20231208T080000
DTEND;TZID=America/New_York:20231208T170000
DTSTAMP:20260424T083026
CREATED:20231129T202853Z
LAST-MODIFIED:20231129T202952Z
UID:10000750-1702022400-1702054800@www.visitvermont.com
SUMMARY:Eat\, Sleep\, Shop Local in Dover and Wilmington!
DESCRIPTION:From December 1-24th\, come get your Eat\, Sleep\, Shop Local coupons! For every $25.00 dollars spent\, bring your receipt to either the Chamber of Commerce in Wilmington or Deerfield Bar and Bottle in Dover to get an additional $5.00 coupon for participating local businesses. Coupons can only be used for this year\, and only between 12/1/23 and 12/24/23. \nFor every $20.00 spent\, an additional raffle ticket will be given. \n 
URL:https://www.visitvermont.com/event/eat-sleep-shop-local-in-dover-and-wilmington/2023-12-08/
LOCATION:Historic Downtown Wilmington\, Wilmington\, VT\, 05363
ATTACH;FMTTYPE=image/png:https://www.visitvermont.com/wp-content/uploads/2023/11/ESSL-8.5x11.png
ORGANIZER;CN="Wilmington Works":MAILTO:wilmingtonworks@gmail.com
END:VEVENT
BEGIN:VEVENT
DTSTART;TZID=America/New_York:20231201T080000
DTEND;TZID=America/New_York:20231201T170000
DTSTAMP:20260424T083026
CREATED:20231129T202853Z
LAST-MODIFIED:20231129T202952Z
UID:10000749-1701417600-1701450000@www.visitvermont.com
SUMMARY:Eat\, Sleep\, Shop Local in Dover and Wilmington!
DESCRIPTION:From December 1-24th\, come get your Eat\, Sleep\, Shop Local coupons! For every $25.00 dollars spent\, bring your receipt to either the Chamber of Commerce in Wilmington or Deerfield Bar and Bottle in Dover to get an additional $5.00 coupon for participating local businesses. Coupons can only be used for this year\, and only between 12/1/23 and 12/24/23. \nFor every $20.00 spent\, an additional raffle ticket will be given. \n 
URL:https://www.visitvermont.com/event/eat-sleep-shop-local-in-dover-and-wilmington/2023-12-01/
LOCATION:Historic Downtown Wilmington\, Wilmington\, VT\, 05363
ATTACH;FMTTYPE=image/png:https://www.visitvermont.com/wp-content/uploads/2023/11/ESSL-8.5x11.png
ORGANIZER;CN="Wilmington Works":MAILTO:wilmingtonworks@gmail.com
END:VEVENT
BEGIN:VEVENT
DTSTART;TZID=America/New_York:20231029T140000
DTEND;TZID=America/New_York:20231029T150000
DTSTAMP:20260424T083026
CREATED:20231025T135331Z
LAST-MODIFIED:20231025T135331Z
UID:10000720-1698588000-1698591600@www.visitvermont.com
SUMMARY:Dog Costume Parade in Downtown Wilmington!
DESCRIPTION:Meet at Memorial Hall for Homemade Dog Biscuits\, Dog Photos\, and a Costume Parade! All Pets Must Be Leashed.
URL:https://www.visitvermont.com/event/dog-costume-parade-in-downtown-wilmington/
LOCATION:Memorial Hall\, 14 West Main Street\, Wilmington\, VT\, 05363\, United States
ATTACH;FMTTYPE=image/png:https://www.visitvermont.com/wp-content/uploads/2023/10/dog-costume-parade-23.png
ORGANIZER;CN="Wilmington Works":MAILTO:wilmingtonworks@gmail.com
END:VEVENT
BEGIN:VEVENT
DTSTART;VALUE=DATE:20231026
DTEND;VALUE=DATE:20231027
DTSTAMP:20260424T083026
CREATED:20231025T135655Z
LAST-MODIFIED:20231025T135655Z
UID:10000721-1698278400-1698364799@www.visitvermont.com
SUMMARY:Jack-O-Lantern Display in Downtown Wilmington!
DESCRIPTION:Wilmington Works encourages all to participate in their pumpkin display! Bring your carved pumpkin (with a hole in the bottom) to Riverbank Park on Thursday. Wilmington Works will begin lighting the pumpkins that evening.
URL:https://www.visitvermont.com/event/jack-o-lantern-display-in-downtown-wilmington/
LOCATION:Historic Downtown Wilmington\, Wilmington\, VT\, 05363
ATTACH;FMTTYPE=image/png:https://www.visitvermont.com/wp-content/uploads/2023/10/jack-o-lnatern-display-23.png
ORGANIZER;CN="Wilmington Works":MAILTO:wilmingtonworks@gmail.com
END:VEVENT
BEGIN:VEVENT
DTSTART;TZID=America/New_York:20230819T170000
DTEND;TZID=America/New_York:20230819T190000
DTSTAMP:20260424T083026
CREATED:20230815T190542Z
LAST-MODIFIED:20230815T190710Z
UID:10000648-1692464400-1692471600@www.visitvermont.com
SUMMARY:Mid Summer Day Dream Village Stroll
DESCRIPTION:
URL:https://www.visitvermont.com/event/mid-summer-day-dream-village-stroll/
LOCATION:Historic Downtown Wilmington\, Wilmington\, VT\, 05363
ATTACH;FMTTYPE=image/jpeg:https://www.visitvermont.com/wp-content/uploads/2023/08/365106013_684848093687166_6315393761822667208_n.jpg
ORGANIZER;CN="Wilmington Works":MAILTO:wilmingtonworks@gmail.com
END:VEVENT
BEGIN:VEVENT
DTSTART;TZID=America/New_York:20230211T130000
DTEND;TZID=America/New_York:20230211T150000
DTSTAMP:20260424T083026
CREATED:20230120T221251Z
LAST-MODIFIED:20230120T222655Z
UID:10000491-1676120400-1676127600@www.visitvermont.com
SUMMARY:Winter Fest
DESCRIPTION:Hosted by Wilmington Works \nFebruary 11th\, 1-3 p.m. \nEnjoy an afternoon sipping hot cocoa and making smores while playing outside at Hayford Field.  Activities for kids of all ages hosted by Beaver Brook Care and the Pettee Memorial Library.  There will also be an ice carving demonstration and a Duct Tape Derby organized by the Boy Scouts of Troop 461.   For more information visit wilmingtonworksvt.com \n 
URL:https://www.visitvermont.com/event/winter-fest/
LOCATION:Baker Field\, 1 School Street\, Wilmington\, VT\, 05363\, United States
ATTACH;FMTTYPE=image/png:https://www.visitvermont.com/wp-content/uploads/2023/01/WW-Winterfest-8-12-x-11-Presentation-169-2.png
ORGANIZER;CN="Wilmington Works":MAILTO:wilmingtonworks@gmail.com
END:VEVENT
BEGIN:VEVENT
DTSTART;VALUE=DATE:20221209
DTEND;VALUE=DATE:20221211
DTSTAMP:20260424T083026
CREATED:20221119T022930Z
LAST-MODIFIED:20221122T193518Z
UID:10000474-1670544000-1670716799@www.visitvermont.com
SUMMARY:Makers Market at Historic Memorial Hall
DESCRIPTION:Shop\, explore and enjoy local artisans and their beautiful creations\, plus delicious treats from Trail87.
URL:https://www.visitvermont.com/event/makers-market-at-historic-memorial-hall/
LOCATION:Memorial Hall\, 14 West Main Street\, Wilmington\, VT\, 05363\, United States
ATTACH;FMTTYPE=image/png:https://www.visitvermont.com/wp-content/uploads/2022/11/Purple-and-Orange-Friendly-Geometric-Business-Holiday-Poster-1.png
ORGANIZER;CN="Wilmington Works":MAILTO:wilmingtonworks@gmail.com
END:VEVENT
BEGIN:VEVENT
DTSTART;VALUE=DATE:20221201
DTEND;VALUE=DATE:20221225
DTSTAMP:20260424T083026
CREATED:20221111T171431Z
LAST-MODIFIED:20221201T163332Z
UID:10000455-1669852800-1671926399@www.visitvermont.com
SUMMARY:Eat\, Sleep\, Shop Local
DESCRIPTION:Shop at participating stores in Wilmington and Dover and receive $5 coupons that can be used at other participating stores.  The program runs from December 1st through December 24th or while supplies last.  Don’t miss out on this great opportunity to support local businesses!  All participants have a chance to be entered into a raffle filled with gift certificates to local businesses.  Proceeds support the local heating fuel assistance program.
URL:https://www.visitvermont.com/event/eat-sleep-shop-local-2/
ATTACH;FMTTYPE=image/png:https://www.visitvermont.com/wp-content/uploads/2022/11/Eat-Sleep-Shop-Local.png
ORGANIZER;CN="Wilmington Works":MAILTO:wilmingtonworks@gmail.com
END:VEVENT
BEGIN:VEVENT
DTSTART;TZID=America/New_York:20221031T160000
DTEND;TZID=America/New_York:20221031T183000
DTSTAMP:20260424T083026
CREATED:20221014T185045Z
LAST-MODIFIED:20221014T185045Z
UID:10000447-1667232000-1667241000@www.visitvermont.com
SUMMARY:Trick or Treating in Historic Downtown Wilmington
DESCRIPTION:
URL:https://www.visitvermont.com/event/trick-or-treating-in-historic-downtown-wilmington/
LOCATION:Historic Downtown Wilmington\, Wilmington\, VT\, 05363
ORGANIZER;CN="Wilmington Works":MAILTO:wilmingtonworks@gmail.com
END:VEVENT
BEGIN:VEVENT
DTSTART;TZID=America/New_York:20221030T140000
DTEND;TZID=America/New_York:20221030T140000
DTSTAMP:20260424T083026
CREATED:20221014T184836Z
LAST-MODIFIED:20221014T184836Z
UID:10000446-1667138400-1667138400@www.visitvermont.com
SUMMARY:Halloween Pet Costume Parade
DESCRIPTION:
URL:https://www.visitvermont.com/event/halloween-pet-costume-parade/
ORGANIZER;CN="Wilmington Works":MAILTO:wilmingtonworks@gmail.com
END:VEVENT
BEGIN:VEVENT
DTSTART;VALUE=DATE:20211201
DTEND;VALUE=DATE:20211225
DTSTAMP:20260424T083026
CREATED:20211203T135705Z
LAST-MODIFIED:20211203T135705Z
UID:10000316-1638316800-1640390399@www.visitvermont.com
SUMMARY:Eat\, Sleep\, Shop Local
DESCRIPTION:Shop\, then shop some more: for any purchase over $25 at a participating merchant in Wilmington or Dover\, take your receipt to a redemption location and claim a $5 coupon that works like cash all around the Valley. You’ll also earn raffle tickets for each $20 you spend. With a grand prize of $500 and second prize of a local gift basket\, why not keep shopping and earning rewards?! \nFor more information\, please visit Wilmington Works.
URL:https://www.visitvermont.com/event/eat-sleep-shop-local/
ATTACH;FMTTYPE=image/png:https://www.visitvermont.com/wp-content/uploads/2021/12/Eat-Sleep-Shop-Local-Dover-and-Wilmington-VT-Dec-1-24.png
ORGANIZER;CN="Wilmington Works":MAILTO:wilmingtonworks@gmail.com
END:VEVENT
END:VCALENDAR