BEGIN:VCALENDAR
VERSION:2.0
PRODID:-//SVDV Chamber of Commerce - ECPv6.15.18//NONSGML v1.0//EN
CALSCALE:GREGORIAN
METHOD:PUBLISH
X-WR-CALNAME:SVDV Chamber of Commerce
X-ORIGINAL-URL:https://www.visitvermont.com
X-WR-CALDESC:Events for SVDV Chamber of Commerce
REFRESH-INTERVAL;VALUE=DURATION:PT1H
X-Robots-Tag:noindex
X-PUBLISHED-TTL:PT1H
BEGIN:VTIMEZONE
TZID:America/New_York
BEGIN:DAYLIGHT
TZOFFSETFROM:-0500
TZOFFSETTO:-0400
TZNAME:EDT
DTSTART:20210314T070000
END:DAYLIGHT
BEGIN:STANDARD
TZOFFSETFROM:-0400
TZOFFSETTO:-0500
TZNAME:EST
DTSTART:20211107T060000
END:STANDARD
BEGIN:DAYLIGHT
TZOFFSETFROM:-0500
TZOFFSETTO:-0400
TZNAME:EDT
DTSTART:20220313T070000
END:DAYLIGHT
BEGIN:STANDARD
TZOFFSETFROM:-0400
TZOFFSETTO:-0500
TZNAME:EST
DTSTART:20221106T060000
END:STANDARD
BEGIN:DAYLIGHT
TZOFFSETFROM:-0500
TZOFFSETTO:-0400
TZNAME:EDT
DTSTART:20230312T070000
END:DAYLIGHT
BEGIN:STANDARD
TZOFFSETFROM:-0400
TZOFFSETTO:-0500
TZNAME:EST
DTSTART:20231105T060000
END:STANDARD
BEGIN:DAYLIGHT
TZOFFSETFROM:-0500
TZOFFSETTO:-0400
TZNAME:EDT
DTSTART:20240310T070000
END:DAYLIGHT
BEGIN:STANDARD
TZOFFSETFROM:-0400
TZOFFSETTO:-0500
TZNAME:EST
DTSTART:20241103T060000
END:STANDARD
BEGIN:DAYLIGHT
TZOFFSETFROM:-0500
TZOFFSETTO:-0400
TZNAME:EDT
DTSTART:20250309T070000
END:DAYLIGHT
BEGIN:STANDARD
TZOFFSETFROM:-0400
TZOFFSETTO:-0500
TZNAME:EST
DTSTART:20251102T060000
END:STANDARD
END:VTIMEZONE
BEGIN:VEVENT
DTSTART;TZID=America/New_York:20241019T140000
DTEND;TZID=America/New_York:20241019T200000
DTSTAMP:20260420T055244
CREATED:20240814T171454Z
LAST-MODIFIED:20240814T171454Z
UID:10001225-1729346400-1729368000@www.visitvermont.com
SUMMARY:Adams Family Farm Concert Series: Antique Car and Tractor Hoe-Down\, The Season Finale!
DESCRIPTION:It’s an afternoon event you’ll won’t want to miss which will continue under the stars and around Southern Vermont’s largest Bonfire!  Featuring local antique and classic cars and Tractors.   Local Food Trucks will have plenty of fall foliage treats and meals available.  The Wilmington Inn’s Mobile Bar will be serving Beer\, Wine & Specialty Cocktails.  Take home fresh from the farm:  farm products\, art and farm merch. \nLive Music from 3 pm to 8 pm by a variety of acoustic musicians and bands.  It’s the prefect time of year for a hoe-down; so bring your dancing shoes! \nSliding scale admission; all ages & inclusion welcome.  Pack your lawn blankets; but remember to leave your pets at home. NO BYOB. 15 Higley Hill Rd.\, Wilmington\, VT @adamsfamilyfarmvt
URL:https://www.visitvermont.com/event/adams-family-farm-concert-series-antique-car-and-tractor-hoe-down-the-season-finale/
LOCATION:Adams Farm\, 15 Higley Hill Road\, Wilmington\, Vermont\, 05342
ATTACH;FMTTYPE=image/jpeg:https://www.visitvermont.com/wp-content/uploads/2024/08/Concert-Dates-and-Line-Up.jpeg
END:VEVENT
BEGIN:VEVENT
DTSTART;TZID=America/New_York:20241011T170000
DTEND;TZID=America/New_York:20241011T220000
DTSTAMP:20260420T055244
CREATED:20240814T165817Z
LAST-MODIFIED:20240814T165817Z
UID:10001224-1728666000-1728684000@www.visitvermont.com
SUMMARY:Adams Farm Concert Series: Boyd Family Band & Logan Boyd
DESCRIPTION:It’s an evening you’ll won’t want to miss; under the stars and around Southern Vermont’s largest Bonfire!  Featuring Brattleboro’s awarding winning food truck; Biker Bob’s Burgers & Dogs and local favorite RVQ Smokehouse.  The Blond N’ Boozy Mobile Bar will be serving Beer\, Wine & Specialty Cocktails.  Take home fresh from the farm:  farm products\, art and farm merch. \nThe night will open with Wilmington’s own Logan Boyd performing solo acoustic music from the 60’s to today’s top hits.  As the evening progresses The Boyd Family Band will join Logan on the stage for an authentic Vermont experience listening to this talented family play family tunes\, old-time country classic and songs from the present. \nSliding scale admission; all ages & inclusion welcome.  Pack your lawn blankets; but remember to leave your pets at home. NO BYOB. 15 Higley Hill Rd.\, Wilmington\, VT @adamsfamilyfarmvt
URL:https://www.visitvermont.com/event/adams-farm-concert-series-boyd-family-band-logan-boyd/
LOCATION:Adams Farm\, 15 Higley Hill Road\, Wilmington\, Vermont\, 05342
ATTACH;FMTTYPE=image/jpeg:https://www.visitvermont.com/wp-content/uploads/2024/08/Concert-Dates-and-Line-Up.jpeg
END:VEVENT
BEGIN:VEVENT
DTSTART;TZID=America/New_York:20240927T170000
DTEND;TZID=America/New_York:20240927T220000
DTSTAMP:20260420T055244
CREATED:20240814T165349Z
LAST-MODIFIED:20240814T165349Z
UID:10001223-1727456400-1727474400@www.visitvermont.com
SUMMARY:Adams Family Farm Concert Series: Otter Creek and the DiTriani Brothers
DESCRIPTION:It’s an evening you’ll won’t want to miss; under the stars and around Southern Vermont’s largest Bonfire!  Featuring Brattleboro’s awarding winning food truck; Biker Bob’s Burgers & Dogs.  The Blond N’ Boozy Mobile Bar will be serving Beer\, Wine & Specialty Cocktails.  Take home fresh from the farm:  farm products\, art and farm merch. \nThe night will open with Otter Creek performing with a range of instruments mixing traditional and modern forms of Bluegrass\, Old Time and Country Music.  The evening will conclude with The DiTrani Brothers by way of bent melodies and driving rhythms\, play perilous tunes for the hopeful\, with elements of Balkan music and early American jazz/swing. They deliver both wistful and raucous performances at venues ranging from The House of Blues in New Orleans to DIY backyard stages. Originally from North Bend\, Wash.\, brothers Bobby and Walker DiTrani began writing songs together while traveling across the country\, playing music on the streets. Since then\, they’ve recorded two albums and toured throughout the U.S. with drummer Eddie Gaudet. Now a quartet with acoustic bassist Benjamin Richards\, they just released their third album “Dust Harvest.” \nSliding scale admission; all ages & inclusion welcome.  Pack your lawn blankets; but remember to leave your pets at home. NO BYOB. 15 Higley Hill Rd.\, Wilmington\, VT @adamsfamilyfarmvt
URL:https://www.visitvermont.com/event/adams-family-farm-concert-series-otter-creek-and-the-ditriani-brothers/
LOCATION:Adams Farm\, 15 Higley Hill Road\, Wilmington\, Vermont\, 05342
ATTACH;FMTTYPE=image/jpeg:https://www.visitvermont.com/wp-content/uploads/2024/08/Concert-Dates-and-Line-Up.jpeg
END:VEVENT
BEGIN:VEVENT
DTSTART;TZID=America/New_York:20240913T170000
DTEND;TZID=America/New_York:20240913T220000
DTSTAMP:20260420T055244
CREATED:20240814T162811Z
LAST-MODIFIED:20240814T162811Z
UID:10001222-1726246800-1726264800@www.visitvermont.com
SUMMARY:Adams Farm Concert Series: Silas and Friends Band & Samuel Foucher Band
DESCRIPTION:It’s an evening you’ll won’t want to miss; under the stars and around Southern Vermont’s largest Bonfire!  Featuring Brattleboro’s awarding winning food truck; Biker Bob’s Burgers & Dogs and Wilmington’s Own RVQ Smokehouse.  The Wilmington Inn’s Club Car Mobile Bar will be serving Beer\, Wine & Specialty Cocktails.  Take home fresh from the farm:   farm products\, art and farm merch.  The night will open with The Samuel Foucher Band performing a mix of Irish and New England contradance tunes\, lonesome ballads and harmonic rounds.  The evening will conclude with Silas and Friends Band.  This all-star lineup features Silar Hamilton on fiddle\, Mandolin & guitar\, Mark Burds on guitar and mandolin\, Mowgli Giannitti on bass and Marc Edwards on guitar playing original music from the 2023 album “All The Ways”\, as well as new music and old covers. \nSliding scale admission; all ages & inclusion welcome.  Pack your lawn blankets; but remember to leave your pets at home. NO BYOB. 15 Higley Hill Rd.\, Wilmington\, VT @adamsfamilyfarmvt
URL:https://www.visitvermont.com/event/adams-farm-concert-series-silas-and-friends-band-samuel-foucher-band/
LOCATION:Adams Farm\, 15 Higley Hill Road\, Wilmington\, Vermont\, 05342
ATTACH;FMTTYPE=image/jpeg:https://www.visitvermont.com/wp-content/uploads/2024/08/Concert-Dates-and-Line-Up.jpeg
END:VEVENT
BEGIN:VEVENT
DTSTART;TZID=America/New_York:20240830T170000
DTEND;TZID=America/New_York:20240830T220000
DTSTAMP:20260420T055244
CREATED:20240814T161629Z
LAST-MODIFIED:20240814T161629Z
UID:10001221-1725037200-1725055200@www.visitvermont.com
SUMMARY:Adams Farm Concert Series: Green Mountain Ridge Runners & Logan Boyd
DESCRIPTION:It’s an evening you’ll won’t want to miss; under the stars and around Southern Vermont’s largest Bonfire!  Featuring Brattleboro’s awarding winning food truck; Biker Bob’s Burgers & Dogs.  The Blond N’ Boozy Mobile Bar will be serving Beer\, Wine & Specialty Cocktails.  Take home fresh from the farm:   farm products\, art and farm merch.  The night will open with Wilmington’s own Logan Boyd performing solo acoustic music from the 60’s to todays top hits.  The evening will conclude with The Green Mountain Ridge Runners offering classic blue grass and old-time favorites\, with original tunes by lead singer and guitarist Jim Knapp. Dan Fontaine adds sparkle with his banjo playing\, and Bruce Avery will provide harmonies and show off his signature washtub stand-up bass.  Additional area musicians will carry forward the fun spirit of the Ridge Runners. \nSliding scale admission; all ages & inclusion welcome.  Pack your lawn blankets; but remember to leave your pets at home. NO BYOB. 15 Higley Hill Rd.\, Wilmington\, VT @adamsfamilyfarmvt
URL:https://www.visitvermont.com/event/adams-farm-concert-series-green-mountain-ridge-runners-logan-boyd/
LOCATION:Adams Farm\, 15 Higley Hill Road\, Wilmington\, Vermont\, 05342
ATTACH;FMTTYPE=image/jpeg:https://www.visitvermont.com/wp-content/uploads/2024/08/Concert-Dates-and-Line-Up.jpeg
END:VEVENT
BEGIN:VEVENT
DTSTART;TZID=America/New_York:20240816T170000
DTEND;TZID=America/New_York:20240816T220000
DTSTAMP:20260420T055244
CREATED:20240814T161142Z
LAST-MODIFIED:20240814T161142Z
UID:10001220-1723827600-1723845600@www.visitvermont.com
SUMMARY:Adams Farm Concert Series: Midnite:30
DESCRIPTION:It’s an evening you’ll won’t want to miss; under the stars and around Southern Vermont’s largest Bonfire!  Featuring Brattleboro’s awarding winning food truck; Biker Bob’s Burgers & Dogs and Wilmington’s Own RVQ Smokehouse.  The Wilmington Inn’s Club Car Mobile Bar will be serving Beer\, Wine & Specialty Cocktails.  Take home fresh from the farm:   farm products\, art and farm merch.  The night will open with Vermont-based Old Fashioned bringing to the stage forgotten hits and B-side essentials of the late 1900’s\, from Neil Young to Raidiohead\, The Beatles to the Crash Test Dummies; crowds love the harmonies of these classic hits. The evening will conclude with Midnite:30 a popular rock band from Berkshire County who will be performing energetic renditions of classic popular songs to original material that showcases their love of music. The band consists of four members\, Austin Honig – Lead guitar and vocals\, Carter Honig – Bass guitar\, Felix Sun – Keyboards and Tom Houghtaling – Drums. \nSliding scale admission; all ages & inclusion welcome.  Pack your lawn blankets; but remember to leave your pets at home. NO BYOB. 15 Higley Hill Rd.\, Wilmington\, VT @adamsfamilyfarmvt
URL:https://www.visitvermont.com/event/adams-farm-concert-series-midnite30/
LOCATION:Adams Farm\, 15 Higley Hill Road\, Wilmington\, Vermont\, 05342
ATTACH;FMTTYPE=image/jpeg:https://www.visitvermont.com/wp-content/uploads/2024/08/Concert-Dates-and-Line-Up.jpeg
END:VEVENT
BEGIN:VEVENT
DTSTART;VALUE=DATE:20220925
DTEND;VALUE=DATE:20220926
DTSTAMP:20260420T055244
CREATED:20220920T165140Z
LAST-MODIFIED:20220920T165140Z
UID:10000444-1664064000-1664150399@www.visitvermont.com
SUMMARY:Rock Against Racism Vermont Harvest Music Fest
DESCRIPTION:Rock Against Racism Vermont is hosting its first event in the Deerfield Valley! All proceeds will benefit Guy Hawkins Cancer Relief Fund\, a local organization that supports those that are affected by cancer in the valley. The event will have several bands from Vermont and Western Mass\, local food trucks\, arts and crafts\, gifts\, merch\, games and on site tattoo artist. All ages races and genders are welcome to have a good time and fight cancer. \nAdult Tickets are $12 pre-paid or $15 at the door. Kids under 12 are $5. \nYou can purchase tickets online at www.rockagainstracismvt.com or go to Jezebels\, Ratu’s Liquors and Bartleby’s Books in Wilmington or The Void in Brattleboro.
URL:https://www.visitvermont.com/event/rock-against-racism-vermont-harvest-music-fest/
LOCATION:Adams Farm\, 15 Higley Hill Road\, Wilmington\, Vermont\, 05342
END:VEVENT
END:VCALENDAR