BEGIN:VCALENDAR
VERSION:2.0
PRODID:-//SVDV Chamber of Commerce - ECPv6.15.18//NONSGML v1.0//EN
CALSCALE:GREGORIAN
METHOD:PUBLISH
X-WR-CALNAME:SVDV Chamber of Commerce
X-ORIGINAL-URL:https://www.visitvermont.com
X-WR-CALDESC:Events for SVDV Chamber of Commerce
REFRESH-INTERVAL;VALUE=DURATION:PT1H
X-Robots-Tag:noindex
X-PUBLISHED-TTL:PT1H
BEGIN:VTIMEZONE
TZID:America/New_York
BEGIN:DAYLIGHT
TZOFFSETFROM:-0500
TZOFFSETTO:-0400
TZNAME:EDT
DTSTART:20230312T070000
END:DAYLIGHT
BEGIN:STANDARD
TZOFFSETFROM:-0400
TZOFFSETTO:-0500
TZNAME:EST
DTSTART:20231105T060000
END:STANDARD
BEGIN:DAYLIGHT
TZOFFSETFROM:-0500
TZOFFSETTO:-0400
TZNAME:EDT
DTSTART:20240310T070000
END:DAYLIGHT
BEGIN:STANDARD
TZOFFSETFROM:-0400
TZOFFSETTO:-0500
TZNAME:EST
DTSTART:20241103T060000
END:STANDARD
BEGIN:DAYLIGHT
TZOFFSETFROM:-0500
TZOFFSETTO:-0400
TZNAME:EDT
DTSTART:20250309T070000
END:DAYLIGHT
BEGIN:STANDARD
TZOFFSETFROM:-0400
TZOFFSETTO:-0500
TZNAME:EST
DTSTART:20251102T060000
END:STANDARD
BEGIN:DAYLIGHT
TZOFFSETFROM:-0500
TZOFFSETTO:-0400
TZNAME:EDT
DTSTART:20260308T070000
END:DAYLIGHT
BEGIN:STANDARD
TZOFFSETFROM:-0400
TZOFFSETTO:-0500
TZNAME:EST
DTSTART:20261101T060000
END:STANDARD
END:VTIMEZONE
BEGIN:VEVENT
DTSTART;TZID=America/New_York:20250729T120000
DTEND;TZID=America/New_York:20250729T130000
DTSTAMP:20260419T220035
CREATED:20250715T153538Z
LAST-MODIFIED:20250715T153538Z
UID:10001823-1753790400-1753794000@www.visitvermont.com
SUMMARY:Lunchtime Walking Club
DESCRIPTION:Meet at the Horace Hill parking lot for a lunchtime stroll of the Valley Trail. The path is paved and accessible to all. Hosted by the Dover Free Library.
URL:https://www.visitvermont.com/event/lunchtime-walking-club/
LOCATION:Horace Hill\, 171 Rt 100\, West Dover\, VT\, 05356\, United States
END:VEVENT
BEGIN:VEVENT
DTSTART;TZID=America/New_York:20241013T130000
DTEND;TZID=America/New_York:20241013T150000
DTSTAMP:20260419T220035
CREATED:20241009T134948Z
LAST-MODIFIED:20241009T134948Z
UID:10001236-1728824400-1728831600@www.visitvermont.com
SUMMARY:Horace Hill Ribbon Cutting
DESCRIPTION:Join the Town of Dover at the Horace Hill Recreation Area in West Dover on Sunday October 13th to celebrate the ribbon cutting for the finished property! Hiking\, biking\, and a full 18-hole disc golf course make this property special and unique. Bring your bikes and discs to explore all that Horace Hill has to offer! \nLight refreshments served.
URL:https://www.visitvermont.com/event/horace-hill-ribbon-cutting/
LOCATION:Horace Hill\, 171 Rt 100\, West Dover\, VT\, 05356\, United States
ATTACH;FMTTYPE=image/png:https://www.visitvermont.com/wp-content/uploads/2024/10/HH-Ribbon-Cutting-16x9-1.png
END:VEVENT
END:VCALENDAR