BEGIN:VCALENDAR
VERSION:2.0
PRODID:-//SVDV Chamber of Commerce - ECPv6.15.18//NONSGML v1.0//EN
CALSCALE:GREGORIAN
METHOD:PUBLISH
X-ORIGINAL-URL:https://www.visitvermont.com
X-WR-CALDESC:Events for SVDV Chamber of Commerce
REFRESH-INTERVAL;VALUE=DURATION:PT1H
X-Robots-Tag:noindex
X-PUBLISHED-TTL:PT1H
BEGIN:VTIMEZONE
TZID:America/New_York
BEGIN:DAYLIGHT
TZOFFSETFROM:-0500
TZOFFSETTO:-0400
TZNAME:EDT
DTSTART:20230312T070000
END:DAYLIGHT
BEGIN:STANDARD
TZOFFSETFROM:-0400
TZOFFSETTO:-0500
TZNAME:EST
DTSTART:20231105T060000
END:STANDARD
BEGIN:DAYLIGHT
TZOFFSETFROM:-0500
TZOFFSETTO:-0400
TZNAME:EDT
DTSTART:20240310T070000
END:DAYLIGHT
BEGIN:STANDARD
TZOFFSETFROM:-0400
TZOFFSETTO:-0500
TZNAME:EST
DTSTART:20241103T060000
END:STANDARD
BEGIN:DAYLIGHT
TZOFFSETFROM:-0500
TZOFFSETTO:-0400
TZNAME:EDT
DTSTART:20250309T070000
END:DAYLIGHT
BEGIN:STANDARD
TZOFFSETFROM:-0400
TZOFFSETTO:-0500
TZNAME:EST
DTSTART:20251102T060000
END:STANDARD
END:VTIMEZONE
BEGIN:VEVENT
DTSTART;TZID=America/New_York:20241013T140000
DTEND;TZID=America/New_York:20241013T170000
DTSTAMP:20260425T101309
CREATED:20240607T144350Z
LAST-MODIFIED:20240611T150345Z
UID:10001076-1728828000-1728838800@www.visitvermont.com
SUMMARY:Riverside Music Series at Ratu's
DESCRIPTION:
URL:https://www.visitvermont.com/event/riverside-music-series-at-ratus-2/2024-10-13/
LOCATION:Ratu’s\, 34 West Main Street\, Wilmington\, Vermont\, 05363
CATEGORIES:Food Truck,Live Music
ATTACH;FMTTYPE=image/png:https://www.visitvermont.com/wp-content/uploads/2024/06/riverside-event-series.png
END:VEVENT
BEGIN:VEVENT
DTSTART;TZID=America/New_York:20240927T140000
DTEND;TZID=America/New_York:20240927T170000
DTSTAMP:20260425T101309
CREATED:20240607T144350Z
LAST-MODIFIED:20240611T150345Z
UID:10001075-1727445600-1727456400@www.visitvermont.com
SUMMARY:Riverside Music Series at Ratu's
DESCRIPTION:
URL:https://www.visitvermont.com/event/riverside-music-series-at-ratus-2/2024-09-27/
LOCATION:Ratu’s\, 34 West Main Street\, Wilmington\, Vermont\, 05363
CATEGORIES:Food Truck,Live Music
ATTACH;FMTTYPE=image/png:https://www.visitvermont.com/wp-content/uploads/2024/06/riverside-event-series.png
END:VEVENT
BEGIN:VEVENT
DTSTART;TZID=America/New_York:20240901T140000
DTEND;TZID=America/New_York:20240901T170000
DTSTAMP:20260425T101309
CREATED:20240607T144350Z
LAST-MODIFIED:20240611T150345Z
UID:10001074-1725199200-1725210000@www.visitvermont.com
SUMMARY:Riverside Music Series at Ratu's
DESCRIPTION:
URL:https://www.visitvermont.com/event/riverside-music-series-at-ratus-2/2024-09-01/
LOCATION:Ratu’s\, 34 West Main Street\, Wilmington\, Vermont\, 05363
CATEGORIES:Food Truck,Live Music
ATTACH;FMTTYPE=image/png:https://www.visitvermont.com/wp-content/uploads/2024/06/riverside-event-series.png
END:VEVENT
BEGIN:VEVENT
DTSTART;TZID=America/New_York:20240802T140000
DTEND;TZID=America/New_York:20240802T170000
DTSTAMP:20260425T101309
CREATED:20240607T144350Z
LAST-MODIFIED:20240611T150345Z
UID:10001073-1722607200-1722618000@www.visitvermont.com
SUMMARY:Riverside Music Series at Ratu's
DESCRIPTION:
URL:https://www.visitvermont.com/event/riverside-music-series-at-ratus-2/2024-08-02/
LOCATION:Ratu’s\, 34 West Main Street\, Wilmington\, Vermont\, 05363
CATEGORIES:Food Truck,Live Music
ATTACH;FMTTYPE=image/png:https://www.visitvermont.com/wp-content/uploads/2024/06/riverside-event-series.png
END:VEVENT
BEGIN:VEVENT
DTSTART;TZID=America/New_York:20240705T130000
DTEND;TZID=America/New_York:20240705T160000
DTSTAMP:20260425T101309
CREATED:20240607T144350Z
LAST-MODIFIED:20240611T150345Z
UID:10001071-1720184400-1720195200@www.visitvermont.com
SUMMARY:Riverside Music Series at Ratu's
DESCRIPTION:
URL:https://www.visitvermont.com/event/riverside-music-series-at-ratus-2/2024-07-05/
LOCATION:Ratu’s\, 34 West Main Street\, Wilmington\, Vermont\, 05363
CATEGORIES:Food Truck,Live Music
ATTACH;FMTTYPE=image/png:https://www.visitvermont.com/wp-content/uploads/2024/06/riverside-event-series.png
END:VEVENT
END:VCALENDAR