BEGIN:VCALENDAR
VERSION:2.0
PRODID:-//SVDV Chamber of Commerce - ECPv6.15.18//NONSGML v1.0//EN
CALSCALE:GREGORIAN
METHOD:PUBLISH
X-WR-CALNAME:SVDV Chamber of Commerce
X-ORIGINAL-URL:https://www.visitvermont.com
X-WR-CALDESC:Events for SVDV Chamber of Commerce
REFRESH-INTERVAL;VALUE=DURATION:PT1H
X-Robots-Tag:noindex
X-PUBLISHED-TTL:PT1H
BEGIN:VTIMEZONE
TZID:America/New_York
BEGIN:DAYLIGHT
TZOFFSETFROM:-0500
TZOFFSETTO:-0400
TZNAME:EDT
DTSTART:20240310T070000
END:DAYLIGHT
BEGIN:STANDARD
TZOFFSETFROM:-0400
TZOFFSETTO:-0500
TZNAME:EST
DTSTART:20241103T060000
END:STANDARD
BEGIN:DAYLIGHT
TZOFFSETFROM:-0500
TZOFFSETTO:-0400
TZNAME:EDT
DTSTART:20250309T070000
END:DAYLIGHT
BEGIN:STANDARD
TZOFFSETFROM:-0400
TZOFFSETTO:-0500
TZNAME:EST
DTSTART:20251102T060000
END:STANDARD
BEGIN:DAYLIGHT
TZOFFSETFROM:-0500
TZOFFSETTO:-0400
TZNAME:EDT
DTSTART:20260308T070000
END:DAYLIGHT
BEGIN:STANDARD
TZOFFSETFROM:-0400
TZOFFSETTO:-0500
TZNAME:EST
DTSTART:20261101T060000
END:STANDARD
END:VTIMEZONE
BEGIN:VEVENT
DTSTART;TZID=America/New_York:20250624T163000
DTEND;TZID=America/New_York:20250624T183000
DTSTAMP:20260424T020934
CREATED:20250607T111003Z
LAST-MODIFIED:20250607T111003Z
UID:10001796-1750782600-1750789800@www.visitvermont.com
SUMMARY:SVDV Chamber June Member Mixer
DESCRIPTION:Join Members of the Southern Vermont Deerfield Valley Chamber of Commerce for their June Member Mixer at the Inn at Mount Snow! \nLight appetizers and cash bar available. \nRSVP Below.
URL:https://www.visitvermont.com/event/svdv-chamber-june-member-mixer/
LOCATION:The Inn at Mount Snow\, 401 Vermont Rte 100\, West Dover\, VT\, 05356\, United States
ATTACH;FMTTYPE=image/png:https://www.visitvermont.com/wp-content/uploads/2025/06/June-2025-Member-Mixer.png
ORGANIZER;CN="Southern Vermont Deerfield Valley Chamber of Commerce":MAILTO:events@visitvermont.com
END:VEVENT
END:VCALENDAR