BEGIN:VCALENDAR
VERSION:2.0
PRODID:-//SVDV Chamber of Commerce - ECPv6.15.18//NONSGML v1.0//EN
CALSCALE:GREGORIAN
METHOD:PUBLISH
X-WR-CALNAME:SVDV Chamber of Commerce
X-ORIGINAL-URL:https://www.visitvermont.com
X-WR-CALDESC:Events for SVDV Chamber of Commerce
REFRESH-INTERVAL;VALUE=DURATION:PT1H
X-Robots-Tag:noindex
X-PUBLISHED-TTL:PT1H
BEGIN:VTIMEZONE
TZID:America/New_York
BEGIN:DAYLIGHT
TZOFFSETFROM:-0500
TZOFFSETTO:-0400
TZNAME:EDT
DTSTART:20230312T070000
END:DAYLIGHT
BEGIN:STANDARD
TZOFFSETFROM:-0400
TZOFFSETTO:-0500
TZNAME:EST
DTSTART:20231105T060000
END:STANDARD
BEGIN:DAYLIGHT
TZOFFSETFROM:-0500
TZOFFSETTO:-0400
TZNAME:EDT
DTSTART:20240310T070000
END:DAYLIGHT
BEGIN:STANDARD
TZOFFSETFROM:-0400
TZOFFSETTO:-0500
TZNAME:EST
DTSTART:20241103T060000
END:STANDARD
BEGIN:DAYLIGHT
TZOFFSETFROM:-0500
TZOFFSETTO:-0400
TZNAME:EDT
DTSTART:20250309T070000
END:DAYLIGHT
BEGIN:STANDARD
TZOFFSETFROM:-0400
TZOFFSETTO:-0500
TZNAME:EST
DTSTART:20251102T060000
END:STANDARD
BEGIN:DAYLIGHT
TZOFFSETFROM:-0500
TZOFFSETTO:-0400
TZNAME:EDT
DTSTART:20260308T070000
END:DAYLIGHT
BEGIN:STANDARD
TZOFFSETFROM:-0400
TZOFFSETTO:-0500
TZNAME:EST
DTSTART:20261101T060000
END:STANDARD
END:VTIMEZONE
BEGIN:VEVENT
DTSTART;TZID=America/New_York:20251031T210000
DTEND;TZID=America/New_York:20251101T010000
DTSTAMP:20260423T050841
CREATED:20251008T192258Z
LAST-MODIFIED:20251008T192258Z
UID:10003489-1761944400-1761958800@www.visitvermont.com
SUMMARY:Wilmington Village Pub Halloween Bash
DESCRIPTION:Karaoke\, Costume Contest and Drink Specials! Wilmington Pub has it all!
URL:https://www.visitvermont.com/event/wilmington-village-pub-halloween-bash/
LOCATION:Wilmington Village Pub\, 7 South Main Street\, Wilmington\, VT\, 05363\, United States
ATTACH;FMTTYPE=image/jpeg:https://www.visitvermont.com/wp-content/uploads/2025/10/862C560F-840E-494A-87F7-3ED8A868A9FA_1_201_a.jpeg
END:VEVENT
BEGIN:VEVENT
DTSTART;TZID=America/New_York:20250425T210000
DTEND;TZID=America/New_York:20250426T010000
DTSTAMP:20260423T050841
CREATED:20250219T172646Z
LAST-MODIFIED:20250219T172646Z
UID:10001603-1745614800-1745629200@www.visitvermont.com
SUMMARY:Friday Night Karaoke @ the Wilmington Village Pub
DESCRIPTION:Come out to the Village Pub sing and have a great time. We start around 9pm and go till 1am. Hope to see you soon.
URL:https://www.visitvermont.com/event/friday-night-karaoke-the-wilmington-village-pub/2025-04-25/
LOCATION:Wilmington Village Pub\, 7 South Main Street\, Wilmington\, VT\, 05363\, United States
CATEGORIES:Live Music
ATTACH;FMTTYPE=image/jpeg:https://www.visitvermont.com/wp-content/uploads/2025/02/439338208_830680145758882_8705800524753647599_n.jpg
END:VEVENT
BEGIN:VEVENT
DTSTART;TZID=America/New_York:20250418T210000
DTEND;TZID=America/New_York:20250419T010000
DTSTAMP:20260423T050841
CREATED:20250219T172646Z
LAST-MODIFIED:20250219T172646Z
UID:10001602-1745010000-1745024400@www.visitvermont.com
SUMMARY:Friday Night Karaoke @ the Wilmington Village Pub
DESCRIPTION:Come out to the Village Pub sing and have a great time. We start around 9pm and go till 1am. Hope to see you soon.
URL:https://www.visitvermont.com/event/friday-night-karaoke-the-wilmington-village-pub/2025-04-18/
LOCATION:Wilmington Village Pub\, 7 South Main Street\, Wilmington\, VT\, 05363\, United States
CATEGORIES:Live Music
ATTACH;FMTTYPE=image/jpeg:https://www.visitvermont.com/wp-content/uploads/2025/02/439338208_830680145758882_8705800524753647599_n.jpg
END:VEVENT
BEGIN:VEVENT
DTSTART;TZID=America/New_York:20250411T210000
DTEND;TZID=America/New_York:20250412T010000
DTSTAMP:20260423T050841
CREATED:20250219T172646Z
LAST-MODIFIED:20250219T172646Z
UID:10001601-1744405200-1744419600@www.visitvermont.com
SUMMARY:Friday Night Karaoke @ the Wilmington Village Pub
DESCRIPTION:Come out to the Village Pub sing and have a great time. We start around 9pm and go till 1am. Hope to see you soon.
URL:https://www.visitvermont.com/event/friday-night-karaoke-the-wilmington-village-pub/2025-04-11/
LOCATION:Wilmington Village Pub\, 7 South Main Street\, Wilmington\, VT\, 05363\, United States
CATEGORIES:Live Music
ATTACH;FMTTYPE=image/jpeg:https://www.visitvermont.com/wp-content/uploads/2025/02/439338208_830680145758882_8705800524753647599_n.jpg
END:VEVENT
BEGIN:VEVENT
DTSTART;TZID=America/New_York:20250404T210000
DTEND;TZID=America/New_York:20250405T010000
DTSTAMP:20260423T050841
CREATED:20250219T172646Z
LAST-MODIFIED:20250219T172646Z
UID:10001600-1743800400-1743814800@www.visitvermont.com
SUMMARY:Friday Night Karaoke @ the Wilmington Village Pub
DESCRIPTION:Come out to the Village Pub sing and have a great time. We start around 9pm and go till 1am. Hope to see you soon.
URL:https://www.visitvermont.com/event/friday-night-karaoke-the-wilmington-village-pub/2025-04-04/
LOCATION:Wilmington Village Pub\, 7 South Main Street\, Wilmington\, VT\, 05363\, United States
CATEGORIES:Live Music
ATTACH;FMTTYPE=image/jpeg:https://www.visitvermont.com/wp-content/uploads/2025/02/439338208_830680145758882_8705800524753647599_n.jpg
END:VEVENT
BEGIN:VEVENT
DTSTART;TZID=America/New_York:20250328T210000
DTEND;TZID=America/New_York:20250329T010000
DTSTAMP:20260423T050841
CREATED:20250219T172646Z
LAST-MODIFIED:20250219T172646Z
UID:10001599-1743195600-1743210000@www.visitvermont.com
SUMMARY:Friday Night Karaoke @ the Wilmington Village Pub
DESCRIPTION:Come out to the Village Pub sing and have a great time. We start around 9pm and go till 1am. Hope to see you soon.
URL:https://www.visitvermont.com/event/friday-night-karaoke-the-wilmington-village-pub/2025-03-28/
LOCATION:Wilmington Village Pub\, 7 South Main Street\, Wilmington\, VT\, 05363\, United States
CATEGORIES:Live Music
ATTACH;FMTTYPE=image/jpeg:https://www.visitvermont.com/wp-content/uploads/2025/02/439338208_830680145758882_8705800524753647599_n.jpg
END:VEVENT
BEGIN:VEVENT
DTSTART;TZID=America/New_York:20250321T210000
DTEND;TZID=America/New_York:20250322T010000
DTSTAMP:20260423T050841
CREATED:20250219T172646Z
LAST-MODIFIED:20250219T172646Z
UID:10001598-1742590800-1742605200@www.visitvermont.com
SUMMARY:Friday Night Karaoke @ the Wilmington Village Pub
DESCRIPTION:Come out to the Village Pub sing and have a great time. We start around 9pm and go till 1am. Hope to see you soon.
URL:https://www.visitvermont.com/event/friday-night-karaoke-the-wilmington-village-pub/2025-03-21/
LOCATION:Wilmington Village Pub\, 7 South Main Street\, Wilmington\, VT\, 05363\, United States
CATEGORIES:Live Music
ATTACH;FMTTYPE=image/jpeg:https://www.visitvermont.com/wp-content/uploads/2025/02/439338208_830680145758882_8705800524753647599_n.jpg
END:VEVENT
BEGIN:VEVENT
DTSTART;TZID=America/New_York:20250314T210000
DTEND;TZID=America/New_York:20250315T010000
DTSTAMP:20260423T050841
CREATED:20250219T172646Z
LAST-MODIFIED:20250219T172646Z
UID:10001597-1741986000-1742000400@www.visitvermont.com
SUMMARY:Friday Night Karaoke @ the Wilmington Village Pub
DESCRIPTION:Come out to the Village Pub sing and have a great time. We start around 9pm and go till 1am. Hope to see you soon.
URL:https://www.visitvermont.com/event/friday-night-karaoke-the-wilmington-village-pub/2025-03-14/
LOCATION:Wilmington Village Pub\, 7 South Main Street\, Wilmington\, VT\, 05363\, United States
CATEGORIES:Live Music
ATTACH;FMTTYPE=image/jpeg:https://www.visitvermont.com/wp-content/uploads/2025/02/439338208_830680145758882_8705800524753647599_n.jpg
END:VEVENT
BEGIN:VEVENT
DTSTART;TZID=America/New_York:20250307T210000
DTEND;TZID=America/New_York:20250308T010000
DTSTAMP:20260423T050841
CREATED:20250219T172646Z
LAST-MODIFIED:20250219T172646Z
UID:10001596-1741381200-1741395600@www.visitvermont.com
SUMMARY:Friday Night Karaoke @ the Wilmington Village Pub
DESCRIPTION:Come out to the Village Pub sing and have a great time. We start around 9pm and go till 1am. Hope to see you soon.
URL:https://www.visitvermont.com/event/friday-night-karaoke-the-wilmington-village-pub/2025-03-07/
LOCATION:Wilmington Village Pub\, 7 South Main Street\, Wilmington\, VT\, 05363\, United States
CATEGORIES:Live Music
ATTACH;FMTTYPE=image/jpeg:https://www.visitvermont.com/wp-content/uploads/2025/02/439338208_830680145758882_8705800524753647599_n.jpg
END:VEVENT
BEGIN:VEVENT
DTSTART;TZID=America/New_York:20250228T210000
DTEND;TZID=America/New_York:20250301T010000
DTSTAMP:20260423T050841
CREATED:20250219T172646Z
LAST-MODIFIED:20250219T172646Z
UID:10001595-1740776400-1740790800@www.visitvermont.com
SUMMARY:Friday Night Karaoke @ the Wilmington Village Pub
DESCRIPTION:Come out to the Village Pub sing and have a great time. We start around 9pm and go till 1am. Hope to see you soon.
URL:https://www.visitvermont.com/event/friday-night-karaoke-the-wilmington-village-pub/2025-02-28/
LOCATION:Wilmington Village Pub\, 7 South Main Street\, Wilmington\, VT\, 05363\, United States
CATEGORIES:Live Music
ATTACH;FMTTYPE=image/jpeg:https://www.visitvermont.com/wp-content/uploads/2025/02/439338208_830680145758882_8705800524753647599_n.jpg
END:VEVENT
BEGIN:VEVENT
DTSTART;TZID=America/New_York:20250221T210000
DTEND;TZID=America/New_York:20250222T010000
DTSTAMP:20260423T050841
CREATED:20250219T172646Z
LAST-MODIFIED:20250219T172646Z
UID:10001594-1740171600-1740186000@www.visitvermont.com
SUMMARY:Friday Night Karaoke @ the Wilmington Village Pub
DESCRIPTION:Come out to the Village Pub sing and have a great time. We start around 9pm and go till 1am. Hope to see you soon.
URL:https://www.visitvermont.com/event/friday-night-karaoke-the-wilmington-village-pub/2025-02-21/
LOCATION:Wilmington Village Pub\, 7 South Main Street\, Wilmington\, VT\, 05363\, United States
CATEGORIES:Live Music
ATTACH;FMTTYPE=image/jpeg:https://www.visitvermont.com/wp-content/uploads/2025/02/439338208_830680145758882_8705800524753647599_n.jpg
END:VEVENT
BEGIN:VEVENT
DTSTART;TZID=America/New_York:20250220T200000
DTEND;TZID=America/New_York:20250220T220000
DTSTAMP:20260423T050841
CREATED:20250219T175143Z
LAST-MODIFIED:20250219T175143Z
UID:10001609-1740081600-1740088800@www.visitvermont.com
SUMMARY:Alyssa June @ Wilmington Village Pub
DESCRIPTION:Live music with Alyssa June @ Wilmington Village Pub on Thursday\, Feb 20 from 8 -10 pm
URL:https://www.visitvermont.com/event/alyssa-june-wilmington-village-pub/
LOCATION:Wilmington Village Pub\, 7 South Main Street\, Wilmington\, VT\, 05363\, United States
CATEGORIES:Live Music
END:VEVENT
BEGIN:VEVENT
DTSTART;TZID=America/New_York:20250220T200000
DTEND;TZID=America/New_York:20250220T220000
DTSTAMP:20260423T050841
CREATED:20250129T182308Z
LAST-MODIFIED:20250129T182308Z
UID:10001385-1740081600-1740088800@www.visitvermont.com
SUMMARY:Wilmington Village Pub Winter Music Series
DESCRIPTION:  \nJoin the Wilmington Village Pub for their Winter Music Series as they welcome Alex Hutchinson on 3/20
URL:https://www.visitvermont.com/event/wilmington-village-pub-winter-music-series-2/
LOCATION:Wilmington Village Pub\, 7 South Main Street\, Wilmington\, VT\, 05363\, United States
ATTACH;FMTTYPE=image/png:https://www.visitvermont.com/wp-content/uploads/2025/01/Screenshot-2025-01-29-at-1.03.45 PM.png
END:VEVENT
BEGIN:VEVENT
DTSTART;TZID=America/New_York:20250206T200000
DTEND;TZID=America/New_York:20250206T220000
DTSTAMP:20260423T050841
CREATED:20250129T181746Z
LAST-MODIFIED:20250129T181746Z
UID:10001383-1738872000-1738879200@www.visitvermont.com
SUMMARY:Winter Music Series at the Wilmington Village Pub
DESCRIPTION:Join the Wilmington Village Pub on 2/6 for live music with Jill Sachs \n 
URL:https://www.visitvermont.com/event/winter-music-series-at-the-wilmington-village-pub/
LOCATION:Wilmington Village Pub\, 7 South Main Street\, Wilmington\, VT\, 05363\, United States
CATEGORIES:Live Music
ATTACH;FMTTYPE=image/png:https://www.visitvermont.com/wp-content/uploads/2025/01/Screenshot-2025-01-29-at-1.03.45 PM.png
END:VEVENT
BEGIN:VEVENT
DTSTART;TZID=America/New_York:20250129T200000
DTEND;TZID=America/New_York:20250129T220000
DTSTAMP:20260423T050841
CREATED:20250306T182005Z
LAST-MODIFIED:20250129T183255Z
UID:10001384-1738180800-1738188000@www.visitvermont.com
SUMMARY:Wilmington Village Pub Winter Music Series
DESCRIPTION:  \nJoin the Wilmington Village Pub for a night of live music with Allegra Larson on 3/6
URL:https://www.visitvermont.com/event/wilmington-village-pub-winter-music-series/
LOCATION:Wilmington Village Pub\, 7 South Main Street\, Wilmington\, VT\, 05363\, United States
CATEGORIES:Live Music
ATTACH;FMTTYPE=image/png:https://www.visitvermont.com/wp-content/uploads/2025/01/Screenshot-2025-01-29-at-1.03.45 PM-1.png
END:VEVENT
BEGIN:VEVENT
DTSTART;TZID=America/New_York:20241231T210000
DTEND;TZID=America/New_York:20250101T010000
DTSTAMP:20260423T050841
CREATED:20241231T192058Z
LAST-MODIFIED:20241231T192058Z
UID:10001268-1735678800-1735693200@www.visitvermont.com
SUMMARY:Wilmington Village Pub - New Year's Eve Karaoke Party
DESCRIPTION:
URL:https://www.visitvermont.com/event/wilmington-village-pub-new-years-eve-karaoke-party/
LOCATION:Wilmington Village Pub\, 7 South Main Street\, Wilmington\, VT\, 05363\, United States
ATTACH;FMTTYPE=image/jpeg:https://www.visitvermont.com/wp-content/uploads/2024/12/439338208_830680145758882_8705800524753647599_n.jpg
END:VEVENT
END:VCALENDAR